BEGIN:VCALENDAR
VERSION:2.0
PRODID:-//HepTown - ECPv6.15.20//NONSGML v1.0//EN
CALSCALE:GREGORIAN
METHOD:PUBLISH
X-ORIGINAL-URL:https://www.heptown.com
X-WR-CALDESC:Events for HepTown
REFRESH-INTERVAL;VALUE=DURATION:PT1H
X-Robots-Tag:noindex
X-PUBLISHED-TTL:PT1H
BEGIN:VTIMEZONE
TZID:Europe/Stockholm
BEGIN:DAYLIGHT
TZOFFSETFROM:+0100
TZOFFSETTO:+0200
TZNAME:CEST
DTSTART:20180325T010000
END:DAYLIGHT
BEGIN:STANDARD
TZOFFSETFROM:+0200
TZOFFSETTO:+0100
TZNAME:CET
DTSTART:20181028T010000
END:STANDARD
BEGIN:DAYLIGHT
TZOFFSETFROM:+0100
TZOFFSETTO:+0200
TZNAME:CEST
DTSTART:20190331T010000
END:DAYLIGHT
BEGIN:STANDARD
TZOFFSETFROM:+0200
TZOFFSETTO:+0100
TZNAME:CET
DTSTART:20191027T010000
END:STANDARD
BEGIN:DAYLIGHT
TZOFFSETFROM:+0100
TZOFFSETTO:+0200
TZNAME:CEST
DTSTART:20200329T010000
END:DAYLIGHT
BEGIN:STANDARD
TZOFFSETFROM:+0200
TZOFFSETTO:+0100
TZNAME:CET
DTSTART:20201025T010000
END:STANDARD
BEGIN:DAYLIGHT
TZOFFSETFROM:+0100
TZOFFSETTO:+0200
TZNAME:CEST
DTSTART:20210328T010000
END:DAYLIGHT
BEGIN:STANDARD
TZOFFSETFROM:+0200
TZOFFSETTO:+0100
TZNAME:CET
DTSTART:20211031T010000
END:STANDARD
BEGIN:DAYLIGHT
TZOFFSETFROM:+0100
TZOFFSETTO:+0200
TZNAME:CEST
DTSTART:20220327T010000
END:DAYLIGHT
BEGIN:STANDARD
TZOFFSETFROM:+0200
TZOFFSETTO:+0100
TZNAME:CET
DTSTART:20221030T010000
END:STANDARD
BEGIN:DAYLIGHT
TZOFFSETFROM:+0100
TZOFFSETTO:+0200
TZNAME:CEST
DTSTART:20230326T010000
END:DAYLIGHT
BEGIN:STANDARD
TZOFFSETFROM:+0200
TZOFFSETTO:+0100
TZNAME:CET
DTSTART:20231029T010000
END:STANDARD
BEGIN:DAYLIGHT
TZOFFSETFROM:+0100
TZOFFSETTO:+0200
TZNAME:CEST
DTSTART:20240331T010000
END:DAYLIGHT
BEGIN:STANDARD
TZOFFSETFROM:+0200
TZOFFSETTO:+0100
TZNAME:CET
DTSTART:20241027T010000
END:STANDARD
BEGIN:DAYLIGHT
TZOFFSETFROM:+0100
TZOFFSETTO:+0200
TZNAME:CEST
DTSTART:20250330T010000
END:DAYLIGHT
BEGIN:STANDARD
TZOFFSETFROM:+0200
TZOFFSETTO:+0100
TZNAME:CET
DTSTART:20251026T010000
END:STANDARD
END:VTIMEZONE
BEGIN:VEVENT
DTSTART;TZID=Europe/Stockholm:20241127T200000
DTEND;TZID=Europe/Stockholm:20241127T230000
DTSTAMP:20260421T032127
CREATED:20241126T130006Z
LAST-MODIFIED:20241126T132514Z
UID:10006232-1732737600-1732748400@www.heptown.com
SUMMARY:Wednesday Night Hop MOVED TO BARNENS SCEN | Lindy Hop  | Social dance |  27.11
DESCRIPTION:Tonight moved to the beautiful dance floor at Barnens scen\nhttps://maps.app.goo.gl/YemEVYDBxJ74frxcA \nHepTown’s Lindy Hop B right before this social dance is moved to Johannesskolan https://www.heptown.com/johannesskolan/ \n\nDoors open: 20:00\nSocial dance: 20:00-22.30\nBallroom door fee: 80kr\, 60kr for Cats’ Corner members / students\nBarnens Scen\, Folkets Park\, Falsterbogatan 17\, 214 36 Malmö\nMap: https://maps.app.goo.gl/YemEVYDBxJ74frxcA\nVolunteer at the front desk: http://catscorner.se/volunteering/\n\nVolunteering?\nWe often need help at the front desk.\nFor 30 min of your time\, you’ll receive free entrance for the night.\nThere’s a list at the front desk.\nAnd you can also sign-up in advance here:\nhttps://catscorner.se/volunteering/ \nLINDY HOP\nThe main dance on Wednesdays’ is Lindy Hop\, a swing dance originating in the 30-40s in Harlem\, NY. But you are always welcome to dance whatever you like or just hang out\nhttps://www.youtube.com/results?search_query=lindy+hop\nhttps://en.wikipedia.org/wiki/Lindy_Hop \nCATS’ CORNER\nCats’ Corner is a non-profit dance organisation from Malmö. Our main focus is Lindy Hop\, but we gladly also dance Charleston\, Balboa\, Shag\, Blues\, Authentic Jazz and other Swing dances.\nhttps://www.catscorner.se/\nhttps://www.heptown.com/…/category/organizer/cats-corner/ \nLINDY HOP DANCE CLASSES?\nThis is also the home for some of HepTowns weekly courses. Take a look at these and lots of other swing dance classes at:\nhttps://www.heptown.com/classes/ \nMORISKA PAVILJONGEN\nMoriska Paviljongen är Malmös största oberoende kultur- och nöjeshus. Moriskan erbjuder Bistro\, Bar\, Kulturprogram och Nattklubb på 4 olika scener i en anrik miljö från 1901. Mer info finns på:\n<www.moriskapaviljongen.se>
URL:https://www.heptown.com/calendar/wednesday-night-hop-moved-to-barnens-scen-lindy-hop-social-dance-27-11/
LOCATION:Barnens Scen\, Falsterbogatan17\, Malmö\, 214 36\, SE
CATEGORIES:Beginner,Beginners' Weekend,Big event,HepTown,Lindy Hop,Malmö,Öresund,Social Dance
ATTACH;FMTTYPE=image/jpeg:https://www.heptown.com/wp-content/uploads/2024/11/34179_image_468159430_1178195320542610_9138502436266382532_n.jpg
GEO:55.5926872;13.0140278
X-APPLE-STRUCTURED-LOCATION;VALUE=URI;X-ADDRESS=Barnens Scen Falsterbogatan17 Malmö 214 36 SE;X-APPLE-RADIUS=500;X-TITLE=Falsterbogatan17:geo:13.0140278,55.5926872
END:VEVENT
BEGIN:VEVENT
DTSTART;TZID=Europe/Stockholm:20231108T200000
DTEND;TZID=Europe/Stockholm:20231108T220000
DTSTAMP:20260421T032127
CREATED:20231102T094543Z
LAST-MODIFIED:20231103T104225Z
UID:10006019-1699473600-1699480800@www.heptown.com
SUMMARY:Wednesday Night Hop @ Barnens scen |  Social dance | 8/11
DESCRIPTION:Welcome to Cats’ Corners swingin’ Wednesday Night Hop. Tonight we will not be at our normal venue but at the smaller scene in Folkets Park – Barnens Scen. \n\nDoors open: 20:00\nSocial dance: 20:00-22.00 \nDJ: TBA\nBallroom door fee: 80kr\, 60kr for Cats’ Corner members / students\nBarnens Scen\, Folkets Park\, Falsterbogatan 17\, 214 36 Malmö\nMap: https://maps.app.goo.gl/YemEVYDBxJ74frxcA\nVolunteer at the front desk: http://catscorner.se/volunteering/\n\nVolunteering?\nWe often need help at the front desk.\nFor 30 min of your time\, you’ll receive free entrance for the night.\nThere’s a list at the front desk.\nAnd you can also sign-up in advance here:\nhttps://catscorner.se/volunteering/ \nLINDY HOP\nThe main dance on Wednesdays’ is Lindy Hop\, a swing dance originating in the 30-40s in Harlem\, NY. But you are always welcome to dance whatever you like or just hang out\nhttps://www.youtube.com/results?search_query=lindy+hop\nhttps://en.wikipedia.org/wiki/Lindy_Hop \nCATS’ CORNER\nCats’ Corner is a non-profit dance organisation from Malmö. Our main focus is Lindy Hop\, but we gladly also dance Charleston\, Balboa\, Shag\, Blues\, Authentic Jazz and other Swing dances.\nhttps://www.catscorner.se/\nhttps://www.heptown.com/calendar/category/organizer/cats-corner/ \nLINDY HOP DANCE CLASSES?\nThis is also the home for some of HepTowns weekly courses. Take a look at:\nhttps://www.heptown.com/classes/schedule/ \nBEGINNERS LINDT HOP WEEKENDS\nhttps://www.heptown.com/classes/ \nBARNENS SCEN\nBarnens scen is a non-profit association that organizes children’s culture. Everything from theatre\, circus\, dance\, film\, music and literature to adult lectures and workshops is shown here with us.\nhttps://barnensscen.se/
URL:https://www.heptown.com/calendar/wednesday-night-hop-social-dance-8-11-note-barnens-scen/
LOCATION:Barnens Scen\, Falsterbogatan17\, Malmö\, 214 36\, SE
CATEGORIES:Big event,Cats' Corner,Lindy Hop,Malmö,Social Dance
ATTACH;FMTTYPE=image/jpeg:https://www.heptown.com/wp-content/uploads/2023/11/32254_image_396998713_908140260881452_4517693531650935835_n.jpg
GEO:55.5926872;13.0140278
X-APPLE-STRUCTURED-LOCATION;VALUE=URI;X-ADDRESS=Barnens Scen Falsterbogatan17 Malmö 214 36 SE;X-APPLE-RADIUS=500;X-TITLE=Falsterbogatan17:geo:13.0140278,55.5926872
END:VEVENT
BEGIN:VEVENT
DTSTART;TZID=Europe/Stockholm:20200527T194500
DTEND;TZID=Europe/Stockholm:20200527T230000
DTSTAMP:20260421T032127
CREATED:20200114T091404Z
LAST-MODIFIED:20200427T160613Z
UID:10005407-1590608700-1590620400@www.heptown.com
SUMMARY:Wednesday Night Hop with Coffee and Cookies 27/5
DESCRIPTION:Welcome to Cats’ Corners swingin’ Wednesday Night Hop at Barnens Scen. Unfortunately Moriskans grand ballroom is not available but instead\, the social dance will be held in at Barnens Scen together with coffee and cookies a.k.a. fika which is included in the door fee. The swingin social dance starts at 7.45 pm! \nMembers who bring homemade cookies do not have to pay the entrance fee. 🙂 \n– Social dance: 19.45-23.00\n– Ballroom door fee: 70kr\, 50kr for Cats’ Corner members \n### LINDY HOP\nThe main dance on Wednesdays’ is Lindy Hop\, a swing dance originating in the 30-40s in Harlem\, NY. But you are always welcome to dance whatever you like or just hang out\nwww.youtube.com/results?search_query=lindy+hop\nhttps://en.wikipedia.org/wiki/Lindy_Hop \n### CATS’ CORNER\nCats’ Corner is a non-profit dance organisation from Malmö. Our main focus is Lindy Hop\, but we gladly also dance Charleston\, Balboa\, Shag\, Blues\, Authentic Jazz and other Swing dances.\nwww.catscorner.se/\n(https://www.heptown.com/organizer/cats-corner/) \n### JAZZ IN THE BISTRO\nAs the dance closes for the night we “wind down” in the Bistro where there is a live jazz club every Wednesday. \nHem \n \n### SWING CLASSES?\nThis is also the new home for some of HepTowns weekly classes: Take a look at\nwww.heptown.com/classes/schedule/ \n### BEGINNERS WEEKENDS\nThere will be beginners weekends before the ordinary classes start. Registration will open in December and more information will be available before that at\nwww.heptown.com/classes/ \n### MORISKA PAVILJONGEN\nMoriska Paviljongen är Malmös största oberoende kultur- och nöjeshus. Moriskan erbjuder Bistro\, Bar\, Kulturprogram och Nattklubb på 4 olika scener i en anrik miljö från 1901. Mer info finns på:\nwww.moriskapaviljongen.se\nwww.facebook.com/moriskapaviljongen\nwww.instagram.com/moriska_paviljongen
URL:https://www.heptown.com/calendar/wednesday-night-hop-with-coffee-and-cookies-27-5/
LOCATION:Barnens Scen\, Falsterbogatan17\, Malmö\, 214 36\, SE
CATEGORIES:Cats' Corner,Lindy Hop,Öresund,Social Dance
ATTACH;FMTTYPE=image/jpeg:https://www.heptown.com/wp-content/uploads/2020/01/17199_image_82524476_10157836275734361_6776108197104058368_o.jpg
GEO:55.5926872;13.0140278
X-APPLE-STRUCTURED-LOCATION;VALUE=URI;X-ADDRESS=Barnens Scen Falsterbogatan17 Malmö 214 36 SE;X-APPLE-RADIUS=500;X-TITLE=Falsterbogatan17:geo:13.0140278,55.5926872
END:VEVENT
BEGIN:VEVENT
DTSTART;TZID=Europe/Stockholm:20200325T194500
DTEND;TZID=Europe/Stockholm:20200325T230000
DTSTAMP:20260421T032127
CREATED:20200114T091410Z
LAST-MODIFIED:20200325T160621Z
UID:10005413-1585165500-1585177200@www.heptown.com
SUMMARY:Cancelled Wednesday Night Hop
DESCRIPTION:Cancelled due to the spread of COVID-19.\nPlease stay safe out there\, and we hope to see you on a dancefloor soon again. \nWelcome to Cats’ Corners swingin’ Wednesday Night Hop at Barnens Scen. Unfortunately Moriskans grand ballroom is not available but instead\, the social dance will be held in at Barnens Scen together with coffee and cookies a.k.a. fika which is included in the door fee. The swingin social dance starts at 7.45 pm! There will also be a “loppis”/second hand pop up shop (see further down for details). \nMembers who bring homemade cookies do not have to pay the entrance fee. 🙂 \n\nSocial dance: 19.45-23.00\nBallroom door fee: 70kr\, 50kr for Cats’ Corner members\n\nDANCE/RETRO SECOND HAND POP UP SHOP:\nDo you have a fabolous dress/suit/skirt/shirt/waistcoat/shoes  that no longer fits\, but would like it to continue it’s dancing journey in a good home? This is the time for us dancers to buy and sell dance related clothing to each other! Please do not bring ordinary clothes but things suitable for a big band evening\, for example retro inspired pieces in 1930’s or 1940’s style.  In order for you to buy and sell items you need to use Swish. \n\n\nYes\, I want to sell items:\nMark all your items with price and your Swishnumber\, for example with a paper tag on a string. Do this before coming to Barnens Scen. Bring your items to the venue and follow the instructions for showcasing there. You are responsible for your own items & Cats’ corner is only facilitating the exchange. \nLINDY HOP\nThe main dance on Wednesdays’ is Lindy Hop\, a swing dance originating in the 30-40s in Harlem\, NY. But you are always welcome to dance whatever you like or just hang out\nwww.youtube.com/results?search_query=lindy+hop\nhttps://en.wikipedia.org/wiki/Lindy_Hop \nCATS’ CORNER\nCats’ Corner is a non-profit dance organisation from Malmö. Our main focus is Lindy Hop\, but we gladly also dance Charleston\, Balboa\, Shag\, Blues\, Authentic Jazz and other Swing dances.\nwww.catscorner.se/\n(https://www.heptown.com/organizer/cats-corner/) \nSWING CLASSES?\nThis is also the new home for some of HepTowns weekly classes: Take a look at\nwww.heptown.com/classes/schedule/ \nBEGINNERS WEEKENDS\nThere will be beginners weekends before the ordinary classes start. Registration will open in December and more information will be available before that at\nwww.heptown.com/classes/
URL:https://www.heptown.com/calendar/wednesday-night-hop-with-coffee-and-cookies-25-3/
LOCATION:Barnens Scen\, Falsterbogatan17\, Malmö\, 214 36\, SE
CATEGORIES:Cats' Corner,Lindy Hop,Öresund,Social Dance
ATTACH;FMTTYPE=image/jpeg:https://www.heptown.com/wp-content/uploads/2020/01/17225_image_82461919_10157836228784361_2409638302740119552_o.jpg
GEO:55.5926872;13.0140278
X-APPLE-STRUCTURED-LOCATION;VALUE=URI;X-ADDRESS=Barnens Scen Falsterbogatan17 Malmö 214 36 SE;X-APPLE-RADIUS=500;X-TITLE=Falsterbogatan17:geo:13.0140278,55.5926872
END:VEVENT
BEGIN:VEVENT
DTSTART;TZID=Europe/Stockholm:20200115T190000
DTEND;TZID=Europe/Stockholm:20200115T230000
DTSTAMP:20260421T032128
CREATED:20191218T142149Z
LAST-MODIFIED:20200115T160700Z
UID:10005383-1579114800-1579129200@www.heptown.com
SUMMARY:Wednesday Night Hop & Beginners Lindy Hop. Moved to Barnens Scen
DESCRIPTION:Due to other activities at Moriska Paviljongen. We will swing out at Barnens Scen. Super close to Moriskan.\nWelcome to Cats’ Corners Wednesday Night Hop! The evening kicks off with a beginners’ Lindy Hop class at 19.00 and the swinging social dance starts at 20.00 \n\nBeginners Lindy Hop Class: 19.00-20.00*\nSocial dance: 20.00-23.00\n(Members of Cats’ Corner has a 10% discount in the Bistro bar.)\nBallroom door fee: 70kr\, 50kr for Cats’ Corner members\n\nThese classes are included in the door fee. No preregistration or partner needed to take part. \n\n\n\nLINDY HOP\nThe main dance on Wednesdays’ is Lindy Hop\, a swing dance originating in the 30-40s in Harlem\, NY. But you are always welcome to dance whatever you like or just hang out\nwww.youtube.com/results?search_query=lindy+hop\nhttps://en.wikipedia.org/wiki/Lindy_Hop \nCATS’ CORNER\nCats’ Corner is a non-profit dance organisation from Malmö. Our main focus is Lindy Hop\, but we gladly also dance Charleston\, Balboa\, Shag\, Blues\, Authentic Jazz and other Swing dances.\nwww.catscorner.se/\n(https://www.heptown.com/calendar/category/organizer/cats-corner/) \nSWING CLASSES?\nThis is also the new home for some of HepTowns weekly classes: Take a look at\nwww.heptown.com/classes/schedule/ \nBEGINNERS WEEKENDS\nThere will be beginners weekends before the ordinary classes start.\nwww.heptown.com/classes/ \nMORISKA PAVILJONGEN\nMoriska Paviljongen är Malmös största oberoende kultur- och nöjeshus. Moriskan erbjuder Bistro\, Bar\, Kulturprogram och Nattklubb på 4 olika scener i en anrik miljö från 1901. Mer info finns på:\nwww.moriskapaviljongen.se\nwww.facebook.com/moriskapaviljongen\nwww.instagram.com/moriska_paviljongen
URL:https://www.heptown.com/calendar/wednesday-night-hop-beginners-lindy-hop-15-1/
LOCATION:Barnens Scen\, Falsterbogatan17\, Malmö\, 214 36\, SE
CATEGORIES:Beginners' Lindy Hop Class,Big event,Cats' Corner,Lindy Hop,Malmö,Öresund,Social Dance
ATTACH;FMTTYPE=image/jpeg:https://www.heptown.com/wp-content/uploads/2019/12/16533_image_82047062_10157813716759361_2632516572480012288_n.jpg
GEO:55.5926872;13.0140278
X-APPLE-STRUCTURED-LOCATION;VALUE=URI;X-ADDRESS=Barnens Scen Falsterbogatan17 Malmö 214 36 SE;X-APPLE-RADIUS=500;X-TITLE=Falsterbogatan17:geo:13.0140278,55.5926872
END:VEVENT
BEGIN:VEVENT
DTSTART;TZID=Europe/Stockholm:20191127T194500
DTEND;TZID=Europe/Stockholm:20191127T230000
DTSTAMP:20260421T032128
CREATED:20191120T142417Z
LAST-MODIFIED:20191127T160626Z
UID:10005349-1574883900-1574895600@www.heptown.com
SUMMARY:Wednesday Night Hop - Moved to Barnens Scen
DESCRIPTION:MOVED TO BARNENS SCEN!\nDue to other activities at Moriskan Cats’ Corners social dance and HepTowns B-course is moved to Barnens Scen. https://goo.gl/maps/hFYrsCo82jnbR6QJ8 \nWelcome to Cats’ Corners swingin’ Wednesday Night Hop at Barnens Scen. \n\nDips n’ Trix class: 20:00-21.00 * (Spegelsalen) Cancelled due to the move!\nSocial dance: 19.45-23.00\nBallroom door fee: 70kr\, 50kr for Cats’ Corner members*\n\nLINDY HOP\nThe main dance on Wednesdays’ is Lindy Hop\, a swing dance originating in the 30-40s in Harlem\, NY. But you are always welcome to dance whatever you like or just hang out\nwww.youtube.com/results?search_query=lindy+hop\nhttps://en.wikipedia.org/wiki/Lindy_Hop \nCATS’ CORNER\nCats’ Corner is a non-profit dance organisation from Malmö. Our main focus is Lindy Hop\, but we gladly also dance Charleston\, Balboa\, Shag\, Blues\, Authentic Jazz and other Swing dances.\nwww.catscorner.se/\n(https://www.heptown.com/organizer/cats-corner/) \nSWING CLASSES?\nThis is also the new home for some of HepTowns weekly classes: Take a look at\nwww.heptown.com/classes/schedule/ \nBEGINNERS WEEKENDS\nThere will be beginners weekends before the ordinary classes start. Registration will open in December and more information will be available before that at\nwww.heptown.com/classes/
URL:https://www.heptown.com/calendar/wednesday-night-hop-dips-n-trix-27-11/
LOCATION:Barnens Scen\, Falsterbogatan17\, Malmö\, 214 36\, SE
CATEGORIES:Cats' Corner,Lindy Hop,Öresund,Social Dance
ATTACH;FMTTYPE=image/jpeg:https://www.heptown.com/wp-content/uploads/2019/11/15972_image_73425135_10157609241399361_6597231463584759808_o.jpg
GEO:55.5926872;13.0140278
X-APPLE-STRUCTURED-LOCATION;VALUE=URI;X-ADDRESS=Barnens Scen Falsterbogatan17 Malmö 214 36 SE;X-APPLE-RADIUS=500;X-TITLE=Falsterbogatan17:geo:13.0140278,55.5926872
END:VEVENT
BEGIN:VEVENT
DTSTART;TZID=Europe/Stockholm:20191102T190000
DTEND;TZID=Europe/Stockholm:20191103T010000
DTSTAMP:20260421T032128
CREATED:20190807T104900Z
LAST-MODIFIED:20191023T111555Z
UID:10005214-1572721200-1572742800@www.heptown.com
SUMMARY:Halloween! with Fast Feet Society
DESCRIPTION:Registrations are now open! if you want to take the solo jazz classes aswell register here:\nhttps://dans.se/fastfeetsociety/shop/?event=93465&cat=NONE \nfor party only:\nhttps://dans.se/fastfeetsociety/shop/?event=93638 \nWelcome to our second annual Halloween party!  Boo\, FFS!\nWe hope you will join us for a spooky\, fun evening. Join us for a taster class\, social dancing\, and a best-dressed costume competition! \nVenue: Barnens Scen \nDoor opens: 19.00\nTaster: 19.15 – 20.00 (för nybörjare eller nyfikna)\nSocial ‘Halloween’ dancing: 20.00 – 01:00 \nPrice:\nPre-purchase: 90SEK\n(+40SEK if you are not yet a member) \nat the door:\nMembers: 110SEK\nNon-Members: 150 SEK (membership included)\n(pre-purchase registration will open later) \nMaster of ceremonies: Jenny Louise Gustavson \nLive band: Manouche Society\nDjs: Dj Jonte\, Dj Mattias Palm\, Dj Unholy Tony \nCafe: Light refreshments\, non-alcoholic drinks\, and spooky Halloween treats\nNote: this event is alcohol free! \nDress code: Dress to impress/Dare to Scare! (costume is optional but adds to the fun.) \nFast Feet Society is a place for everyone\, we do not tolerate racism\, sexism\, homophobia and other forms of bigotry. That goes for costumes as well! \n*** important info***\nDuring this event\, we will photograph and film for future events and marketing. If you attend this event you might be recorded or photographed. if that is something you are not comfortable with\, please tell us and we will respect your preferences and not photograph or record you \n\nSvenska:\nNämen dra ett lakan över mitt huvud och kalla mig för ett spöke! Lördagen den andra november har Fast Feet Society återigen ett Halloween Party! \nKlä dig som en swingande Zombie\, din favoritseriefigur eller en skrämmande gast. Det kommer nämligen även bli en “bästa utklädnad”-tävling (där ni själva röstar på er favorit) och en Mix ‘n´ Match-tävling (med pris till vinnarna!) \nÄlskar du Halloween och swingdans? Missa inte denna chans att få dansa hela natten och lära dig lite nya Halloween-moves. (Spöklika nybörjare är välkomna)! \nInformation:\nPlats: Barnens Scen \nDörrarna öppnar: 19.00\nTaster: 19.15 – 20.00 (för nybörjare eller nyfikna)\nSocial ‘Halloween’ dans: 20.00 – 01:00 \nPris:\nFörköp: 90SEK\n(+40SEK om du ännu inte är medlem) \nI dörren:\nMedlemmar: 110SEK\nEj medlemmar: 150 SEK (Medlemskap inkluderat)\n(registreringen till förköp kommer öppna senare) \nLive band: Manouche society\nDjs: TBH \nCafé: Lättare förfriskningar\, alkoholfria drycker\, och spöklik Halloweenfika.\nNotera: Detta är ett alkoholfritt evenemang och inga alkoholhaltiga drycker är tillåtna i lokalen. \nDresscode:\nDressa för att impressa/darea att Scarea\n(ja.. Hur ska jag översätta det….//Tony)\n(utklädnad är valfritt men bidrar till rolig atmosfär) \nFast Feet Society är en plats för alla. Vi tolererar inte rasism\, sexism\, homofobi eller andra typer av trångsynthet. Detta gäller även utklädnader. \n**Viktig info***\nUnder detta evenemang kommer vi både fotografera och filma för marknadsföring av kommande evenemang. Om du deltar i detta evenemang så kan du bli filmad eller fotograferad. Är detta något du inte är bekväm med så berätta det för oss och vi kommer respektera detta och inte filma eller fotografera dig. \nThis event is a part of FFS Halloween Weekend. Here are some more:\n https://www.facebook.com/events/874087732974555/\nhttps://www.facebook.com/events/413725475890430/\nhttps://www.facebook.com/events/373030260237755/\nhttps://www.facebook.com/events/700522070386814/ \n\nIn Ghost:\nBoooOOooOoOoOoOoooooOOOOOoo!
URL:https://www.heptown.com/calendar/halloween-with-fast-feet-society/
LOCATION:Barnens Scen\, Falsterbogatan17\, Malmö\, 214 36\, SE
CATEGORIES:Balboa,Collegiate Shag,Lindy Hop,Malmö,Öresund,Social Dance
ATTACH;FMTTYPE=image/jpeg:https://www.heptown.com/wp-content/uploads/2019/08/13471_image_65800848_355285925181593_3999658530276638720_o.jpg
GEO:55.5926872;13.0140278
X-APPLE-STRUCTURED-LOCATION;VALUE=URI;X-ADDRESS=Barnens Scen Falsterbogatan17 Malmö 214 36 SE;X-APPLE-RADIUS=500;X-TITLE=Falsterbogatan17:geo:13.0140278,55.5926872
END:VEVENT
END:VCALENDAR