BEGIN:VCALENDAR
VERSION:2.0
PRODID:-//HepTown - ECPv6.15.20//NONSGML v1.0//EN
CALSCALE:GREGORIAN
METHOD:PUBLISH
X-WR-CALNAME:HepTown
X-ORIGINAL-URL:https://www.heptown.com
X-WR-CALDESC:Events for HepTown
REFRESH-INTERVAL;VALUE=DURATION:PT1H
X-Robots-Tag:noindex
X-PUBLISHED-TTL:PT1H
BEGIN:VTIMEZONE
TZID:Europe/Stockholm
BEGIN:DAYLIGHT
TZOFFSETFROM:+0100
TZOFFSETTO:+0200
TZNAME:CEST
DTSTART:20180325T010000
END:DAYLIGHT
BEGIN:STANDARD
TZOFFSETFROM:+0200
TZOFFSETTO:+0100
TZNAME:CET
DTSTART:20181028T010000
END:STANDARD
BEGIN:DAYLIGHT
TZOFFSETFROM:+0100
TZOFFSETTO:+0200
TZNAME:CEST
DTSTART:20190331T010000
END:DAYLIGHT
BEGIN:STANDARD
TZOFFSETFROM:+0200
TZOFFSETTO:+0100
TZNAME:CET
DTSTART:20191027T010000
END:STANDARD
BEGIN:DAYLIGHT
TZOFFSETFROM:+0100
TZOFFSETTO:+0200
TZNAME:CEST
DTSTART:20200329T010000
END:DAYLIGHT
BEGIN:STANDARD
TZOFFSETFROM:+0200
TZOFFSETTO:+0100
TZNAME:CET
DTSTART:20201025T010000
END:STANDARD
END:VTIMEZONE
BEGIN:VEVENT
DTSTART;TZID=Europe/Stockholm:20190629T180000
DTEND;TZID=Europe/Stockholm:20190629T220000
DTSTAMP:20260420T144346
CREATED:20190609T104952Z
LAST-MODIFIED:20190629T105241Z
UID:10005106-1561831200-1561845600@www.heptown.com
SUMMARY:Swingdans på Ärtholmen med Storband!
DESCRIPTION:Välkommen till vår svängiga sommardansfest\, en god start på sommaren!\nVar med på fina Ärtholmen för en kväll med livemusik och swingdans. \n*Live (stor!) band & showgrupp med Studentorkestern Kårsdraget från Stockholm\n*Dj\n*Café\n*Socialdans hela kvällen\n*Gratis inträde! \nEvenemanget hålls utomhus i vackra Ärtholmens koloniområde och därför är entrén gratis. \nSchema:\n18 – 19 taster\n19.00 – 19.45 Orkestern Kårsdraget set 1\n19.45 – 20.15 Dj Jonte\n20.15 – 21.00 Orkestern Kårsdraget set 2\n21.00 – 22.00 Dj Jonte \nOm du vill göra kvällen ännu finare är det ett perfekt tillfället att ha på sig sina vintagekläder. Oavsett är alla välkommna! \nMer information kommer snart! \n\nWelcome to our swingin’ summer dance party to kick off the summer! Join us in Ärtholmen for an evening of live music and swing dancing. \n*Live (big!) band & show dance group with Studentorkestern Kårsdraget from Stockholm\n*DJ\n*Cafe\n*social dance all evening\n*Free entrance! \nThis event is held outside in Ärtholmen’s beautiful community (koloni) area and therefore entrance is FREE! \nSchedule:\n18-19 Taster class\n19.00 – 19.45 Orchestra Kårsdraget set 1\n19.45 – 20.15 Dj Jonte\n20.15 – 21.00 Orchestra Kårsdraget set 2\n21.00 – 22.00 Dj Jonte \nIf you want to spice up the night\, this day is a great occasion for dressing in your best retro clothing. Everyone is welcome regardless. \nMore information to come!
URL:https://www.heptown.com/calendar/swingdans-pa-artholmen-med-storband/
LOCATION:Ärtholmen\, Malmö\, SE
CATEGORIES:Balboa,Beginner,Collegiate Shag,Lindy Hop,Malmö,Öresund,Social Dance
ATTACH;FMTTYPE=image/jpeg:https://www.heptown.com/wp-content/uploads/2019/06/12345_image_62229864_342850806425105_6951491429994594304_o.jpg
GEO:55.5790534;13.0108705
END:VEVENT
END:VCALENDAR