BEGIN:VCALENDAR
VERSION:2.0
PRODID:-//HepTown - ECPv6.15.20//NONSGML v1.0//EN
CALSCALE:GREGORIAN
METHOD:PUBLISH
X-WR-CALNAME:HepTown
X-ORIGINAL-URL:https://www.heptown.com
X-WR-CALDESC:Events for HepTown
REFRESH-INTERVAL;VALUE=DURATION:PT1H
X-Robots-Tag:noindex
X-PUBLISHED-TTL:PT1H
BEGIN:VTIMEZONE
TZID:Europe/Stockholm
BEGIN:DAYLIGHT
TZOFFSETFROM:+0100
TZOFFSETTO:+0200
TZNAME:CEST
DTSTART:20190331T010000
END:DAYLIGHT
BEGIN:STANDARD
TZOFFSETFROM:+0200
TZOFFSETTO:+0100
TZNAME:CET
DTSTART:20191027T010000
END:STANDARD
BEGIN:DAYLIGHT
TZOFFSETFROM:+0100
TZOFFSETTO:+0200
TZNAME:CEST
DTSTART:20200329T010000
END:DAYLIGHT
BEGIN:STANDARD
TZOFFSETFROM:+0200
TZOFFSETTO:+0100
TZNAME:CET
DTSTART:20201025T010000
END:STANDARD
BEGIN:DAYLIGHT
TZOFFSETFROM:+0100
TZOFFSETTO:+0200
TZNAME:CEST
DTSTART:20210328T010000
END:DAYLIGHT
BEGIN:STANDARD
TZOFFSETFROM:+0200
TZOFFSETTO:+0100
TZNAME:CET
DTSTART:20211031T010000
END:STANDARD
END:VTIMEZONE
BEGIN:VEVENT
DTSTART;TZID=Europe/Stockholm:20201023T180000
DTEND;TZID=Europe/Stockholm:20201025T160000
DTSTAMP:20260420T235628
CREATED:20200728T112754Z
LAST-MODIFIED:20200923T154946Z
UID:10005503-1603476000-1603641600@www.heptown.com
SUMMARY:CANCELLED | Why Not Aarhus Lindy Exchange 2020
DESCRIPTION:Let’s celebrate Lindy Hop in Aarhus again! \nThe 3rd edition of The Why Not Aarhus Lindy Exchange will take place on October 23 – 25th\, 2020. \nCome join us for a full weekend of dancing with local and international bands\, DJs\, taster classes and social events. We guarantee a great weekend full of happy and chill people in the charming city of Aarhus. And\, of course\, a lot of lovely dancing! \nAarhus Lindy Hoppers are extremely happy to host all of you\, local and guest dancers\, in our small lindy hop scene. Let’s come together for Lindy Hop family gathering! \nWe are eager to welcome you in Aarhus\, so ask yourself: Why Not? \nSave the date now and stay tuned for registration opening. Ticket sale will start in April/May. \nhttp://aarhuslindyhoppers.dk/exchange
URL:https://www.heptown.com/calendar/why-not-aarhus-lindy-exchange-2020/
LOCATION:Aarhus\, Denmark\, Aarhus\, DK
CATEGORIES:Öresund
ATTACH;FMTTYPE=image/jpeg:https://www.heptown.com/wp-content/uploads/2020/07/20131_image_90872953_580920335967093_4112601373999104000_o.jpg
GEO:56.162939;10.203921
END:VEVENT
END:VCALENDAR