BEGIN:VCALENDAR
VERSION:2.0
PRODID:-//HepTown - ECPv6.15.20//NONSGML v1.0//EN
CALSCALE:GREGORIAN
METHOD:PUBLISH
X-ORIGINAL-URL:https://www.heptown.com
X-WR-CALDESC:Events for HepTown
REFRESH-INTERVAL;VALUE=DURATION:PT1H
X-Robots-Tag:noindex
X-PUBLISHED-TTL:PT1H
BEGIN:VTIMEZONE
TZID:Europe/Stockholm
BEGIN:DAYLIGHT
TZOFFSETFROM:+0100
TZOFFSETTO:+0200
TZNAME:CEST
DTSTART:20210328T010000
END:DAYLIGHT
BEGIN:STANDARD
TZOFFSETFROM:+0200
TZOFFSETTO:+0100
TZNAME:CET
DTSTART:20211031T010000
END:STANDARD
BEGIN:DAYLIGHT
TZOFFSETFROM:+0100
TZOFFSETTO:+0200
TZNAME:CEST
DTSTART:20220327T010000
END:DAYLIGHT
BEGIN:STANDARD
TZOFFSETFROM:+0200
TZOFFSETTO:+0100
TZNAME:CET
DTSTART:20221030T010000
END:STANDARD
BEGIN:DAYLIGHT
TZOFFSETFROM:+0100
TZOFFSETTO:+0200
TZNAME:CEST
DTSTART:20230326T010000
END:DAYLIGHT
BEGIN:STANDARD
TZOFFSETFROM:+0200
TZOFFSETTO:+0100
TZNAME:CET
DTSTART:20231029T010000
END:STANDARD
END:VTIMEZONE
BEGIN:VEVENT
DTSTART;TZID=Europe/Stockholm:20221028T183000
DTEND;TZID=Europe/Stockholm:20221028T183000
DTSTAMP:20260421T011850
CREATED:20221011T163638Z
LAST-MODIFIED:20221011T163638Z
UID:10005102-1666981800-1666981800@www.heptown.com
SUMMARY:Why Not Aarhus Lindy Exchange 2022
DESCRIPTION:Let’s celebrate Lindy Hop in Aarhus again! \nThe 3rd edition of The Why Not Aarhus Lindy Exchange will take place on October 28 – 30th\, 2022. \nCome join us for a full weekend of dancing with local and international bands\, DJs\, taster classes and social events. We guarantee a great weekend full of joy and festivities in the charming city of Aarhus. And\, of course\, a lot of lovely dancing! \nAarhus Lindy Hoppers are extremely happy to host all of you\, local and guest dancers\, in our cosy lindy hop scene. \nWe are eager to welcome you in Aarhus\, so ask yourself: Why Not? \nSave the date now and stay tuned for registration opening. The ticket sale will start 6th of June at 6pm.\nhttps://aarhuslindyhoppers.dk/history-why-not
URL:https://www.heptown.com/calendar/why-not-aarhus-lindy-exchange-2022/
LOCATION:Aarhus\, City of Smiles
CATEGORIES:Öresund
ATTACH;FMTTYPE=image/jpeg:https://www.heptown.com/wp-content/uploads/2022/10/28444_image_278102772_1037108563681599_4773248420299583472_n.jpg
END:VEVENT
END:VCALENDAR