BEGIN:VCALENDAR
VERSION:2.0
PRODID:-//HepTown - ECPv6.15.20//NONSGML v1.0//EN
CALSCALE:GREGORIAN
METHOD:PUBLISH
X-ORIGINAL-URL:https://www.heptown.com/sv/
X-WR-CALDESC:Händelser för HepTown
REFRESH-INTERVAL;VALUE=DURATION:PT1H
X-Robots-Tag:noindex
X-PUBLISHED-TTL:PT1H
BEGIN:VTIMEZONE
TZID:Europe/Stockholm
BEGIN:DAYLIGHT
TZOFFSETFROM:+0100
TZOFFSETTO:+0200
TZNAME:CEST
DTSTART:20150329T010000
END:DAYLIGHT
BEGIN:STANDARD
TZOFFSETFROM:+0200
TZOFFSETTO:+0100
TZNAME:CET
DTSTART:20151025T010000
END:STANDARD
BEGIN:DAYLIGHT
TZOFFSETFROM:+0100
TZOFFSETTO:+0200
TZNAME:CEST
DTSTART:20160327T010000
END:DAYLIGHT
BEGIN:STANDARD
TZOFFSETFROM:+0200
TZOFFSETTO:+0100
TZNAME:CET
DTSTART:20161030T010000
END:STANDARD
BEGIN:DAYLIGHT
TZOFFSETFROM:+0100
TZOFFSETTO:+0200
TZNAME:CEST
DTSTART:20170326T010000
END:DAYLIGHT
BEGIN:STANDARD
TZOFFSETFROM:+0200
TZOFFSETTO:+0100
TZNAME:CET
DTSTART:20171029T010000
END:STANDARD
BEGIN:DAYLIGHT
TZOFFSETFROM:+0100
TZOFFSETTO:+0200
TZNAME:CEST
DTSTART:20180325T010000
END:DAYLIGHT
BEGIN:STANDARD
TZOFFSETFROM:+0200
TZOFFSETTO:+0100
TZNAME:CET
DTSTART:20181028T010000
END:STANDARD
END:VTIMEZONE
BEGIN:VEVENT
DTSTART;TZID=Europe/Stockholm:20170109T190000
DTEND;TZID=Europe/Stockholm:20170109T220000
DTSTAMP:20260420T124855
CREATED:20161213T215146Z
LAST-MODIFIED:20161227T154206Z
UID:10004153-1483988400-1483999200@www.heptown.com
SUMMARY:Måndagsswing säsongspremiär + temakurs
DESCRIPTION:Äntligen dags att swinga loss på kårhuset igen! \nÖppet: 19-22\nTemakurs: 19-20\, 100kr inkl socialdansen efter\nSocialdans 20-22\nKårhuset\, Gasque salen\, John Ericssons väg 3 (Ingång genom amfiteatern\nSocial dans entré: 40kr för HepCat medlem och 50kr för icke-medlemmar \nTEMAKURS\nEn rolig temakurs inom swingdans kl 19-20. På dessa kurser har vi drop-in så du behöver inte anmäla dig i förväg. \nMÅNDAGSSWING\nEn avslappnad socialdans med fokus på swingdansen Lindy Hop \n 
URL:https://www.heptown.com/sv/calendar/monday-night-swing-season-premiere-theme-class/
LOCATION:Kårhuset\, John Ericssons väg 3\, Lund\, 22100\, Sweden
CATEGORIES:Big event,Lindy Hop,Lund,socialdans
GEO:55.7122732;13.2092732
X-APPLE-STRUCTURED-LOCATION;VALUE=URI;X-ADDRESS=Kårhuset John Ericssons väg 3 Lund 22100 Sweden;X-APPLE-RADIUS=500;X-TITLE=John Ericssons väg 3:geo:13.2092732,55.7122732
END:VEVENT
BEGIN:VEVENT
DTSTART;TZID=Europe/Stockholm:20161219T190000
DTEND;TZID=Europe/Stockholm:20161219T220000
DTSTAMP:20260420T124855
CREATED:20161209T184445Z
LAST-MODIFIED:20161209T184445Z
UID:10004108-1482174000-1482184800@www.heptown.com
SUMMARY:Monday Night Swing: Season Finale! + Tap class!
DESCRIPTION:Tonight there will be happy people swinging out at Kårhuset in Lund. Music from the good old days will be hovering over the smooth dancefloor. Where would you like to be? \nOpen: 19-22\nTap class: 19-20\, 100kr inc the social dance\nSocial dance 20-22\nKårhuset\, Gasque salen\, John Ericssons väg 3 (enter through the amphitheater)\nSocial dance entrance: 40kr for HepCat member & 50kr for non-members \nTAP CLASS\nLinaMaria Bengtsson will give you a fun tap class for beginners\, No registration\, Just drop in before 7 pm \nhttps://www.heptown.com\nOm HepTown
URL:https://www.heptown.com/sv/calendar/monday-night-swing-season-finale/
LOCATION:Kårhuset\, John Ericssons väg 3\, Lund\, 22100\, Sweden
CATEGORIES:Big event,Lund
ATTACH;FMTTYPE=image/jpeg:https://www.heptown.com/wp-content/uploads/2016/12/5011c6bf5945e009348ba8fd3a377f16.jpg
GEO:55.7122732;13.2092732
X-APPLE-STRUCTURED-LOCATION;VALUE=URI;X-ADDRESS=Kårhuset John Ericssons väg 3 Lund 22100 Sweden;X-APPLE-RADIUS=500;X-TITLE=John Ericssons väg 3:geo:13.2092732,55.7122732
END:VEVENT
BEGIN:VEVENT
DTSTART;TZID=Europe/Stockholm:20161212T190000
DTEND;TZID=Europe/Stockholm:20161212T230000
DTSTAMP:20260420T124855
CREATED:20161209T184445Z
LAST-MODIFIED:20161209T184445Z
UID:10004106-1481569200-1481583600@www.heptown.com
SUMMARY:Monday Night Swing 12/12 + tap class
DESCRIPTION:Tonight there will be happy people swinging out at Kårhuset in Lund. Music from the good old days will be hovering over the smooth dancefloor. Where would you like to be? \nOpen: 19-22\nTap class: 19-20\, 100kr inc the social dance\nSocial dance 20-22\nKårhuset\, Gasque salen\, John Ericssons väg 3 (enter through the amphitheater)\nSocial dance entrance: 40kr for HepCat member & 50kr for non-members \nTAP CLASS\nLinaMaria Bengtsson will give you a fun tap class for beginners\, No registration\, Just drop in before 7 pm \nDJ: \nhttps://www.heptown.com\nOm HepTown
URL:https://www.heptown.com/sv/calendar/monday-night-swing-1212-tap-class/
LOCATION:Kårhuset\, John Ericssons väg 3\, Lund\, 22100\, Sweden
CATEGORIES:Big event,Lund,Öresund,socialdans
ATTACH;FMTTYPE=image/jpeg:https://www.heptown.com/wp-content/uploads/2016/12/e923eb6b12be9a20383978225415e806.jpg
GEO:55.7122732;13.2092732
X-APPLE-STRUCTURED-LOCATION;VALUE=URI;X-ADDRESS=Kårhuset John Ericssons väg 3 Lund 22100 Sweden;X-APPLE-RADIUS=500;X-TITLE=John Ericssons väg 3:geo:13.2092732,55.7122732
END:VEVENT
END:VCALENDAR