BEGIN:VCALENDAR
VERSION:2.0
PRODID:-//HepTown - ECPv6.15.20//NONSGML v1.0//EN
CALSCALE:GREGORIAN
METHOD:PUBLISH
X-WR-CALNAME:HepTown
X-ORIGINAL-URL:https://www.heptown.com/sv/
X-WR-CALDESC:Händelser för HepTown
REFRESH-INTERVAL;VALUE=DURATION:PT1H
X-Robots-Tag:noindex
X-PUBLISHED-TTL:PT1H
BEGIN:VTIMEZONE
TZID:Europe/Stockholm
BEGIN:DAYLIGHT
TZOFFSETFROM:+0100
TZOFFSETTO:+0200
TZNAME:CEST
DTSTART:20190331T010000
END:DAYLIGHT
BEGIN:STANDARD
TZOFFSETFROM:+0200
TZOFFSETTO:+0100
TZNAME:CET
DTSTART:20191027T010000
END:STANDARD
BEGIN:DAYLIGHT
TZOFFSETFROM:+0100
TZOFFSETTO:+0200
TZNAME:CEST
DTSTART:20200329T010000
END:DAYLIGHT
BEGIN:STANDARD
TZOFFSETFROM:+0200
TZOFFSETTO:+0100
TZNAME:CET
DTSTART:20201025T010000
END:STANDARD
BEGIN:DAYLIGHT
TZOFFSETFROM:+0100
TZOFFSETTO:+0200
TZNAME:CEST
DTSTART:20210328T010000
END:DAYLIGHT
BEGIN:STANDARD
TZOFFSETFROM:+0200
TZOFFSETTO:+0100
TZNAME:CET
DTSTART:20211031T010000
END:STANDARD
BEGIN:DAYLIGHT
TZOFFSETFROM:+0100
TZOFFSETTO:+0200
TZNAME:CEST
DTSTART:20220327T010000
END:DAYLIGHT
BEGIN:STANDARD
TZOFFSETFROM:+0200
TZOFFSETTO:+0100
TZNAME:CET
DTSTART:20221030T010000
END:STANDARD
END:VTIMEZONE
BEGIN:VEVENT
DTSTART;TZID=Europe/Stockholm:20210818T180000
DTEND;TZID=Europe/Stockholm:20210818T210000
DTSTAMP:20260421T120050
CREATED:20210809T171856Z
LAST-MODIFIED:20210818T161646Z
UID:10005568-1629309600-1629320400@www.heptown.com
SUMMARY:Ny lokal! Get back in swing! Classes & social dance
DESCRIPTION:SOCIALDANS INSTÄLLD!\nKURSER FLYTTADE\nLokalen var igenbommad för renovering trots att den var bokningsbar….\nKurser flyttade till Sofielundsskolan / Gymnastiksal 1\nKarta: https://goo.gl/maps/SRzus8S6pQRXNZNE9 \nSocialdansen är tyvärr inställd\nSome of us have danced a bit and some of us have not danced at all during the corona break. \nWe all need to ”Get back in swing”.  For this purpose  HepTown and Cats’ Corner have joined forces and booked both gymnasiums with hardwood floors at Johannesskolan in Malmö the 18th and 25th of August. \nBRING INDOOR SHOES!\nUPSTAIRS LINDY HOP CLASSES\nUpstairs HepTown arranges separate ”get back in swing” classes for both lower and higher levels. Sign-up with a partner or by your self. We will accept a balanced amount of leads and follows and will have a limited voluntary rotation**. Make sure you book a spot.\nhttps://www.heptown.com/classes/schedule/#theme\n** https://www.heptown.com/flu/#rotation \nDOWNSTAIRS SOCIAL DANCE\n18.00-21.00 Cats’ corners swing DJs will play some very danceable music. \nThere is a limit on how many we can allow in the room at once. Therefore we ask that you book a spot beforehand.\nIt is ok to just show up for the social dance and book the slot at the door. However\, we can’t guarantee that there’s room. \nBookingforms are found on catscorner.se under courses & event. \nOr via these direct links:\nEarly slot (18.00 – 19.30): https://dans.se/catscorner/shop/?event=139061&info=1 \nLate slot (19.30-21.00):\nhttps://dans.se/catscorner/shop/?event=138855&info=1\n·· −  −·· −−− −· ·−−−−· −  −− · ·− −·  ·−  − ···· ·· −· −−·  ·· ··−·  ·· −  ·− ·· −· ·−−−−· −  −−· −−− −  − ···· ·− −  ··· ·−− ·· −· −−· −·−·−−\nCLASS LEVELS\nThis TOUGH class is open for intermediate (D) to advanced (F)\, BUT if you’re just intermediate you’re in for a really tough class \nThe EASY does it class is suitable for levels B-D. \nFIND THE VENNUE AND RIGHT DOOR\nJohannesskolan\, Nikolaigatan 7\, Malmö\nThe right door: https://goo.gl/maps/kk65R2s7prY1Njkf9 \nCOVID-19 PRECATIONS POLECY\nDancing in the age of corona? \n \nMORE CLASSES?\nAfter this you are ready resume the paused coursed starting back up again in september \nLindy Hop Course Schedule \n \nAnd the new fall semester starting in October \nLindy Hop Course Schedule \n \nOr start over with a beginners’ weekend \nLindy Hop and other Swing dance classes
URL:https://www.heptown.com/sv/calendar/get-back-in-swing-classes-social-dance/
LOCATION:Johannesskolan\, Malmö\, SE
ATTACH;FMTTYPE=image/jpeg:https://www.heptown.com/wp-content/uploads/2021/08/23118_image_232231116_4527002747317989_6157259872373559688_n.jpg
GEO:55.604981;13.003822
END:VEVENT
BEGIN:VEVENT
DTSTART;TZID=Europe/Stockholm:20201119T180000
DTEND;TZID=Europe/Stockholm:20201119T200000
DTSTAMP:20260421T120051
CREATED:20201030T161710Z
LAST-MODIFIED:20201119T215329Z
UID:10005532-1605808800-1605816000@www.heptown.com
SUMMARY:Authentic Jazz Solo Swing Dance: Tranky-Doo
DESCRIPTION:As the solo dance of the Swing family\, Authentic Jazz is a blanket term for a number of popular dances and steps from the 1920s and ‘30s – The Charleston\, tap and a big amount of Lindy Hop community related jazz routines where the most known one is the Shim Sham Shimmy…. \nThursday Night Solo Swing Dance Classes i Malmö\nDifferent theme classes lasting 1-3 Thursdays with easier/warm-up classes at 6 pm and more challenging classes at 7 \nMandatory Thursday Registrations To Limited Spots\nMore Solo Dance Classes On Mondays in Lund \nAll Swing Dance Classes
URL:https://www.heptown.com/sv/calendar/authentic-jazz-solo-swing-dance-tranky-doo-2/
LOCATION:Johannesskolan\, Malmö\, SE
ATTACH;FMTTYPE=image/jpeg:https://www.heptown.com/wp-content/uploads/2020/10/21260_image_123220684_3730000610351544_5164914770629149593_o.jpg
GEO:55.604981;13.003822
END:VEVENT
BEGIN:VEVENT
DTSTART;TZID=Europe/Stockholm:20201029T180000
DTEND;TZID=Europe/Stockholm:20201029T200000
DTSTAMP:20260421T120051
CREATED:20201015T161630Z
LAST-MODIFIED:20201029T161631Z
UID:10005530-1603994400-1604001600@www.heptown.com
SUMMARY:Authentic Jazz Solo Swing Dance: Tranky-Doo
DESCRIPTION:As the solo dance of the Swing family\, Authentic Jazz is a blanket term for a number of popular dances and steps from the 1920s and ‘30s – The Charleston\, tap and a big amount of Lindy Hop community related jazz routines where the most known one is the Shim Sham Shimmy…. \nThursday Night Solo Swing Dance Classes i Malmö\nDifferent theme classes lasting 1-3 Thursdays with easier/warm-up classes at 6 pm and more challenging classes at 7 \nMandatory Thursday Registrations To Limited Spots\nMore Solo Dance Classes On Mondays in Lund \nAll Swing Dance Classes
URL:https://www.heptown.com/sv/calendar/authentic-jazz-solo-swing-dance-tranky-doo/
LOCATION:Johannesskolan\, Malmö\, SE
ATTACH;FMTTYPE=image/jpeg:https://www.heptown.com/wp-content/uploads/2020/10/21146_image_121705734_3689182687766670_6599123304725826069_o.jpg
GEO:55.604981;13.003822
END:VEVENT
BEGIN:VEVENT
DTSTART;TZID=Europe/Stockholm:20201008T180000
DTEND;TZID=Europe/Stockholm:20201008T200000
DTSTAMP:20260421T120051
CREATED:20200923T161638Z
LAST-MODIFIED:20201008T161741Z
UID:10004915-1602180000-1602187200@www.heptown.com
SUMMARY:Authentic Jazz Solo Swing Dance: Twist & St Luis Shim Sham
DESCRIPTION:As the solo dance of the Swing family\, Authentic Jazz is a blanket term for a number of popular dances and steps from the 1920s and ‘30s – The Charleston\, tap and a big amount of Lindy Hop community related jazz routines where the most known one is the Shim Sham Shimmy…. \nThursday Night Solo Swing Dance Classes i Malmö\nDifferent theme classes lasting 1-3 Thursdays with easier/warm-up classes at 6 pm and more challenging classes at 7 \nMandatory Thursday Registrations To Limited Spots\nMore Solo Dance Classes On Mondays in Lund \nAll Swing Dance Classes\nshare and invite
URL:https://www.heptown.com/sv/calendar/authentic-jazz-solo-swing-dance-twist-st-luis-shim-sham/
LOCATION:Johannesskolan\, Malmö\, SE
ATTACH;FMTTYPE=image/jpeg:https://www.heptown.com/wp-content/uploads/2020/09/20926_image_120124682_3618838241467782_1314767027621831165_o.jpg
GEO:55.604981;13.003822
END:VEVENT
BEGIN:VEVENT
DTSTART;TZID=Europe/Stockholm:20201001T180000
DTEND;TZID=Europe/Stockholm:20201001T200000
DTSTAMP:20260421T120051
CREATED:20200923T154946Z
LAST-MODIFIED:20201001T161709Z
UID:10004913-1601575200-1601582400@www.heptown.com
SUMMARY:Authentic Jazz Solo Swing Dance: Charleston
DESCRIPTION:As the solo dance of the Swing family\, Authentic Jazz is a blanket term for a number of popular dances and steps from the 1920s and ‘30s – The Charleston\, tap and a big amount of Lindy Hop community related jazz routines where the most known one is the Shim Sham Shimmy…. \nThursday Night Solo Swing Dance Classes i Malmö\nDifferent theme classes lasting 1-3 Thursdays with easier/warm-up classes at 6 pm and more challenging classes at 7 \nMandatory Thursday Registrations To Limited Spots\nMore Solo Dance Classes On Mondays in Lund \nAll Swing Dance Classes\nshare and invite
URL:https://www.heptown.com/sv/calendar/authentic-jazz-solo-swing-dance-charleston/
LOCATION:Johannesskolan\, Malmö\, SE
ATTACH;FMTTYPE=image/jpeg:https://www.heptown.com/wp-content/uploads/2020/09/20919_image_120191516_3618829634801976_4351742842992975019_o.jpg
GEO:55.604981;13.003822
END:VEVENT
BEGIN:VEVENT
DTSTART;TZID=Europe/Stockholm:20200924T180000
DTEND;TZID=Europe/Stockholm:20200924T200000
DTSTAMP:20260421T120051
CREATED:20200830T192257Z
LAST-MODIFIED:20200924T161752Z
UID:10004902-1600970400-1600977600@www.heptown.com
SUMMARY:The Authentic Jazz Solo Swing Dance Project
DESCRIPTION:As the solo dance of the Swing family\, Authentic Jazz is a blanket term for a number of popular dances and steps from the 1920s and ‘30s – The Charleston\, tap and a big amount of Lindy Hop community related jazz routines where the most known one is the Shim Sham Shimmy…. \nThursday Night Solo Swing Dance Classes i Malmö\nDifferent theme classes lasting 1-3 Thursdays with easier/warm-up classes at 6 pm and more challenging classes at 7 \nMandatory Thursday Registrations To Limited Spots\nMore Solo Dance Classes On Mondays in Lund \nAll Swing Dance Classes\nshare and invite
URL:https://www.heptown.com/sv/calendar/the-authentic-jazz-solo-swing-dance-project/
LOCATION:Johannesskolan\, Malmö\, SE
ATTACH;FMTTYPE=image/jpeg:https://www.heptown.com/wp-content/uploads/2020/08/20587_image_118604123_3542069859144621_6237176405982045891_o.jpg
GEO:55.604981;13.003822
END:VEVENT
END:VCALENDAR