BEGIN:VCALENDAR
VERSION:2.0
PRODID:-//HepTown - ECPv6.15.20//NONSGML v1.0//EN
CALSCALE:GREGORIAN
METHOD:PUBLISH
X-WR-CALNAME:HepTown
X-ORIGINAL-URL:https://www.heptown.com/sv/
X-WR-CALDESC:Händelser för HepTown
REFRESH-INTERVAL;VALUE=DURATION:PT1H
X-Robots-Tag:noindex
X-PUBLISHED-TTL:PT1H
BEGIN:VTIMEZONE
TZID:Europe/Stockholm
BEGIN:DAYLIGHT
TZOFFSETFROM:+0100
TZOFFSETTO:+0200
TZNAME:CEST
DTSTART:20240331T010000
END:DAYLIGHT
BEGIN:STANDARD
TZOFFSETFROM:+0200
TZOFFSETTO:+0100
TZNAME:CET
DTSTART:20241027T010000
END:STANDARD
BEGIN:DAYLIGHT
TZOFFSETFROM:+0100
TZOFFSETTO:+0200
TZNAME:CEST
DTSTART:20250330T010000
END:DAYLIGHT
BEGIN:STANDARD
TZOFFSETFROM:+0200
TZOFFSETTO:+0100
TZNAME:CET
DTSTART:20251026T010000
END:STANDARD
BEGIN:DAYLIGHT
TZOFFSETFROM:+0100
TZOFFSETTO:+0200
TZNAME:CEST
DTSTART:20260329T010000
END:DAYLIGHT
BEGIN:STANDARD
TZOFFSETFROM:+0200
TZOFFSETTO:+0100
TZNAME:CET
DTSTART:20261025T010000
END:STANDARD
END:VTIMEZONE
BEGIN:VEVENT
DTSTART;TZID=Europe/Stockholm:20250918T170000
DTEND;TZID=Europe/Stockholm:20250918T180000
DTSTAMP:20260419T215501
CREATED:20250615T163334Z
LAST-MODIFIED:20250615T183156Z
UID:10006357-1758214800-1758218400@www.heptown.com
SUMMARY:Swingkids 10-14 år| Swingcirkus på Stenkrossen HÖST 2025
DESCRIPTION:Rörelseglädje till härlig musik! Vi lär ut grunderna i swingdansen Lindy Hop\, Solojazz och Charleston\, lite koreografi samt enklare akrobatiska moment\, sk. Airsteps. Anmälan krävs och vi ser gärna att man anmäler sig med en kompis! \nObligatorisk anmälan på:\nhttps://dans.se/heptown/shop/?event=253572\nhttps://www.heptown.com/sv/lindy-hop-aerials/#kids \nAnmälan till GRATIS PROVA PÅ 28/8 kl 17.00 https://dans.se/heptown/shop/?event=253571 \nNär?\nTorsdagar 18/9-4/12 kl17.00-18.00 (med uppehåll v. 41 och v. 47) Observera att insläpp sker 16.45-17.00\, övrig tid är ytterdörren låst. \nVar?\nI Cirkushallen på Stenkrossen i Lund\, Kastanjegatan 13 \nHur?\nVi kommer att dansa solo och i par\, samt prova enklare akrobatiska inslag. Glöm inte bekväma träningskläder\, inneskor/träningsskor om ni har men behövs ej (inga skor är tillåtna på den mjuka mattan under kurs)\, vattenflaska\, egna snacks vid behov\, samt ev ombyte. Vi tar hand om varandra och hjälper varandra under träning för att skapa en så trygg och säker miljö som möjligt. Föräldrar som vill vara med är välkomna att vänta i den mysiga entrén på Stenkrossen. \nKontakt till ledare:\nLinaMaria Bengtsson 0733-305890\nJerry Segerberg 0730-225812
URL:https://www.heptown.com/sv/calendar/swingkids-10-14-ar-swingcirkus-pa-stenkrossen-host-2025/
LOCATION:Sweden
CATEGORIES:Aerials,Lindy Hop,Lund
ATTACH;FMTTYPE=image/jpeg:https://www.heptown.com/wp-content/uploads/2025/06/35458_image_501106458_1308550754613751_5206484984788631823_n.jpg
END:VEVENT
BEGIN:VEVENT
DTSTART;TZID=Europe/Stockholm:20250716T173000
DTEND;TZID=Europe/Stockholm:20250716T210000
DTSTAMP:20260419T215501
CREATED:20250528T163303Z
LAST-MODIFIED:20250615T181934Z
UID:10006348-1752687000-1752699600@www.heptown.com
SUMMARY:Swing i parken |  Lindy Hop | Swingkids | gratis nybörjarkurs | Socialdans | Lund 16/7
DESCRIPTION:HepTown och Visit Lund bjuder in till swingdans i parken varje onsdag från den 18 juni till den 30 juli 2025\nVi har som vanligt prova-på i Lindy Hop\, en fartfylld och rolig swingdans följt av socialdans till swingmusik. \nDenna kväll samt 18 juni börjar vi 1h tidigare med en kurs speciellt för Swingkids 10-14 år \n\nHela kvällen är gratis!\nDet är drop-in utan föranmälan\nDu är lika välkommen med eller utan danspartner\nOavsett ålder och danserfarenhet\nVi roterar danspartner då det blir bättre kurs så.\n\nVi tar det från början varje gång så att nya nybörjare kan hänga med men kommer även att variera något för de som är med flera gånger. Dessa prova-på ersätter dock inte våra längre nybörjarkurser och helgerkurser. \nTIDER\n\nÖppet: 17:30-21:00\nKostnad: Gratis\nSwingkids 10-14 år: 17:30-18:30\nNybörjare Lindy Hop drop-in: 18:30-19:30\nSocialdans: 19:30-21:00\nEfter dans häng ”Stallet” bakom Mejeriet: 21-\nKvällens instruktörer: LinaMaria & Jerry \nSwing DJ:  t.b.a.\n\nHITTA HIT\nDansgolvet med vitt tälttak kommer att ligga i Stadsparken i Lund. Nära Söderlyckans Skateboardpark och Mejeriet. Karta: https://goo.gl/maps/f2UPVyj2Kdq1XGfY6 \nPROVA-PÅ SWINGKIDS 10-14 ÅR 17.30-18.30\nSom ett smakprov på höstens Swingkids-kurser på Stenkrossen bjuder LinaMaria & Jerry på prova-på i parken 18 juni samt 16 juli \nKursen riktar sig till de som är 10-14 år men denna kväll är vi inte jättenoga med åldern. Vuxna får dock hålla sig till näste timme!\nhttps://www.heptown.com/sv/lindy-hop-aerials/#kids \nPROVA-PÅ LINDY HOP 18.30-19.30\nAlla kvällarna inleds med en kort prova på kurs i swingdansen Lindy Hop\, a.k.a Jitterbugg\, en Afroamerikansk pardans från 30-talets Harlem\, vilken stilmässigt har mer gemensamt med dagens street-dance än annan pardans. \nKursen riktar sig till vuxna men tonåringar som vågar är mycket välkomna att delta.\nhttps://www.heptown.com/sv/kurser/ \nMER ÄN BARA DANS\nDetta är också ett bra tillfälle att ha en picknick eller grilla\, spela några spel eller bara slappa i solen. \nFYLL PÅ MED VÄTSKA!\nTa med egen vattenflaska som kan fyllas på utanför toaletterna mitt emot skateparken. https://goo.gl/maps/RfmjSwmHGfT7prkt9 \nMER LINDY HOP-KURSER\nhttps://www.heptown.com/sv/kurser/
URL:https://www.heptown.com/sv/calendar/swing-i-parken-lindy-hop-gratis-nyborjarkurs-socialdans-lund-16-7/
LOCATION:Sommarlunds dansbana\, Ringvägen 15\, Lund\, 22223
CATEGORIES:Aerials,Big event,Lindy Hop,Lindy Hop prova-på för nybörjare,Lund,Öresund,socialdans
ATTACH;FMTTYPE=image/jpeg:https://www.heptown.com/wp-content/uploads/2025/05/35359_image_495951657_1303678048434355_8507393234232045793_n.jpg
GEO:55.69624141516;13.186140840358
X-APPLE-STRUCTURED-LOCATION;VALUE=URI;X-ADDRESS=Sommarlunds dansbana Ringvägen 15 Lund 22223;X-APPLE-RADIUS=500;X-TITLE=Ringvägen 15:geo:13.186140840358,55.69624141516
END:VEVENT
END:VCALENDAR