BEGIN:VCALENDAR
VERSION:2.0
PRODID:-//HepTown - ECPv6.15.20//NONSGML v1.0//EN
CALSCALE:GREGORIAN
METHOD:PUBLISH
X-WR-CALNAME:HepTown
X-ORIGINAL-URL:https://www.heptown.com
X-WR-CALDESC:Events for HepTown
REFRESH-INTERVAL;VALUE=DURATION:PT1H
X-Robots-Tag:noindex
X-PUBLISHED-TTL:PT1H
BEGIN:VTIMEZONE
TZID:Europe/Helsinki
BEGIN:DAYLIGHT
TZOFFSETFROM:+0200
TZOFFSETTO:+0300
TZNAME:EEST
DTSTART:20170326T010000
END:DAYLIGHT
BEGIN:STANDARD
TZOFFSETFROM:+0300
TZOFFSETTO:+0200
TZNAME:EET
DTSTART:20171029T010000
END:STANDARD
BEGIN:DAYLIGHT
TZOFFSETFROM:+0200
TZOFFSETTO:+0300
TZNAME:EEST
DTSTART:20180325T010000
END:DAYLIGHT
BEGIN:STANDARD
TZOFFSETFROM:+0300
TZOFFSETTO:+0200
TZNAME:EET
DTSTART:20181028T010000
END:STANDARD
BEGIN:DAYLIGHT
TZOFFSETFROM:+0200
TZOFFSETTO:+0300
TZNAME:EEST
DTSTART:20190331T010000
END:DAYLIGHT
BEGIN:STANDARD
TZOFFSETFROM:+0300
TZOFFSETTO:+0200
TZNAME:EET
DTSTART:20191027T010000
END:STANDARD
END:VTIMEZONE
BEGIN:VTIMEZONE
TZID:Europe/Paris
BEGIN:DAYLIGHT
TZOFFSETFROM:+0100
TZOFFSETTO:+0200
TZNAME:CEST
DTSTART:20170326T010000
END:DAYLIGHT
BEGIN:STANDARD
TZOFFSETFROM:+0200
TZOFFSETTO:+0100
TZNAME:CET
DTSTART:20171029T010000
END:STANDARD
BEGIN:DAYLIGHT
TZOFFSETFROM:+0100
TZOFFSETTO:+0200
TZNAME:CEST
DTSTART:20180325T010000
END:DAYLIGHT
BEGIN:STANDARD
TZOFFSETFROM:+0200
TZOFFSETTO:+0100
TZNAME:CET
DTSTART:20181028T010000
END:STANDARD
BEGIN:DAYLIGHT
TZOFFSETFROM:+0100
TZOFFSETTO:+0200
TZNAME:CEST
DTSTART:20190331T010000
END:DAYLIGHT
BEGIN:STANDARD
TZOFFSETFROM:+0200
TZOFFSETTO:+0100
TZNAME:CET
DTSTART:20191027T010000
END:STANDARD
END:VTIMEZONE
BEGIN:VEVENT
DTSTART;TZID=Europe/Helsinki:20180404T194500
DTEND;TZID=Europe/Helsinki:20180404T230000
DTSTAMP:20260421T120151
CREATED:20180207T021947Z
LAST-MODIFIED:20180404T191857Z
UID:10004258-1522871100-1522882800@www.heptown.com
SUMMARY:Wednesday Night Hop + Blues Night 4/4
DESCRIPTION:Welcome to Cats’ Corners swingin’ Wednesday Night Hop at Moriska Paviljongen. The evening includes a beginners’ Blues class at 8 pm which continues with a Blues social dance. At the same time the swingin social dance in Morsikans grand ballroom starts at 7.45 pm! \n\nBeginners Blues Dance Class : 20:00-21.00 * (Spegelsalen) \nBlues social dance: 21:00-23:00 * (Spegelsalen)\nSocial dance: 19.45-23.00\nBistro bar is open: 17.30-01.00\n(Members of Cats’ Corner has a 10% discount in the Bistro bar.)\nKitchen closes: 22.00 (http://moriskapaviljongen.se/moriskans-bistro)\nBallroom door fee: 70kr\, 50kr for Cats’ Corner members*\n\nThese classes are included in the door fee. No preregistration or partner needed to take part. \n\n\nBLUES\nPrecis som all annan swingdans föddes bluesdansen ur afrikanska rytmer och rörelser. Bluesdansar gör man till långsam musik med mycket känsla – blues helt enkelt. Känslan är viktigast\, stegen är sekundära. Blues är en mer intim dans som hör hemma i rökiga juke joints och på sena efterfester.\nhttps://en.wikipedia.org/wiki/Blues_dance \nLINDY HOP\nThe main dance on Wednesdays’ is Lindy Hop\, a swing dance originating in the 30-40s in Harlem\, NY. But you are always welcome to dance whatever you like or just hang out\nhttp://www.youtube.com/results?search_query=lindy+hop\nhttps://en.wikipedia.org/wiki/Lindy_Hop \nCATS’ CORNER\nCats’ Corner is a non-profit dance organisation from Malmö. Our main focus is Lindy Hop\, but we gladly also dance Charleston\, Balboa\, Shag\, Blues\, Authentic Jazz and other Swing dances.\nhttp://www.catscorner.se/\n(https://www.heptown.com/organizer/cats-corner/) \nJAZZ IN THE BISTRO\nAs the dance closes for the night we “wind down” in the Bistro where there is a live jazz club every Wednesday.\nhttp://www.moriskapaviljongen.se/ \nBLUES DANCE EVENTS\n\n12/2 Monday Night Swing + Blues Dance for beginners\n14/2  Cats’ Corners Wednesday Night Hop + Blues Night 14/2\n17/3 Balboa Social & Kitchen Blues\n6-27/3 Blueskurs med Ali​\n4/4 Cats’ Corners Wednesday Night Hop + Blues Night 4/4 \n13-15/4 South City Blues\n13/6 Cats’ Corners Wednesday Night Hop + Blues Night 13/6\n\nSWING CLASSES?\nThis is also the new home for some of HepTowns weekly classes: Take a look at\nhttps://www.heptown.com/classes/schedule/ \nBEGINNERS WEEKENDS\nThere will be beginners weekends before the ordinary classes start. Registration will open in December and more information will be available before that at\nhttps://www.heptown.com/classes/ \nMORISKA PAVILJONGEN\nMoriska Paviljongen är Malmös största oberoende kultur- och nöjeshus. Moriskan erbjuder Bistro\, Bar\, Kulturprogram och Nattklubb på 4 olika scener i en anrik miljö från 1901. Mer info finns på:\nhttp://www.moriskapaviljongen.se\nhttp://www.facebook.com/moriskapaviljongen\nhttp://www.instagram.com/moriska_paviljongen
URL:https://www.heptown.com/calendar/cats-corners-wednesday-night-hop-blues-night-4-4/
LOCATION:Moriska Paviljongen\, Norra Parkgatan 2\, Malmö\, 21422\, Sweden
CATEGORIES:Beginner,Blues Dance,Lindy Hop,Malmö,Öresund,Social Dance
ATTACH;FMTTYPE=image/jpeg:https://www.heptown.com/wp-content/uploads/2018/04/8cb437660a17f777b0c3b1d34bf67199.jpg
GEO:55.5931602;13.0141662
X-APPLE-STRUCTURED-LOCATION;VALUE=URI;X-ADDRESS=Moriska Paviljongen Norra Parkgatan 2 Malmö 21422 Sweden;X-APPLE-RADIUS=500;X-TITLE=Norra Parkgatan 2:geo:13.0141662,55.5931602
END:VEVENT
BEGIN:VEVENT
DTSTART;TZID=Europe/Paris:20180314T194500
DTEND;TZID=Europe/Paris:20180314T230000
DTSTAMP:20260421T120151
CREATED:20180210T030335Z
LAST-MODIFIED:20180314T173338Z
UID:10004643-1521056700-1521068400@www.heptown.com
SUMMARY:Cats' Corners Wednesday Night Hop + Balboa Night 14/3
DESCRIPTION:Welcome to Cats’ Corners swingin’ Wednesday Night Hop at Moriska Paviljongen. The evening includes a beginners’ Balboa class with Sweden Balboa Society at 8 pm which continues with a Balboa social dance. At the same time the swingin social dance in Morsikans grand ballroom starts at 7.45 pm! \n\nBeginners Balboa Dance Class : 20:00-21.00 * (Spegelsalen) \nBalboa social dance: 21:00-23:00 * (Spegelsalen)\nSocial dance: 19.45-23.00\nBistro bar is open: 17.30-01.00\n(Members of Cats’ Corner has a 10% discount in the Bistro bar.)\nKitchen closes: 22.00 (http://moriskapaviljongen.se/moriskans-bistro)\nBallroom door fee: 70kr\, 50kr for Cats’ Corner members*\n\nThese classes are included in the door fee. No preregistration or partner needed to take part. \n\n\nBALBOA\nThe Balboa is a swing dance that originated in Southern California during the 1920s (though it may have started as early as 1915) and enjoyed huge popularity during the 1930s and 1940s. The term Balboa originally referred to a dance characterized by its close embrace and full body connection. It emphasizes rhythmic weight shifts and lead-follow partnership. Different dancers in the same region at the same time also danced “swing\,” a dance characterized by twists\, turns\, and open-position movement. Over time\, these two dances merged and became collectively known as Balboa. The original Balboa dance is now referred to as Pure Balboa\, and the original “Swing” dance is now referred to as Bal-Swing or L.A. Swing to differentiate it from other types of swing. Because of its emphasis on subtlety and partnering rather than flashy tricks\, Balboa (Pure Balboa in particular) is considered more of a “dancer’s dance” than a “spectator’s dance.”\nhttps://en.wikipedia.org/wiki/Balboa_(dance) \nLINDY HOP\nThe main dance on Wednesdays’ is Lindy Hop\, a swing dance originating in the 30-40s in Harlem\, NY. But you are always welcome to dance whatever you like or just hang out\nhttp://www.youtube.com/results?search_query=lindy+hop\nhttps://en.wikipedia.org/wiki/Lindy_Hop \nCATS’ CORNER\nCats’ Corner is a non-profit dance organisation from Malmö. Our main focus is Lindy Hop\, but we gladly also dance Charleston\, Balboa\, Shag\, Blues\, Authentic Jazz and other Swing dances.\nhttp://www.catscorner.se/\n(https://www.heptown.com/organizer/cats-corner/) \nSWEDEN BALBOA SOCIETY\nSverige Balboa Society grundades 2008 och är en ideell organisation som ägnar sig åt att främja Balboan i Sverige och dess grannländer.\nVi anordnar kurser\, workshops\, danskvällar\, lärarutbildningar och ett internationellt dansläger varje år – The Revival.\nhttp://www.swedenbalboa.se/ \nJAZZ IN THE BISTRO\nAs the dance closes for the night we “wind down” in the Bistro where there is a live jazz club every Wednesday.\nhttp://www.moriskapaviljongen.se/ \nSWING CLASSES?\nThis is also the new home for some of HepTowns weekly classes: Take a look at\nhttps://www.heptown.com/classes/schedule/ \nBEGINNERS WEEKENDS\nThere will be beginners weekends before the ordinary classes start. Registration will open in December and more information will be available before that at\nhttps://www.heptown.com/classes/ \nMORISKA PAVILJONGEN\nMoriska Paviljongen är Malmös största oberoende kultur- och nöjeshus. Moriskan erbjuder Bistro\, Bar\, Kulturprogram och Nattklubb på 4 olika scener i en anrik miljö från 1901. Mer info finns på:\nhttp://www.moriskapaviljongen.se\nhttp://www.facebook.com/moriskapaviljongen\nhttp://www.instagram.com/moriska_paviljongen
URL:https://www.heptown.com/calendar/cats-corners-wednesday-night-hop-balboa-night-14-3/
LOCATION:Moriska Paviljongen\, Norra Parkgatan 2\, Malmö\, 21422\, Sweden
CATEGORIES:Beginner,Lindy Hop,Malmö,Öresund,Social Dance
ATTACH;FMTTYPE=image/jpeg:https://www.heptown.com/wp-content/uploads/2018/02/83429a50504f46bc2d130ea76b774224.jpg
GEO:55.5931602;13.0141662
X-APPLE-STRUCTURED-LOCATION;VALUE=URI;X-ADDRESS=Moriska Paviljongen Norra Parkgatan 2 Malmö 21422 Sweden;X-APPLE-RADIUS=500;X-TITLE=Norra Parkgatan 2:geo:13.0141662,55.5931602
END:VEVENT
BEGIN:VEVENT
DTSTART;TZID=Europe/Paris:20180307T194500
DTEND;TZID=Europe/Paris:20180307T230000
DTSTAMP:20260421T120151
CREATED:20180210T030338Z
LAST-MODIFIED:20180307T173317Z
UID:10004645-1520451900-1520463600@www.heptown.com
SUMMARY:Wednesday Night Hop + Salsa figures for Lindy Hoppers 7/3
DESCRIPTION:Welcome to Cats’ Corners swingin’ Wednesday Night Hop at Moriska Paviljongen. The evening includes a taster in Salsa figures for Lindy Hoppers. At the same time the swingin social dance in Morsikans grand ballroom starts at 7.45 pm! \n\nSalsa figures for Lindy Hoppers: 20:00-21.00 * (Spegelsalen) \nSocial dance: 19.45-23.00\nBistro bar is open: 17.30-01.00\n(Members of Cats’ Corner has a 10% discount in the Bistro bar.)\nKitchen closes: 22.00 (http://moriskapaviljongen.se/moriskans-bistro)\nBallroom door fee: 70kr\, 50kr for Cats’ Corner members*\n\nThese classes are included in the door fee. No preregistration or partner needed to take part. \n\n\nLINDY HOP\nThe main dance on Wednesdays’ is Lindy Hop\, a swing dance originating in the 30-40s in Harlem\, NY. But you are always welcome to dance whatever you like or just hang out\nhttp://www.youtube.com/results?search_query=lindy+hop\nhttps://en.wikipedia.org/wiki/Lindy_Hop \nCATS’ CORNER\nCats’ Corner is a non-profit dance organisation from Malmö. Our main focus is Lindy Hop\, but we gladly also dance Charleston\, Balboa\, Shag\, Blues\, Authentic Jazz and other Swing dances.\nhttp://www.catscorner.se/\n(https://www.heptown.com/organizer/cats-corner/) \nJAZZ IN THE BISTRO\nAs the dance closes for the night we “wind down” in the Bistro where there is a live jazz club every Wednesday.\nhttp://www.moriskapaviljongen.se/ \nSWING CLASSES?\nThis is also the new home for some of HepTowns weekly classes: Take a look at\nhttps://www.heptown.com/classes/schedule/ \nBEGINNERS WEEKENDS\nThere will be beginners weekends before the ordinary classes start. Registration will open in December and more information will be available before that at\nhttps://www.heptown.com/classes/ \nMORISKA PAVILJONGEN\nMoriska Paviljongen är Malmös största oberoende kultur- och nöjeshus. Moriskan erbjuder Bistro\, Bar\, Kulturprogram och Nattklubb på 4 olika scener i en anrik miljö från 1901. Mer info finns på:\nhttp://www.moriskapaviljongen.se\nhttp://www.facebook.com/moriskapaviljongen\nhttp://www.instagram.com/moriska_paviljongen
URL:https://www.heptown.com/calendar/wednesday-night-hop-salsa-figures-for-lindy-hoppers-7-3/
LOCATION:Moriska Paviljongen\, Norra Parkgatan 2\, Malmö\, 21422\, Sweden
CATEGORIES:Malmö,Öresund
ATTACH;FMTTYPE=image/jpeg:https://www.heptown.com/wp-content/uploads/2018/02/6cf40f62403d07b74ef0849f298e090a.jpg
GEO:55.5931602;13.0141662
X-APPLE-STRUCTURED-LOCATION;VALUE=URI;X-ADDRESS=Moriska Paviljongen Norra Parkgatan 2 Malmö 21422 Sweden;X-APPLE-RADIUS=500;X-TITLE=Norra Parkgatan 2:geo:13.0141662,55.5931602
END:VEVENT
BEGIN:VEVENT
DTSTART;TZID=Europe/Paris:20180221T194500
DTEND;TZID=Europe/Paris:20180221T230000
DTSTAMP:20260421T120151
CREATED:20180210T030347Z
LAST-MODIFIED:20180221T171845Z
UID:10004649-1519242300-1519254000@www.heptown.com
SUMMARY:Cats' Corners Wednesday Night Hop + Shag Night 21/2
DESCRIPTION:Welcome to Cats’ Corners swingin’ Wednesday Night Hop at Moriska Paviljongen. The evening includes a beginners’ Shag class at 8 pm which continues with a Shag social dance. At the same time the swingin social dance in Morsikans grand ballroom starts at 7.45 pm! \n\nBeginners Shag Dance Class : 20:00-21.00 * (Spegelsalen) \nShag social dance: 21:00-23:00 * (Spegelsalen)\nSocial dance: 19.45-23.00\nBistro bar is open: 17.30-01.00\n(Members of Cats’ Corner has a 10% discount in the Bistro bar.)\nKitchen closes: 22.00 (http://moriskapaviljongen.se/moriskans-bistro)\nBallroom door fee: 70kr\, 50kr for Cats’ Corner members*\n\nThese classes are included in the door fee. No preregistration or partner needed to take part. \n\n\nSHAG\nThe Collegiate Shag (or “Shag”) is a partner dance done primarily to uptempo swing and pre-swing jazz music (185-200+ beats per minute). It belongs to the swing family of American vernacular dances that arose in the 1920s and 30s. It is believed that the dance originated within the African American community of the Carolinas in the 1920s\, later spreading across the United States during the 1930s. The shag is still danced today by swing dance enthusiasts worldwide.\nhttps://en.wikipedia.org/wiki/Collegiate_shag \nLINDY HOP\nThe main dance on Wednesdays’ is Lindy Hop\, a swing dance originating in the 30-40s in Harlem\, NY. But you are always welcome to dance whatever you like or just hang out\nhttp://www.youtube.com/results?search_query=lindy+hop\nhttps://en.wikipedia.org/wiki/Lindy_Hop \nCATS’ CORNER\nCats’ Corner is a non-profit dance organisation from Malmö. Our main focus is Lindy Hop\, but we gladly also dance Charleston\, Balboa\, Shag\, Blues\, Authentic Jazz and other Swing dances.\nhttp://www.catscorner.se/\n(https://www.heptown.com/organizer/cats-corner/) \nJAZZ IN THE BISTRO\nAs the dance closes for the night we “wind down” in the Bistro where there is a live jazz club every Wednesday.\nhttp://www.moriskapaviljongen.se/ \nSWING CLASSES?\nThis is also the new home for some of HepTowns weekly classes: Take a look at\nhttps://www.heptown.com/classes/schedule/ \nBEGINNERS WEEKENDS\nThere will be beginners weekends before the ordinary classes start. Registration will open in December and more information will be available before that at\nhttps://www.heptown.com/classes/ \nMORISKA PAVILJONGEN\nMoriska Paviljongen är Malmös största oberoende kultur- och nöjeshus. Moriskan erbjuder Bistro\, Bar\, Kulturprogram och Nattklubb på 4 olika scener i en anrik miljö från 1901. Mer info finns på:\nhttp://www.moriskapaviljongen.se\nhttp://www.facebook.com/moriskapaviljongen\nhttp://www.instagram.com/moriska_paviljongen
URL:https://www.heptown.com/calendar/cats-corners-wednesday-night-hop-shag-night-21-2/
LOCATION:Moriska Paviljongen\, Norra Parkgatan 2\, Malmö\, 21422\, Sweden
CATEGORIES:Beginner,Lindy Hop,Malmö,Öresund,Social Dance
ATTACH;FMTTYPE=image/jpeg:https://www.heptown.com/wp-content/uploads/2018/02/f6d39ea1156ddd416c44d82a0d3d75f9.jpg
GEO:55.5931602;13.0141662
X-APPLE-STRUCTURED-LOCATION;VALUE=URI;X-ADDRESS=Moriska Paviljongen Norra Parkgatan 2 Malmö 21422 Sweden;X-APPLE-RADIUS=500;X-TITLE=Norra Parkgatan 2:geo:13.0141662,55.5931602
END:VEVENT
END:VCALENDAR