BEGIN:VCALENDAR
VERSION:2.0
PRODID:-//HepTown - ECPv6.15.20//NONSGML v1.0//EN
CALSCALE:GREGORIAN
METHOD:PUBLISH
X-ORIGINAL-URL:https://www.heptown.com
X-WR-CALDESC:Events for HepTown
REFRESH-INTERVAL;VALUE=DURATION:PT1H
X-Robots-Tag:noindex
X-PUBLISHED-TTL:PT1H
BEGIN:VTIMEZONE
TZID:UTC
BEGIN:STANDARD
TZOFFSETFROM:+0000
TZOFFSETTO:+0000
TZNAME:UTC
DTSTART:20170101T000000
END:STANDARD
END:VTIMEZONE
BEGIN:VEVENT
DTSTART;TZID=UTC:20180914T170000
DTEND;TZID=UTC:20180916T210000
DTSTAMP:20260423T192859
CREATED:20180904T100313Z
LAST-MODIFIED:20180904T110407Z
UID:10004334-1536944400-1537131600@www.heptown.com
SUMMARY:CPH Fusion Festival 2018
DESCRIPTION:CPH Fusion Festival 2018  \nGet ready! The roof was blown by the impressive energy last year and we are excited to welcome you back for another weekend of pure dance joy. \nCPH Fusion Festival is an experimental dance festival that embrace improvisation\, connection and the joy of community by offering a variety of classes in blues dancing\, contact improvisation\, GAGA\, afro rhythm and other intriguing dance styles and parties with great opportunity to hang out and get to know each other. We value good music\, healthy\, delicious food and strive to have a diverse selection of passionate\, inspiring teachers\, and we are happy to welcome anyone with a desire to move and connect from an open heart. Keep an eye on the website for more details: www.cphfusion.dk   \nThis is a festival for those seeking:\n* Amazing classes\n* Fun parties\n* Great DJ’s and musicians\n* Cosy hangouts\n* Authentic relations and self-care\n* Delicious food \nFor the previous festival there were classes in blues dancing\, tango\, contact improvisation\, afro rhythm\, gaga\, soft partner acro\, ConTango\, movement mediation\, body work and improvised partner dancing – this year we will provide you with a pleasant program with plenty of opportunity play\, connect and challenge yourself\, \nWhen & where?\n14th-16th September 2018 in Copenhagen\, Denmark.  \nTickets will go on sale soon!  \nPrices:\n**Early Bird**  Full pass 800 DKK – sold out\nFull pass 950 DKK\nParty pass 250 DKK\nSingle night  150 DKK \n** Early Bird till May 1st \nHousing:\nWe don’t provide housing but are happy to put you in touch with potential hosts!  \nMuch love\,\nNuno\, Natasha and the fusion team \nhttps://www.facebook.com/events/1903706636520950/
URL:https://www.heptown.com/calendar/cph-fusion-festival-2018/
LOCATION:Happy Feet Studio\, Ørnevej 33\, Copenhagen\, 2400\, Denmark
ORGANIZER;CN="CPH Fusion":MAILTO:noreply@facebookmail.com
GEO:55.700316;12.533009
X-APPLE-STRUCTURED-LOCATION;VALUE=URI;X-ADDRESS=Happy Feet Studio Ørnevej 33 Copenhagen 2400 Denmark;X-APPLE-RADIUS=500;X-TITLE=Ørnevej 33:geo:12.533009,55.700316
END:VEVENT
END:VCALENDAR