BEGIN:VCALENDAR
VERSION:2.0
PRODID:-//HepTown - ECPv6.15.20//NONSGML v1.0//EN
CALSCALE:GREGORIAN
METHOD:PUBLISH
X-ORIGINAL-URL:https://www.heptown.com
X-WR-CALDESC:Events for HepTown
REFRESH-INTERVAL;VALUE=DURATION:PT1H
X-Robots-Tag:noindex
X-PUBLISHED-TTL:PT1H
BEGIN:VTIMEZONE
TZID:Europe/Paris
BEGIN:DAYLIGHT
TZOFFSETFROM:+0100
TZOFFSETTO:+0200
TZNAME:CEST
DTSTART:20170326T010000
END:DAYLIGHT
BEGIN:STANDARD
TZOFFSETFROM:+0200
TZOFFSETTO:+0100
TZNAME:CET
DTSTART:20171029T010000
END:STANDARD
BEGIN:DAYLIGHT
TZOFFSETFROM:+0100
TZOFFSETTO:+0200
TZNAME:CEST
DTSTART:20180325T010000
END:DAYLIGHT
BEGIN:STANDARD
TZOFFSETFROM:+0200
TZOFFSETTO:+0100
TZNAME:CET
DTSTART:20181028T010000
END:STANDARD
BEGIN:DAYLIGHT
TZOFFSETFROM:+0100
TZOFFSETTO:+0200
TZNAME:CEST
DTSTART:20190331T010000
END:DAYLIGHT
BEGIN:STANDARD
TZOFFSETFROM:+0200
TZOFFSETTO:+0100
TZNAME:CET
DTSTART:20191027T010000
END:STANDARD
END:VTIMEZONE
BEGIN:VEVENT
DTSTART;TZID=Europe/Paris:20180126T190000
DTEND;TZID=Europe/Paris:20180126T233000
DTSTAMP:20260421T014547
CREATED:20180125T014122Z
LAST-MODIFIED:20180126T014149Z
UID:10004625-1516993200-1517009400@www.heptown.com
SUMMARY:Balboa på Globen
DESCRIPTION:Balboa er en swingdans fra 1920erne\, som man danser to og to\, hvor en leder og en anden følger. Man danser til swing musik\, og fordi trinene er små\, kan man danse hurtigt og på lidt plads. Man behøver ikke meget mere end en glat trappesten. Det er sjovt men også elegant. Kom og prøv fra kl 19:30\, og dans med os bagefter fra kl 20:30..
URL:https://www.heptown.com/calendar/balboa-pa-globen/
CATEGORIES:Öresund
ATTACH;FMTTYPE=image/jpeg:https://www.heptown.com/wp-content/uploads/2018/01/066ac4a1dbdb4df5110db12b043dbfd9.jpg
END:VEVENT
END:VCALENDAR