BEGIN:VCALENDAR
VERSION:2.0
PRODID:-//HepTown - ECPv6.15.20//NONSGML v1.0//EN
CALSCALE:GREGORIAN
METHOD:PUBLISH
X-ORIGINAL-URL:https://www.heptown.com
X-WR-CALDESC:Events for HepTown
REFRESH-INTERVAL;VALUE=DURATION:PT1H
X-Robots-Tag:noindex
X-PUBLISHED-TTL:PT1H
BEGIN:VTIMEZONE
TZID:Europe/Stockholm
BEGIN:DAYLIGHT
TZOFFSETFROM:+0100
TZOFFSETTO:+0200
TZNAME:CEST
DTSTART:20230326T010000
END:DAYLIGHT
BEGIN:STANDARD
TZOFFSETFROM:+0200
TZOFFSETTO:+0100
TZNAME:CET
DTSTART:20231029T010000
END:STANDARD
BEGIN:DAYLIGHT
TZOFFSETFROM:+0100
TZOFFSETTO:+0200
TZNAME:CEST
DTSTART:20240331T010000
END:DAYLIGHT
BEGIN:STANDARD
TZOFFSETFROM:+0200
TZOFFSETTO:+0100
TZNAME:CET
DTSTART:20241027T010000
END:STANDARD
BEGIN:DAYLIGHT
TZOFFSETFROM:+0100
TZOFFSETTO:+0200
TZNAME:CEST
DTSTART:20250330T010000
END:DAYLIGHT
BEGIN:STANDARD
TZOFFSETFROM:+0200
TZOFFSETTO:+0100
TZNAME:CET
DTSTART:20251026T010000
END:STANDARD
END:VTIMEZONE
BEGIN:VEVENT
DTSTART;TZID=Europe/Stockholm:20241115T120000
DTEND;TZID=Europe/Stockholm:20241122T115900
DTSTAMP:20260421T151917
CREATED:20241115T103852Z
LAST-MODIFIED:20241115T104349Z
UID:10006228-1731672000-1732276740@www.heptown.com
SUMMARY:Lindy Hop Course Registration Spring 2025
DESCRIPTION:At noon TODAY the 15th of November we open the registration for Spring Lindy Hop courses \n\nA-levels some are already open for registration\, more will open a.s.a.p.\nNovember 15th at noon we open the registration for B & C\nDecember 6th at noon we open registration for D & E\n\nDon’t panic! Everyone that signs-up during LOTTERY period of 7 days will have the same chance to get a spot on a course as we will raffle the queue. \nWe are still fiddling with lots of the details and information but you can already get a good idea in the… \nSPRING SWING COURSE SCHEDULE\nLindy Hop::\nhttps://www.heptown.com/classes/schedule/ \nSolo Jazz and Street Dance:\nhttps://www.heptown.com/jazz/ \nNew to Lindy Hop? Start here:\nhttps://www.heptown.com/classes/ \nEVENTS\nA quick guide end of season and some events that are not online yet…\nhttps://bit.ly/swingcalendar\nIncluding some that are not yet in the… \nFull events calendar at\nhttps://www.heptown.com/calendar/ \nSwing-out!\nYour swing manager\nHåkan
URL:https://www.heptown.com/calendar/lindy-hop-course-registration-spring-2025/
LOCATION:Online Event
CATEGORIES:Big event,HepTown,Lindy Hop,Lund,Malmö,Öresund
ATTACH;FMTTYPE=image/jpeg:https://www.heptown.com/wp-content/uploads/2024/11/34134_image_466424430_1132012562267572_1410596907391855666_n.jpg
END:VEVENT
END:VCALENDAR