BEGIN:VCALENDAR
VERSION:2.0
PRODID:-//HepTown - ECPv6.15.20//NONSGML v1.0//EN
CALSCALE:GREGORIAN
METHOD:PUBLISH
X-WR-CALNAME:HepTown
X-ORIGINAL-URL:https://www.heptown.com
X-WR-CALDESC:Events for HepTown
REFRESH-INTERVAL;VALUE=DURATION:PT1H
X-Robots-Tag:noindex
X-PUBLISHED-TTL:PT1H
BEGIN:VTIMEZONE
TZID:Europe/Stockholm
BEGIN:DAYLIGHT
TZOFFSETFROM:+0100
TZOFFSETTO:+0200
TZNAME:CEST
DTSTART:20220327T010000
END:DAYLIGHT
BEGIN:STANDARD
TZOFFSETFROM:+0200
TZOFFSETTO:+0100
TZNAME:CET
DTSTART:20221030T010000
END:STANDARD
BEGIN:DAYLIGHT
TZOFFSETFROM:+0100
TZOFFSETTO:+0200
TZNAME:CEST
DTSTART:20230326T010000
END:DAYLIGHT
BEGIN:STANDARD
TZOFFSETFROM:+0200
TZOFFSETTO:+0100
TZNAME:CET
DTSTART:20231029T010000
END:STANDARD
BEGIN:DAYLIGHT
TZOFFSETFROM:+0100
TZOFFSETTO:+0200
TZNAME:CEST
DTSTART:20240331T010000
END:DAYLIGHT
BEGIN:STANDARD
TZOFFSETFROM:+0200
TZOFFSETTO:+0100
TZNAME:CET
DTSTART:20241027T010000
END:STANDARD
END:VTIMEZONE
BEGIN:VEVENT
DTSTART;TZID=Europe/Stockholm:20231011T200000
DTEND;TZID=Europe/Stockholm:20231011T223000
DTSTAMP:20260421T155549
CREATED:20230929T161229Z
LAST-MODIFIED:20230930T102608Z
UID:10006006-1697054400-1697063400@www.heptown.com
SUMMARY:Wednesday Night Hop - LIVE MUSIC | Tuxen Lockjaw | Social dance | Live band | 11/10
DESCRIPTION:Welcome to Cats’ Corners swingin’ Wednesday Night Hop in the grand ballrooms at Moriska Paviljongen.\nTonight we welcome Tuxen Lockjaw to play live for us during the evening!\nhttps://www.instagram.com/tuxenlockjaw/\n– Doors open: 20:00\n– Social dance: 20:00-22.30 (Stora Salen)\n– First set: 20:30 (approx.)\n– Second set: 21:45 (approx.)\n– DJ before and in between sets: TBA\n– Ballroom door fee: 130kr\, 100kr for Cats’ Corner members and students\n– Moriska Paviljongen\, Norra Parkgatan 2\, Malmö\n– Map: https://goo.gl/maps/kBpFWfswzEjyKyvb9\n– Volunteer at the front desk: http://catscorner.se/volunteering/ \nVolunteering?\nWe often need help at the front desk.\nFor 30 min of your time\, you’ll receive free entrance for the night.\nThere’s a list at the front desk.\nAnd you can also sign-up in advance here:\nhttps://catscorner.se/volunteering/ \nLINDY HOP\nThe main dance on Wednesdays’ is Lindy Hop\, a swing dance originating in the 30-40s in Harlem\, NY. But you are always welcome to dance whatever you like or just hang out\nhttps://www.youtube.com/results?search_query=lindy+hop\nhttps://en.wikipedia.org/wiki/Lindy_Hop \nCATS’ CORNER\nCats’ Corner is a non-profit dance organisation from Malmö. Our main focus is Lindy Hop\, but we gladly also dance Charleston\, Balboa\, Shag\, Blues\, Authentic Jazz and other Swing dances.\nhttps://www.catscorner.se/\nhttps://www.heptown.com/…/category/organizer/cats-corner/ \nLINDY HOP DANCE CLASSES?\nThis is also the home for some of HepTowns weekly courses. Take a look at:\nhttps://www.heptown.com/classes/schedule/ \nBEGINNERS LINDT HOP WEEKENDS\nhttps://www.heptown.com/classes/ \nMORISKA PAVILJONGEN\nMoriska Paviljongen är Malmös största oberoende kultur- och nöjeshus. Moriskan erbjuder Bistro\, Bar\, Kulturprogram och Nattklubb på 4 olika scener i en anrik miljö från 1901. Mer info finns på:\nwww.moriskapaviljongen.se\nwww.facebook.com/moriskapaviljongen\nwww.instagram.com/moriska_paviljongen
URL:https://www.heptown.com/calendar/wednesday-night-hop-live-music-tuxen-lockjaw-social-dance-live-band-11-10/
LOCATION:Moriska Paviljongen\, Norra Parkgatan 2\, Malmö\, 21422\, Sweden
CATEGORIES:Big event,Cats' Corner,Lindy Hop,Malmö,Öresund,Social Dance
ATTACH;FMTTYPE=image/jpeg:https://www.heptown.com/wp-content/uploads/2023/09/32154_image_382974829_883408413354637_1537467395936472532_n.jpg
GEO:55.593854848252;13.013540268126
X-APPLE-STRUCTURED-LOCATION;VALUE=URI;X-ADDRESS=Moriska Paviljongen Norra Parkgatan 2 Malmö 21422 Sweden;X-APPLE-RADIUS=500;X-TITLE=Norra Parkgatan 2:geo:13.013540268126,55.593854848252
END:VEVENT
END:VCALENDAR