BEGIN:VCALENDAR
VERSION:2.0
PRODID:-//HepTown - ECPv6.15.20//NONSGML v1.0//EN
CALSCALE:GREGORIAN
METHOD:PUBLISH
X-ORIGINAL-URL:https://www.heptown.com
X-WR-CALDESC:Events for HepTown
REFRESH-INTERVAL;VALUE=DURATION:PT1H
X-Robots-Tag:noindex
X-PUBLISHED-TTL:PT1H
BEGIN:VTIMEZONE
TZID:Europe/Stockholm
BEGIN:DAYLIGHT
TZOFFSETFROM:+0100
TZOFFSETTO:+0200
TZNAME:CEST
DTSTART:20240331T010000
END:DAYLIGHT
BEGIN:STANDARD
TZOFFSETFROM:+0200
TZOFFSETTO:+0100
TZNAME:CET
DTSTART:20241027T010000
END:STANDARD
BEGIN:DAYLIGHT
TZOFFSETFROM:+0100
TZOFFSETTO:+0200
TZNAME:CEST
DTSTART:20250330T010000
END:DAYLIGHT
BEGIN:STANDARD
TZOFFSETFROM:+0200
TZOFFSETTO:+0100
TZNAME:CET
DTSTART:20251026T010000
END:STANDARD
BEGIN:DAYLIGHT
TZOFFSETFROM:+0100
TZOFFSETTO:+0200
TZNAME:CEST
DTSTART:20260329T010000
END:DAYLIGHT
BEGIN:STANDARD
TZOFFSETFROM:+0200
TZOFFSETTO:+0100
TZNAME:CET
DTSTART:20261025T010000
END:STANDARD
END:VTIMEZONE
BEGIN:VEVENT
DTSTART;TZID=Europe/Stockholm:20251214T140000
DTEND;TZID=Europe/Stockholm:20251214T190000
DTSTAMP:20260421T155718
CREATED:20251105T073406Z
LAST-MODIFIED:20251105T074755Z
UID:10006430-1765720800-1765738800@www.heptown.com
SUMMARY:Gratis dansfest med Swing Salsa och Tango  | 14 december | 2025
DESCRIPTION:Årets stora dansfest är nu gratis och öppen för alla. Fri ålder. Det blir en intensiv blandning av Salsa\, Lindy Hop (swing) och Tango\, med överraskningar på scenen och på dansgolvet. \nVi börjar kvällen med workshops i respektive dans. Vi erbjuder tre omgångar med kurser (enligt schemat nedan) och ni har därför chansen att prova alla tre danserna. Efter kurserna fortsätter vi med dansgolv där vi blandar hejvilt salsa-\, swing- och tangomusik i stora salen samt fusionsmusik\, bachata och blues i baren. \nSom del av vinterlund är det ingen föranmälan och fritt inträde. \nTider\n\nInsläpp 14.00\nNybörjarkurser 14.30-17.30\nDansgolv med mixad musik 17.30-19.00\n\nNybörjarkurser i Baren\n\n14.30 Salsa\n15.30 Lindy Hop (Swing)\n16.30 Tango\n\nNybörjarkurser i Stora Salen\n\n14.30 Tango\n15.30 Salsa\n16.30 Lindy Hop (Swing)\n\nPlats\nMejeriet\, Stora Södergatan 64\, 222 23 Lund\nhttps://www.kulturmejeriet.se/\nhttps://g.page/Mejeriet \nFölj dansfesten!\nhttps://www.facebook.com/dansfestenlund/ \nMer dans\nhttps://www.heptown.com/\nhttps://www.salsa-sabrosa.com/\nhttps://www.facebook.com/groups/203139253988/\nhttps://www.tangokompaniet.com/ \nMat & Dryck\nBar & Café är öppet \nArrangeras i samarbete med vinterlund\nhttps://vinterlund.se/
URL:https://www.heptown.com/calendar/gratis-dansfest-med-swing-salsa-och-tango-14-december-2025/
LOCATION:Mejeriet\, Stora Södergatan 64\, Lund\, 22223\, SE
CATEGORIES:Beginner,Beginners' Lindy Hop Class,Big event,Lindy Hop,Lund,Öresund,Social Dance
ATTACH;FMTTYPE=image/jpeg:https://www.heptown.com/wp-content/uploads/2025/11/36090_image_574104044_1457401926395299_8183981060885876167_n.jpg
GEO:55.6961645;13.188225
X-APPLE-STRUCTURED-LOCATION;VALUE=URI;X-ADDRESS=Mejeriet Stora Södergatan 64 Lund 22223 SE;X-APPLE-RADIUS=500;X-TITLE=Stora Södergatan 64:geo:13.188225,55.6961645
END:VEVENT
END:VCALENDAR