BEGIN:VCALENDAR
VERSION:2.0
PRODID:-//HepTown - ECPv6.15.20//NONSGML v1.0//EN
CALSCALE:GREGORIAN
METHOD:PUBLISH
X-WR-CALNAME:HepTown
X-ORIGINAL-URL:https://www.heptown.com
X-WR-CALDESC:Events for HepTown
REFRESH-INTERVAL;VALUE=DURATION:PT1H
X-Robots-Tag:noindex
X-PUBLISHED-TTL:PT1H
BEGIN:VTIMEZONE
TZID:Europe/Stockholm
BEGIN:DAYLIGHT
TZOFFSETFROM:+0100
TZOFFSETTO:+0200
TZNAME:CEST
DTSTART:20240331T010000
END:DAYLIGHT
BEGIN:STANDARD
TZOFFSETFROM:+0200
TZOFFSETTO:+0100
TZNAME:CET
DTSTART:20241027T010000
END:STANDARD
BEGIN:DAYLIGHT
TZOFFSETFROM:+0100
TZOFFSETTO:+0200
TZNAME:CEST
DTSTART:20250330T010000
END:DAYLIGHT
BEGIN:STANDARD
TZOFFSETFROM:+0200
TZOFFSETTO:+0100
TZNAME:CET
DTSTART:20251026T010000
END:STANDARD
BEGIN:DAYLIGHT
TZOFFSETFROM:+0100
TZOFFSETTO:+0200
TZNAME:CEST
DTSTART:20260329T010000
END:DAYLIGHT
BEGIN:STANDARD
TZOFFSETFROM:+0200
TZOFFSETTO:+0100
TZNAME:CET
DTSTART:20261025T010000
END:STANDARD
END:VTIMEZONE
BEGIN:VEVENT
DTSTART;TZID=Europe/Stockholm:20250203T200000
DTEND;TZID=Europe/Stockholm:20250203T220000
DTSTAMP:20260421T124017
CREATED:20250107T171125Z
LAST-MODIFIED:20250202T140241Z
UID:10006248-1738612800-1738620000@www.heptown.com
SUMMARY:Monday Night Swing | Lindy Hop | Social Dance 3/2 |  DJ Ingrid & DJ Fredric
DESCRIPTION:Welcome to Monday Night Swing a social dance where we every Monday swing-out at Kårhuset. \nTonight with Swing DJ Ingrid & DJ Fredric \nNew to Lindy Hop? There is no drop-in class tonight but just come and we will have someone spend a song showing you a move or two…. Also checkout our beginners’ courses and weekends https://www.heptown.com/classes/#beginners \n\nRegistration for tonight: https://dans.se/heptown/shop/?event=238596\nSeason pass: https://dans.se/heptown/shop/?event=237467\nMore events and classes: https://www.heptown.com/\nMonday Night Swing: https://www.heptown.com/monday-night-swing/\n\nYou are very welcome regardless of age\, membership\, dance ability\, with or without a partner and if you are a student or not. \nAt this social dance we mostly dance Lindy Hop but you can also find someone dancing Balboa\, Solo Jazz and Collegiate Shag. You are of course welcome to come and dance foxtrot\, bugg or any dance you know… \nSCHEDULE\n\nDoors open 19:45\nSocial dance: 20:00-22:00\nAfterparty / Social hang-out at Botulfs 22:15-23:30\n\nLOCATION\n\nKårhuset\, Cornelis\, John Ericssons väg 3\nEntrance via the main entrance here: https://goo.gl/maps/hZmW9nzuZp7jqL4S9\nParking: https://goo.gl/maps/AveB7GXCECgWx63f9\n\nPrice & discounts\n\n80kr fixed rate if you pay by swish or cash at the door.\n70kr if you sign-up in advance.\n20kr (additional) discount if you are a member and sign-up in advance.\n20kr (additional) discount for students(ST)\, youth or the unemployed(AR) that sign up in advance.\nLower price (or free) when we move to Smålands Nation.\n0kr for those who sign-up as volunteer and help out during the evening .\n\nPree-book entrance for best price\nhttps://www.heptown.com/monday-night-swing/#book\nMembership: https://www.heptown.com/member/ \nVolunteer and get in for free\nYou can volunteer for about 1/2 an hour to get in for free. Just ask for Håkan to get more information or email classes@heptown.com\nThe volunteer schedule and sign-up is now available online\nSchedule: https://bit.ly/mondaycrew\nSign-up: https://bit.ly/catcrewme \nMore information\nhttps://www.heptown.com/monday-night-swing/\n+ Information på Svenska: https://www.heptown.com/sv/mandagsswing/ \nAfterparty / Social hang-out at Botulfs 22:15-23:30\nLet’s meet up and get to know each other after the dance. We will walk/bike from Kårhuset after the dance and go to Botulfs bar. \nLindy Hop Classes\nKårhuset is also the home of some of our classes\, with more classes around Lund and Malmö. A new addition is a special youth & student track starting in January and conveniently right before this social dance\nhttps://www.heptown.com/classes/ \nSocial dances starting with a beginners class\nhttps://www.heptown.com/calendar/category/beginners-class/ \nBook a ticket\nFacebook-events\nLindy Hop Registration\n#LindyHop #Lund #Kårhuset
URL:https://www.heptown.com/calendar/monday-night-swing-lindy-hop-social-dance-3-2/
LOCATION:Teknologkåren vid LTH\, John Ericssons väg 3\, Lund\, 223 63\, Sweden
CATEGORIES:Big event,Lindy Hop,Lund,Monday Night Swing,Öresund,Social Dance
ATTACH;FMTTYPE=image/jpeg:https://www.heptown.com/wp-content/uploads/2025/01/34365_image_472560834_1175393124596182_2309692304551438645_n.jpg
END:VEVENT
END:VCALENDAR