BEGIN:VCALENDAR
VERSION:2.0
PRODID:-//HepTown - ECPv6.15.20//NONSGML v1.0//EN
CALSCALE:GREGORIAN
METHOD:PUBLISH
X-WR-CALNAME:HepTown
X-ORIGINAL-URL:https://www.heptown.com
X-WR-CALDESC:Events for HepTown
REFRESH-INTERVAL;VALUE=DURATION:PT1H
X-Robots-Tag:noindex
X-PUBLISHED-TTL:PT1H
BEGIN:VTIMEZONE
TZID:Europe/Stockholm
BEGIN:DAYLIGHT
TZOFFSETFROM:+0100
TZOFFSETTO:+0200
TZNAME:CEST
DTSTART:20230326T010000
END:DAYLIGHT
BEGIN:STANDARD
TZOFFSETFROM:+0200
TZOFFSETTO:+0100
TZNAME:CET
DTSTART:20231029T010000
END:STANDARD
BEGIN:DAYLIGHT
TZOFFSETFROM:+0100
TZOFFSETTO:+0200
TZNAME:CEST
DTSTART:20240331T010000
END:DAYLIGHT
BEGIN:STANDARD
TZOFFSETFROM:+0200
TZOFFSETTO:+0100
TZNAME:CET
DTSTART:20241027T010000
END:STANDARD
BEGIN:DAYLIGHT
TZOFFSETFROM:+0100
TZOFFSETTO:+0200
TZNAME:CEST
DTSTART:20250330T010000
END:DAYLIGHT
BEGIN:STANDARD
TZOFFSETFROM:+0200
TZOFFSETTO:+0100
TZNAME:CET
DTSTART:20251026T010000
END:STANDARD
END:VTIMEZONE
BEGIN:VEVENT
DTSTART;TZID=Europe/Stockholm:20241111T200000
DTEND;TZID=Europe/Stockholm:20241111T220000
DTSTAMP:20260421T215556
CREATED:20241017T155741Z
LAST-MODIFIED:20241110T181210Z
UID:10006210-1731355200-1731362400@www.heptown.com
SUMMARY:Monday Night Swing & Blues Dance @ Stadshallen 11/11
DESCRIPTION:NOTE! This evening Monday Night Swing is moved to Danssalen\, Stadshallen\, Stortorget 9\, Lund\nDanssalen has its own entrance under the footbridge towards Rådhuset. https://goo.gl/maps/oGc4diFdSj8Nb4eH8 \nIngrid and one more DJ will play some great swing in danssalen from 20:00 \nEXTRA! Lea will teach an included  beginners blues dance class in the side room 20:15-21:15. Erik and Peppe will DJ blues there for the rest of the evening. \n\nRegistration for tonight: https://dans.se/heptown/shop/?event=225340\nMore events and classes: https://www.heptown.com/\nMonday Night Swing: https://www.heptown.com/monday-night-swing/\n\nYou are very welcome regardless of age\, membership\, dance ability\, with or without a partner and if you are a student or not. \nSocial swing dance\n\nPre dance hangout in the side room from 19:00\nSocial swing dance 20:00-22:00\nBeginners blues dance class (in the side room): 20:15-21:15\nSocial blues dance (in the side room): 21:15-22:00\nDanssalen\, Stadshallen\, Stortorget 9\, Lund\nDanssalen has its own entrance under the footbridge towards Rådhuset. \nSee map: https://goo.gl/maps/oGc4diFdSj8Nb4eH8\nSwing DJs: Ingrid & Erika\nBlues DJs: Erik & Peppe\n\nPrice & discounts\n\n80kr fixed rate if you pay by swish or cash at the door.\n70kr if you sign-up in advance.\n20kr (additional) discount if you are a member and sign-up in advance.\n20kr (additional) discount for students(ST)\, youth or the unemployed(AR) that sign up in advance.\nLower price (or free) when we move to Smålands Nation.\n0kr for those who sign-up as volunteer and help out during the evening .\n\nPree-book entrance for best price\nhttps://www.heptown.com/monday-night-swing/#book \nVolunteer and get in for free\nYou can volunteer for about 1/2 an hour to get in for free. Just ask for Håkan to get more information or email classes@heptown.com\nThe volunteer schedule and sign-up is now available online\nSchedule: https://bit.ly/mondaycrew\nSign-up: https://bit.ly/catcrewme \nMore information\nhttps://www.heptown.com/monday-night-swing/\n+ Information på Svenska: https://www.heptown.com/sv/mandagsswing/ \nAfterparty / Social hang-out at Botulfs 22:15-23:30\nLet’s meet up and get to know each other after the dance.\nTonight it’s just around the corner!\nhttps://maps.app.goo.gl/hQYe4YrSgBN7R4N36\nhttps://maps.app.goo.gl/qn3EXA9aQ9TTVa5DA \nSocial dances starting with a beginners class\nhttps://www.heptown.com/calendar/category/beginners-class/ \nLindy Hop Classes\nhttps://www.heptown.com/classes/ \nBook a ticket\nFacebook-events\nLindy Hop Registration\n#LindyHop #Lund #Stadshallen
URL:https://www.heptown.com/calendar/monday-night-swing-stadshallen-11-11/
LOCATION:Stadshallen\, Stortorget 9\, Lund\, 222 23\, Sweden
CATEGORIES:Big event,Blues Dance,HepTown,Lindy Hop,Lund,Monday Night Swing,Öresund,Social Dance
ATTACH;FMTTYPE=image/jpeg:https://www.heptown.com/wp-content/uploads/2024/10/33971_image_463435627_1107117124757116_8603718919403623941_n.jpg
END:VEVENT
END:VCALENDAR