BEGIN:VCALENDAR
VERSION:2.0
PRODID:-//HepTown - ECPv6.15.20//NONSGML v1.0//EN
CALSCALE:GREGORIAN
METHOD:PUBLISH
X-ORIGINAL-URL:https://www.heptown.com
X-WR-CALDESC:Events for HepTown
REFRESH-INTERVAL;VALUE=DURATION:PT1H
X-Robots-Tag:noindex
X-PUBLISHED-TTL:PT1H
BEGIN:VTIMEZONE
TZID:Europe/Stockholm
BEGIN:DAYLIGHT
TZOFFSETFROM:+0100
TZOFFSETTO:+0200
TZNAME:CEST
DTSTART:20210328T010000
END:DAYLIGHT
BEGIN:STANDARD
TZOFFSETFROM:+0200
TZOFFSETTO:+0100
TZNAME:CET
DTSTART:20211031T010000
END:STANDARD
BEGIN:DAYLIGHT
TZOFFSETFROM:+0100
TZOFFSETTO:+0200
TZNAME:CEST
DTSTART:20220327T010000
END:DAYLIGHT
BEGIN:STANDARD
TZOFFSETFROM:+0200
TZOFFSETTO:+0100
TZNAME:CET
DTSTART:20221030T010000
END:STANDARD
BEGIN:DAYLIGHT
TZOFFSETFROM:+0100
TZOFFSETTO:+0200
TZNAME:CEST
DTSTART:20230326T010000
END:DAYLIGHT
BEGIN:STANDARD
TZOFFSETFROM:+0200
TZOFFSETTO:+0100
TZNAME:CET
DTSTART:20231029T010000
END:STANDARD
END:VTIMEZONE
BEGIN:VEVENT
DTSTART;TZID=Europe/Stockholm:20220404T200000
DTEND;TZID=Europe/Stockholm:20220404T220000
DTSTAMP:20260422T232811
CREATED:20220227T161804Z
LAST-MODIFIED:20220404T161811Z
UID:10005623-1649102400-1649109600@www.heptown.com
SUMMARY:Monday Night Swing 4/4 with DJ ACe
DESCRIPTION:Come and swing your feet at the weekly social dance at Kårhuset in Lund. Music from the good old days will be hovering over the smooth dance-floor. Where would you like to be? \nWe mostly dance Lindy Hop but you can often find someone dancing Balboa and Collegiate Shag. \nNew to Lindy Hop?\nThere is no dedicated beginners class this evening\, but usually someone can show you some moves if you ask. \nPree-book entrance for best price\nhttps://www.heptown.com/monday-night-swing/#book \nSocial swing dance / Swing Practice\n\nOpen: tonight 20-22 \nKårhuset\, Gasque salen\, John Ericssons väg 3 (enter through the amphitheater)\nPre-booked entrance fee: 70kr / Student or Youth 40kr\nSwish/cash at the door 80kr\nSwing DJ: Anton a.k.a. ACe\n\nInformation: https://www.heptown.com/monday-night-swing/ \n\nInformation på Svenska: https://www.heptown.com/sv/mandagsswing/ \n\nVolunteer and get in for free\nYou can volunteer for about 1/2 an hour to get in for free. Just ask for Håkan to get more information or email classes@heptown.com \nThe volunteer schedule and sign-up is now available online\nSchedule: https://bit.ly/mondaycrew\nSign-up:  https://bit.ly/catcrewme \nLindy Hop Classes Spring 2022\nKårhuset is also the home of some of our classes\, with more classes at Smålands Nation and in Malmö \nBeginners weekends \nLindy Hop and other Swing dance classes \n \nFull semester continued to advanced \nLindy Hop Course Schedule \n \ncovid-19 precautions\nAs always and most importantly stay home if you are sick. Also read and follow our complete covid guidelines. \nhttps://www.heptown.com/flu/ (English)\nhttps://www.heptown.com/sv/influensa/ (På Svenska) \nBook a ticket\nFacebook-events\nLindy Hop Registration \n#LindyHop #Lund #Kårhuset
URL:https://www.heptown.com/calendar/monday-night-swing-4-4-with-dj-ace/
LOCATION:Kårhuset\, John Ericssons väg 3\, Lund\, 22100\, SE
CATEGORIES:Big event,HepTown,Lindy Hop,Lund,Öresund,Social Dance
ATTACH;FMTTYPE=image/jpeg:https://www.heptown.com/wp-content/uploads/2022/02/24982_image_274348811_5234119613272962_7628087915544414684_n.jpg
GEO:55.7122732;13.2092732
X-APPLE-STRUCTURED-LOCATION;VALUE=URI;X-ADDRESS=Kårhuset John Ericssons väg 3 Lund 22100 SE;X-APPLE-RADIUS=500;X-TITLE=John Ericssons väg 3:geo:13.2092732,55.7122732
END:VEVENT
BEGIN:VEVENT
DTSTART;TZID=Europe/Stockholm:20220406T183000
DTEND;TZID=Europe/Stockholm:20220406T223000
DTSTAMP:20260422T232811
CREATED:20220328T121130Z
LAST-MODIFIED:20220406T160611Z
UID:10005015-1649269800-1649284200@www.heptown.com
SUMMARY:Wednesday Night Hop 6/4 + Beginners Lindy Hop
DESCRIPTION:Welcome to Cats’ Corners swingin’ Wednesday Night Hop at Moriska Paviljongen. \nThe evening starts with a 1h beginners Lindy Hop. No pre-registration and no partner needed. Just drop-in and dance with us \nTonight we’re in the bit more cosy “Spegelsalen” instead of the usual “Stora salen” \n\n18.30-19.30: Beginners Lindy Hop Taster (included in the door fee)**\nSocial dance: 19.30-22.30 \nBallroom door fee: 70kr\, 50kr for Cats’ Corner members\nVolunteer for the front desk**: http://catscorner.se/volunteering/\n\n*Want to try out Lindy Hop\, or know someone who should\, this is the perfect time to do so! The taster class is arranged in collaboration with Heptown\, who also arranges beginners weekends\, check out their course schedule here: www.heptown.com/classes/ \n**Want to help out?\nWe often need help at the front desk.\nFor 30 min of your time\, you’ll receive free entrance for the night.\nThere’s a list at the front desk.\nAnd you can also sign-up in advance here: \nWednesday Night Hop Volounteering \n \nCOVID restrictions in Sweden was lifted by the 9th of February\, and we will therefore reopen our Wednesday Night Hop.\nAs always!\nStay home if you are feeling ill or have any symptoms. \nIf you’re not vaccinated it’s still recommended to avoid crowds. \nThis is in accordance with the public health agency of Sweden.\nsource:  https://www.folkhalsomyndigheten.se/nyheter-och-press/nyhetsarkiv/2022/februari/de-flesta-atgarder-mot-covid-19-upphor-den-9-februari/ \nLINDY HOP\nThe main dance on Wednesdays’ is Lindy Hop\, a swing dance originating in the 30-40s in Harlem\, NY. But you are always welcome to dance whatever you like or just hang out\nwww.youtube.com/results?search_query=lindy+hop\nhttps://en.wikipedia.org/wiki/Lindy_Hop \nCATS’ CORNER\nCats’ Corner is a non-profit dance organisation from Malmö. Our main focus is Lindy Hop\, but we gladly also dance Charleston\, Balboa\, Shag\, Blues\, Authentic Jazz and other Swing dances.\nwww.catscorner.se/\n(https://www.heptown.com/organizer/cats-corner/) \nSWING CLASSES?\nThis is also the new home for some of HepTowns weekly classes: Take a look at\nwww.heptown.com/classes/schedule/ \nBEGINNERS WEEKENDS\nThere will be beginners weekends before the ordinary classes start. Registration will open in December and more information will be available before that at\nwww.heptown.com/classes/ \nMORISKA PAVILJONGEN\nMoriska Paviljongen är Malmös största oberoende kultur- och nöjeshus. Moriskan erbjuder Bistro\, Bar\, Kulturprogram och Nattklubb på 4 olika scener i en anrik miljö från 1901. Mer info finns på:\nwww.moriskapaviljongen.se\nwww.facebook.com/moriskapaviljongen\nwww.instagram.com/moriska_paviljongen Visa mindre
URL:https://www.heptown.com/calendar/wednesday-night-hop-6-4-beginners-lindy-hop/
LOCATION:Moriska Paviljongen\, Norra Parkgatan 2\, Malmö\, 21422\, Sweden
CATEGORIES:Beginners' Lindy Hop Class,Big event,Cats' Corner,Lindy Hop,Malmö,Öresund,Social Dance
ATTACH;FMTTYPE=image/jpeg:https://www.heptown.com/wp-content/uploads/2022/03/25138_image_277176789_482064836822332_4627397496745869889_n.jpg
GEO:55.593854848252;13.013540268126
X-APPLE-STRUCTURED-LOCATION;VALUE=URI;X-ADDRESS=Moriska Paviljongen Norra Parkgatan 2 Malmö 21422 Sweden;X-APPLE-RADIUS=500;X-TITLE=Norra Parkgatan 2:geo:13.013540268126,55.593854848252
END:VEVENT
BEGIN:VEVENT
DTSTART;TZID=Europe/Stockholm:20220411T203000
DTEND;TZID=Europe/Stockholm:20220411T223000
DTSTAMP:20260422T232811
CREATED:20220228T161754Z
LAST-MODIFIED:20220411T161620Z
UID:10005624-1649709000-1649716200@www.heptown.com
SUMMARY:Monday Night Swing 11/4 with DJ Nisse
DESCRIPTION:NOTE! Starts 20:30 \nWe mostly dance Lindy Hop but you can often find someone dancing Balboa and Collegiate Shag. \nNew to swing dancing?\nThere is no dedicated beginners Lindy Hop class this evening\, but usually someone can show you some moves if you ask. \nPree-book entrance for best price\nhttps://www.heptown.com/monday-night-swing/#book \nSocial swing dance / Swing Practice\n\nOpen: tonight 20:30-22:30 [sic!]\nKårhuset\, Gasque salen\, John Ericssons väg 3\, enter through the amphitheater\nParking: https://goo.gl/maps/z27UjqN6v1NHVRj19\nPre-booked entrance fee: 70kr / Student or Youth 40kr\nSwish/cash at the door 80kr\nSwing DJ: Nisse\n\nInformation: https://www.heptown.com/monday-night-swing/ \n\nInformation på Svenska: https://www.heptown.com/sv/mandagsswing/ \n\nVolunteer and get in for free\nYou can volunteer at the door for about 1/2 an hour to get in for free. Just ask for Håkan to get more information or email classes@heptown.com \nSchedule: https://bit.ly/mondaycrew\nSign-up:  https://bit.ly/catcrewme \nLindy Hop Classes Spring 2022\nKårhuset is also the home of some of our classes\, with more classes at Smålands Nation and in Malmö \nBeginners weekends \nLindy Hop and other Swing dance classes \n \nFull semester continued to advanced \nLindy Hop Course Schedule \n \ncovid-19 precautions\nAs always and most importantly stay home if you are sick. Also read and follow our complete covid guidelines. \nhttps://www.heptown.com/flu/ (English)\nhttps://www.heptown.com/sv/influensa/ (På Svenska) \nBook a ticket\nFacebook-events\nLindy Hop Registration \n#LindyHop #Lund #Kårhuset
URL:https://www.heptown.com/calendar/monday-night-swing-11-4-with-dj-nisse/
LOCATION:Kårhuset\, John Ericssons väg 3\, Lund\, 22100\, SE
CATEGORIES:Big event,HepTown,Lindy Hop,Lund,Öresund,Social Dance
ATTACH;FMTTYPE=image/jpeg:https://www.heptown.com/wp-content/uploads/2022/02/24992_image_274316768_5236621759689414_123652059229132512_n.jpg
GEO:55.7122732;13.2092732
X-APPLE-STRUCTURED-LOCATION;VALUE=URI;X-ADDRESS=Kårhuset John Ericssons väg 3 Lund 22100 SE;X-APPLE-RADIUS=500;X-TITLE=John Ericssons väg 3:geo:13.2092732,55.7122732
END:VEVENT
BEGIN:VEVENT
DTSTART;TZID=Europe/Stockholm:20220413T183000
DTEND;TZID=Europe/Stockholm:20220413T223000
DTSTAMP:20260422T232811
CREATED:20220328T121128Z
LAST-MODIFIED:20220413T160702Z
UID:10005629-1649874600-1649889000@www.heptown.com
SUMMARY:Wednesday Night Hop 13/4 + Beginners Lindy Hop
DESCRIPTION:Welcome to Cats’ Corners swingin’ Wednesday Night Hop at Moriska Paviljongen. \nThe evening starts with a 1h beginners Lindy Hop. No pre-registration and no partner needed. Just drop-in and dance with us \n\n18.30-19.30: Beginners Lindy Hop Taster (included in the door fee)**\nSocial dance: 19.30-22.30 \nBallroom door fee: 70kr\, 50kr for Cats’ Corner members\nVolunteer for the front desk**: http://catscorner.se/volunteering/\n\n*Want to try out Lindy Hop\, or know someone who should\, this is the perfect time to do so! The taster class is arranged in collaboration with Heptown\, who also arranges beginners weekends\, check out their course schedule here: www.heptown.com/classes/ \n**Want to help out?\nWe often need help at the front desk.\nFor 30 min of your time\, you’ll receive free entrance for the night.\nThere’s a list at the front desk.\nAnd you can also sign-up in advance here: \nWednesday Night Hop Volounteering \n \nCOVID restrictions in Sweden was lifted by the 9th of February\, and we will therefore reopen our Wednesday Night Hop.\nAs always!\nStay home if you are feeling ill or have any symptoms. \nIf you’re not vaccinated it’s still recommended to avoid crowds. \nThis is in accordance with the public health agency of Sweden.\nsource:  https://www.folkhalsomyndigheten.se/nyheter-och-press/nyhetsarkiv/2022/februari/de-flesta-atgarder-mot-covid-19-upphor-den-9-februari/ \nLINDY HOP\nThe main dance on Wednesdays’ is Lindy Hop\, a swing dance originating in the 30-40s in Harlem\, NY. But you are always welcome to dance whatever you like or just hang out\nwww.youtube.com/results?search_query=lindy+hop\nhttps://en.wikipedia.org/wiki/Lindy_Hop \nCATS’ CORNER\nCats’ Corner is a non-profit dance organisation from Malmö. Our main focus is Lindy Hop\, but we gladly also dance Charleston\, Balboa\, Shag\, Blues\, Authentic Jazz and other Swing dances.\nwww.catscorner.se/\n(https://www.heptown.com/organizer/cats-corner/) \nSWING CLASSES?\nThis is also the new home for some of HepTowns weekly classes: Take a look at\nwww.heptown.com/classes/schedule/ \nBEGINNERS WEEKENDS\nThere will be beginners weekends before the ordinary classes start. Registration will open in December and more information will be available before that at\nwww.heptown.com/classes/ \nMORISKA PAVILJONGEN\nMoriska Paviljongen är Malmös största oberoende kultur- och nöjeshus. Moriskan erbjuder Bistro\, Bar\, Kulturprogram och Nattklubb på 4 olika scener i en anrik miljö från 1901. Mer info finns på:\nwww.moriskapaviljongen.se\nwww.facebook.com/moriskapaviljongen\nwww.instagram.com/moriska_paviljongen Visa mindre
URL:https://www.heptown.com/calendar/wednesday-night-hop-13-4-beginners-lindy-hop/
LOCATION:Moriska Paviljongen\, Norra Parkgatan 2\, Malmö\, 21422\, Sweden
CATEGORIES:Beginners' Lindy Hop Class,Big event,Cats' Corner,Lindy Hop,Malmö,Öresund,Social Dance
ATTACH;FMTTYPE=image/jpeg:https://www.heptown.com/wp-content/uploads/2022/03/25135_image_277590128_487762396252576_1486720098249695337_n.jpg
GEO:55.593854848252;13.013540268126
X-APPLE-STRUCTURED-LOCATION;VALUE=URI;X-ADDRESS=Moriska Paviljongen Norra Parkgatan 2 Malmö 21422 Sweden;X-APPLE-RADIUS=500;X-TITLE=Norra Parkgatan 2:geo:13.013540268126,55.593854848252
END:VEVENT
BEGIN:VEVENT
DTSTART;TZID=Europe/Stockholm:20220416T110000
DTEND;TZID=Europe/Stockholm:20220417T160000
DTSTAMP:20260422T232811
CREATED:20220401T161646Z
LAST-MODIFIED:20220416T161651Z
UID:10005018-1650106800-1650211200@www.heptown.com
SUMMARY:Lindy Hop beginners' weekend  in Malmö 16-17/4
DESCRIPTION:Lär dig grunderna i swingdansen Lindy Hop. En Afroamerikansk pardans från 30-40talets Harlem\, NY \nAnmäl dig nu: \nLindy Hop och andra Swingdanskurser \n \nEller prova först:\nhttps://www.heptown.com/sv/calendar/category/nyborjarkurs/ \nUngdomens Hus\, Norra Skolgatan 10B\, Malmö\nhttps://goo.gl/maps/9u8RCit6dg32f3Ft7 \nLearn the basics of the swing dance Lindy Hop. An African American couple dance from the Harlem\, NY of the 30-40s \nSign-up now: \nLindy Hop and other Swing dance classes \n \nOr try it first:\nhttps://www.heptown.com/calendar/category/beginners-class/ \nUngdomens Hus\, Norra Skolgatan 10B\, Malmö\nhttps://goo.gl/maps/9u8RCit6dg32f3Ft7
URL:https://www.heptown.com/calendar/lindy-hop-beginners-weekend-in-malmo-16-17-4/
LOCATION:Ungdomens Hus\, Norra Skolgatan 10B\, Malmö\, 22152\, Sweden
CATEGORIES:Big event,Öresund
ATTACH;FMTTYPE=image/jpeg:https://www.heptown.com/wp-content/uploads/2022/04/25173_image_277366632_5322663217751934_5328221295871265113_n.jpg
GEO:55.5967587;13.0063436
X-APPLE-STRUCTURED-LOCATION;VALUE=URI;X-ADDRESS=Ungdomens Hus Norra Skolgatan 10B Malmö 22152 Sweden;X-APPLE-RADIUS=500;X-TITLE=Norra Skolgatan 10B:geo:13.0063436,55.5967587
END:VEVENT
BEGIN:VEVENT
DTSTART;TZID=Europe/Stockholm:20220418T200000
DTEND;TZID=Europe/Stockholm:20220418T220000
DTSTAMP:20260422T232811
CREATED:20220301T161625Z
LAST-MODIFIED:20220418T161658Z
UID:10005627-1650312000-1650319200@www.heptown.com
SUMMARY:Monday Night Swing 18/4 with DJ Ika
DESCRIPTION:Join the HepCats and swing-out on the big smooth hard wood dance floor in Gasquesalen at Kårhuset in Lund. \nWe mostly dance Lindy Hop but you can often find someone dancing Balboa and Collegiate Shag. \nNew to swing dancing?\nThere is no dedicated beginners Lindy Hop class this evening\, but usually someone can show you some moves if you ask. \nPree-book entrance for best price\nhttps://www.heptown.com/monday-night-swing/#book \nSocial swing dance / Swing Practice\n\nOpen: tonight 20-22 \nKårhuset\, Gasque salen\, John Ericssons väg 3 (enter through the amphitheater)\nParking: https://goo.gl/maps/z27UjqN6v1NHVRj19\nPre-booked entrance fee: 70kr / Student or Youth 40kr\nSwish/cash at the door 80kr\nSwing DJ: Ika\n\nInformation: https://www.heptown.com/monday-night-swing/ \n\nInformation på Svenska: https://www.heptown.com/sv/mandagsswing/ \n\nVolunteer and get in for free\nYou can volunteer at the door for about 1/2 an hour to get in for free. Just ask for Håkan to get more information or email classes@heptown.com \nSchedule: https://bit.ly/mondaycrew\nSign-up:  https://bit.ly/catcrewme \nLindy Hop Classes Spring 2022\nKårhuset is also the home of some of our classes\, with more classes at Smålands Nation and in Malmö \nBeginners weekends \nLindy Hop and other Swing dance classes \n \nFull semester continued to advanced \nLindy Hop Course Schedule \n \ncovid-19 precautions\nAs always and most importantly stay home if you are sick. Also read and follow our complete covid guidelines. \nhttps://www.heptown.com/flu/ (English)\nhttps://www.heptown.com/sv/influensa/ (På Svenska) \nBook a ticket\nFacebook-events\nLindy Hop Registration \n#LindyHop #Lund #Kårhuset
URL:https://www.heptown.com/calendar/monday-night-swing-18-4-with-dj-ika/
LOCATION:Kårhuset\, John Ericssons väg 3\, Lund\, 22100\, SE
CATEGORIES:Big event,HepTown,Lindy Hop,Lund,Öresund,Social Dance
ATTACH;FMTTYPE=image/jpeg:https://www.heptown.com/wp-content/uploads/2022/03/25009_image_274558712_5239410476077209_1194456631949806061_n.jpg
GEO:55.7122732;13.2092732
X-APPLE-STRUCTURED-LOCATION;VALUE=URI;X-ADDRESS=Kårhuset John Ericssons väg 3 Lund 22100 SE;X-APPLE-RADIUS=500;X-TITLE=John Ericssons väg 3:geo:13.2092732,55.7122732
END:VEVENT
BEGIN:VEVENT
DTSTART;TZID=Europe/Stockholm:20220420T190000
DTEND;TZID=Europe/Stockholm:20220420T223000
DTSTAMP:20260422T232811
CREATED:20220405T160613Z
LAST-MODIFIED:20220420T160613Z
UID:10005021-1650481200-1650493800@www.heptown.com
SUMMARY:Wednesday Night Hop 20/4
DESCRIPTION:Welcome to Cats’ Corners swingin’ Wednesday Night Hop at Moriska Paviljongen. \n\nSocial dance: 19.00-22.30 \nBallroom door fee: 70kr\, 50kr for Cats’ Corner members\nVolunteer for the front desk*: http://catscorner.se/volunteering/\n\n*Want to help out?\nWe often need help at the front desk.\nFor 30 min of your time\, you’ll receive free entrance for the night.\nThere’s a list at the front desk.\nAnd you can also sign-up in advance here: \nWednesday Night Hop Volounteering \n \n*COVID-restrictions in Sweden will be lifted at the 9th of February\, and we will therefore reopen our Wednesday Night Hop. \nStay home if you are feeling ill or have any symptoms. \nIf your not vaccinated it’s still recommended to avoid crowds. \nThis in accordance with the public health agency of Sweden.\nsource:  https://www.folkhalsomyndigheten.se/nyheter-och-press/nyhetsarkiv/2022/februari/de-flesta-atgarder-mot-covid-19-upphor-den-9-februari/ \nLINDY HOP\nThe main dance on Wednesdays’ is Lindy Hop\, a swing dance originating in the 30-40s in Harlem\, NY. But you are always welcome to dance whatever you like or just hang out\nwww.youtube.com/results?search_query=lindy+hop\nhttps://en.wikipedia.org/wiki/Lindy_Hop \nCATS’ CORNER\nCats’ Corner is a non-profit dance organisation from Malmö. Our main focus is Lindy Hop\, but we gladly also dance Charleston\, Balboa\, Shag\, Blues\, Authentic Jazz and other Swing dances.\nwww.catscorner.se/\n(https://www.heptown.com/organizer/cats-corner/) \nSWING CLASSES?\nThis is also the new home for some of HepTowns weekly classes: Take a look at\nwww.heptown.com/classes/schedule/ \nBEGINNERS WEEKENDS\nThere will be beginners weekends before the ordinary classes start. Registration will open in December and more information will be available before that at\nwww.heptown.com/classes/ \nMORISKA PAVILJONGEN\nMoriska Paviljongen är Malmös största oberoende kultur- och nöjeshus. Moriskan erbjuder Bistro\, Bar\, Kulturprogram och Nattklubb på 4 olika scener i en anrik miljö från 1901. Mer info finns på:\nwww.moriskapaviljongen.se\nwww.facebook.com/moriskapaviljongen\nwww.instagram.com/moriska_paviljongen Visa mindre
URL:https://www.heptown.com/calendar/wednesday-night-hop-20-4/
LOCATION:Moriska Paviljongen\, Norra Parkgatan 2\, Malmö\, 21422\, Sweden
CATEGORIES:Cats' Corner,Lindy Hop,Öresund,Social Dance
ATTACH;FMTTYPE=image/jpeg:https://www.heptown.com/wp-content/uploads/2022/04/25202_image_277667594_487749472920535_1533909965778485085_n.jpg
GEO:55.593854848252;13.013540268126
X-APPLE-STRUCTURED-LOCATION;VALUE=URI;X-ADDRESS=Moriska Paviljongen Norra Parkgatan 2 Malmö 21422 Sweden;X-APPLE-RADIUS=500;X-TITLE=Norra Parkgatan 2:geo:13.013540268126,55.593854848252
END:VEVENT
BEGIN:VEVENT
DTSTART;TZID=Europe/Stockholm:20220423T100000
DTEND;TZID=Europe/Stockholm:20220423T220000
DTSTAMP:20260422T232811
CREATED:20220213T142721Z
LAST-MODIFIED:20220423T161617Z
UID:10005011-1650708000-1650751200@www.heptown.com
SUMMARY:Rameliana 2022 - Hommage till Povel Ramel 100 år
DESCRIPTION:100-årsjubileum för Povel Ramel där\n100-talet medverkande framför\n100-talet sånger. \nTre konserter. \nFörmiddag kl. 10:00-13:00\nMagnus Humlan Persson\nMiriam Aïda\nJohan Glans\nOlof Ramel\nMats Öberg & Bornemarkarna\nMalmö Vokalensemble \nEftermiddag kl. 14:00-17:30\nIris Bergcrantz\nSwing Street Orchestra\nLise & Gertrud\nMonica Dominique\nPovels Naturbarn (Lotta Ramel\, Mikael Ramel & Backa Hans Eriksson)\nAnne-Lie Rydé & Svenska Lyxorkestern \nKväll kl. 18:30-22:00\nAnna Sise & Alexander Lövmark med Roger Berg Big Band\nMikael Neuman\nJenny Almsenius\nGentlemen & Gangsters\nMimi Terris kvartett \nHela dagen:\nKonferencier: Anders Eldman.\nKåsör: Kalle Lind. \nBiljetter på rameliana2022.se \nPovel Ramels 100-årsjubileum även\n19 mars på Trädgår’n i Göteborg\n26 mars på Münchenbryggeriet i Stockholm.
URL:https://www.heptown.com/calendar/rameliana-2022-hommage-till-povel-ramel-100-ar/
LOCATION:Moriska Paviljongen\, Malmö
CATEGORIES:Lindy Hop,Malmö,Öresund
ATTACH;FMTTYPE=image/jpeg:https://www.heptown.com/wp-content/uploads/2022/02/24750_image_269590919_157611716622740_7863407187151164993_n.jpg
END:VEVENT
BEGIN:VEVENT
DTSTART;TZID=Europe/Stockholm:20220423T190000
DTEND;TZID=Europe/Stockholm:20220424T013000
DTSTAMP:20260422T232811
CREATED:20220414T151356Z
LAST-MODIFIED:20220421T151333Z
UID:10005024-1650740400-1650763800@www.heptown.com
SUMMARY:SWINGSHOES SPRING SWING BALL
DESCRIPTION:SwingShoes Spring Swing Ball! \nWe have planned a fantastic night for you guys\, just packed with all sorts of wonderful stuff! There will be awesome performances a Out-of-this-World amazing Dj and live swing music by the One-and-Only PETER LONG SEXTET! \nMC Johan Selander will take us through what is going to be an incredible evening at the beautiful Odd Fellow Concert Hall. \nThe program of the evening: \n19:00 Doors Open\n19:30-20:30 Taster\, w. Mathilde Dam & Johan Selander.\n20:30-21:15 DJ Per Rock\n21:15-22:05 Peter Long Pocket Basie 1st set\, 50 min\n22:05-22:40 DJ Rock\n22:40-22:50\, Performances\, TBA\n22:50-23:35 Peter Long Pocket Basie 2nd set\, 50 min\n23:35-01:30 DJ Per Rock\n01:30 Doors close \nPrice :\n295 kr – all night\n180kr – late night (after 22.30) \nThe ticket sales will be released Thursday 10th of March at 20:00! \nIf you plan to participate\, do not wait too long to purchase your ticket\, as from previous experience our Swing Ball events sell out in a very short time! \nTicket Link: https://swingshoes.dk/swingshoes-swing-ball \nMore surprises and announcements to follow.
URL:https://www.heptown.com/calendar/swingshoes-spring-swing-ball/
LOCATION:Odd Fellow Palæet\, Bredgade 28\, Copenhagen\, 1260\, DK
CATEGORIES:Öresund
ATTACH;FMTTYPE=image/jpeg:https://www.heptown.com/wp-content/uploads/2022/04/25258_image_272792897_4727184674017891_466522911321374390_n.jpg
END:VEVENT
BEGIN:VEVENT
DTSTART;TZID=Europe/Stockholm:20220425T200000
DTEND;TZID=Europe/Stockholm:20220425T220000
DTSTAMP:20260422T232811
CREATED:20220301T161623Z
LAST-MODIFIED:20220423T161617Z
UID:10005626-1650916800-1650924000@www.heptown.com
SUMMARY:Monday Night Swing 25/4 with DJ Mokhtar
DESCRIPTION:Join the HepCats and swing-out on the big smooth hard wood dance floor in Gasquesalen at Kårhuset in Lund. \nWe mostly dance Lindy Hop but you can often find someone dancing Balboa and Collegiate Shag. \nNew to swing dancing?\nThere is no dedicated beginners Lindy Hop class this evening\, but usually someone can show you some moves if you ask. \nPree-book entrance for best price\nhttps://www.heptown.com/monday-night-swing/#book \nSocial swing dance / Swing Practice\n\nOpen: tonight 20-22 \nKårhuset\, Gasque salen\, John Ericssons väg 3 (enter through the amphitheater)\nParking: https://goo.gl/maps/z27UjqN6v1NHVRj19\nPre-booked entrance fee: 70kr / Student or Youth 40kr\nSwish/cash at the door 80kr\nSwing DJ: Mokhtar\n\nInformation: https://www.heptown.com/monday-night-swing/ \n\nInformation på Svenska: https://www.heptown.com/sv/mandagsswing/ \n\nVolunteer and get in for free\nYou can volunteer for about 1/2 an hour to get in for free. Just ask for Håkan to get more information or email classes@heptown.com \nSchedule: https://bit.ly/mondaycrew\nSign-up:  https://bit.ly/catcrewme \nLindy Hop Classes Spring 2022\nKårhuset is also the home of some of our classes\, with more classes at Smålands Nation and in Malmö \nBeginners weekends \nLindy Hop and other Swing dance classes \n \nFull semester continued to advanced \nLindy Hop Course Schedule \n \ncovid-19 precautions\nAs always and most importantly stay home if you are sick. Also read and follow our complete covid guidelines. \nhttps://www.heptown.com/flu/ (English)\nhttps://www.heptown.com/sv/influensa/ (På Svenska) \nBook a ticket\nFacebook-events\nLindy Hop Registration \n#LindyHop #Lund #Kårhuset
URL:https://www.heptown.com/calendar/monday-night-swing-25-4-with-dj-mokhtar/
LOCATION:Kårhuset\, John Ericssons väg 3\, Lund\, 22100\, SE
CATEGORIES:HepTown,Lindy Hop,Lund,Öresund,Social Dance
ATTACH;FMTTYPE=image/jpeg:https://www.heptown.com/wp-content/uploads/2022/03/25006_image_274398120_5239618586056398_6930701935490391343_n.jpg
GEO:55.7122732;13.2092732
X-APPLE-STRUCTURED-LOCATION;VALUE=URI;X-ADDRESS=Kårhuset John Ericssons väg 3 Lund 22100 SE;X-APPLE-RADIUS=500;X-TITLE=John Ericssons väg 3:geo:13.2092732,55.7122732
END:VEVENT
BEGIN:VEVENT
DTSTART;TZID=Europe/Stockholm:20220427T190000
DTEND;TZID=Europe/Stockholm:20220427T223000
DTSTAMP:20260422T232811
CREATED:20220405T160612Z
LAST-MODIFIED:20220427T161142Z
UID:10005019-1651086000-1651098600@www.heptown.com
SUMMARY:Wednesday Night Hop 27/4
DESCRIPTION:Welcome to Cats’ Corners swingin’ Wednesday Night Hop at Moriska Paviljongen. \n\nSocial dance: 19.00-22.30\nBallroom door fee: 70kr\, 50kr for Cats’ Corner members\nVolunteer for the front desk*: http://catscorner.se/volunteering/\n*Want to help out?\nWe often need help at the front desk.\nFor 30 min of your time\, you’ll receive free entrance for the night.\nThere’s a list at the front desk.\nAnd you can also sign-up in advance here:\nhttp://catscorner.se/volunteering/\n\n*COVID-restrictions in Sweden will be lifted at the 9th of February\, and we will therefore reopen our Wednesday Night Hop.\nStay home if you are feeling ill or have any symptoms.\nIf your not vaccinated it’s still recommended to avoid crowds.\nThis in accordance with the public health agency of Sweden.\nsource: https://www.folkhalsomyndigheten.se/…/de-flesta…/ \nLINDY HOP\nThe main dance on Wednesdays’ is Lindy Hop\, a swing dance originating in the 30-40s in Harlem\, NY. But you are always welcome to dance whatever you like or just hang out\nwww.youtube.com/results?search_query=lindy+hop\nhttps://en.wikipedia.org/wiki/Lindy_Hop \nCATS’ CORNER\nCats’ Corner is a non-profit dance organisation from Malmö. Our main focus is Lindy Hop\, but we gladly also dance Charleston\, Balboa\, Shag\, Blues\, Authentic Jazz and other Swing dances.\nwww.catscorner.se/\n(https://www.heptown.com/organizer/cats-corner/) \nSWING CLASSES?\nThis is also the new home for some of HepTowns weekly classes: Take a look at\nwww.heptown.com/classes/schedule/ \nBEGINNERS WEEKENDS\nThere will be beginners weekends before the ordinary classes start. Registration will open in December and more information will be available before that at\nwww.heptown.com/classes/ \nMORISKA PAVILJONGEN\nMoriska Paviljongen är Malmös största oberoende kultur- och nöjeshus. Moriskan erbjuder Bistro\, Bar\, Kulturprogram och Nattklubb på 4 olika scener i en anrik miljö från 1901. Mer info finns på:\nwww.moriskapaviljongen.se\nwww.facebook.com/moriskapaviljongen\nwww.instagram.com/moriska_paviljongen
URL:https://www.heptown.com/calendar/wednesday-night-hop-27-4/
LOCATION:Moriska Paviljongen\, Norra Parkgatan 2\, Malmö\, 21422\, Sweden
CATEGORIES:Cats' Corner,Lindy Hop,Öresund,Social Dance
ATTACH;FMTTYPE=image/jpeg:https://www.heptown.com/wp-content/uploads/2022/04/25199_image_277675647_487760936252722_1249638742211070711_n.jpg
GEO:55.593854848252;13.013540268126
X-APPLE-STRUCTURED-LOCATION;VALUE=URI;X-ADDRESS=Moriska Paviljongen Norra Parkgatan 2 Malmö 21422 Sweden;X-APPLE-RADIUS=500;X-TITLE=Norra Parkgatan 2:geo:13.013540268126,55.593854848252
END:VEVENT
END:VCALENDAR