BEGIN:VCALENDAR
VERSION:2.0
PRODID:-//HepTown - ECPv6.15.20//NONSGML v1.0//EN
CALSCALE:GREGORIAN
METHOD:PUBLISH
X-WR-CALNAME:HepTown
X-ORIGINAL-URL:https://www.heptown.com
X-WR-CALDESC:Events for HepTown
REFRESH-INTERVAL;VALUE=DURATION:PT1H
X-Robots-Tag:noindex
X-PUBLISHED-TTL:PT1H
BEGIN:VTIMEZONE
TZID:Europe/Stockholm
BEGIN:DAYLIGHT
TZOFFSETFROM:+0100
TZOFFSETTO:+0200
TZNAME:CEST
DTSTART:20200329T010000
END:DAYLIGHT
BEGIN:STANDARD
TZOFFSETFROM:+0200
TZOFFSETTO:+0100
TZNAME:CET
DTSTART:20201025T010000
END:STANDARD
BEGIN:DAYLIGHT
TZOFFSETFROM:+0100
TZOFFSETTO:+0200
TZNAME:CEST
DTSTART:20210328T010000
END:DAYLIGHT
BEGIN:STANDARD
TZOFFSETFROM:+0200
TZOFFSETTO:+0100
TZNAME:CET
DTSTART:20211031T010000
END:STANDARD
BEGIN:DAYLIGHT
TZOFFSETFROM:+0100
TZOFFSETTO:+0200
TZNAME:CEST
DTSTART:20220327T010000
END:DAYLIGHT
BEGIN:STANDARD
TZOFFSETFROM:+0200
TZOFFSETTO:+0100
TZNAME:CET
DTSTART:20221030T010000
END:STANDARD
END:VTIMEZONE
BEGIN:VEVENT
DTSTART;TZID=Europe/Stockholm:20211201T194500
DTEND;TZID=Europe/Stockholm:20211201T230000
DTSTAMP:20260422T160215
CREATED:20211129T084143Z
LAST-MODIFIED:20211201T160620Z
UID:10005605-1638387900-1638399600@www.heptown.com
SUMMARY:Wednesday Night Hop 1/12
DESCRIPTION:Welcome to Cats’ Corners swingin’ Wednesday Night Hop at Moriska Paviljongen. The swinging social dance in Morsikans grand ballroom starts at 7.45 pm. \n\nSocial dance: 19.45-23.00 (Stora salen)\nBallroom door fee: 70kr\, 50kr for Cats’ Corner members\n-Valid covid vaccination certificate is manadatory!*\n-Valid ID\n\n*You can download a covid vaccination certificate here https://www.ehalsomyndigheten.se/covidbevis/ \nAccording to new covid-restrictions from  to The Public Health Agency of Sweden\, vaccination certificate is manadatory for all indoor events with more than 100 participants.\n We as an organizers have decided to implement this use as we are over 100 participants some nights.\nMore info from Public health agency found here (Swedish):\nhttps://www.folkhalsomyndigheten.se/smittskydd-beredskap/utbrott/aktuella-utbrott/covid-19/skydda-dig-och-andra/atgarder-mot-covid-19-fran-22-november-och-fran-1-december/ \nLINDY HOP\nThe main dance on Wednesdays’ is Lindy Hop\, a swing dance originating in the 30-40s in Harlem\, NY. But you are always welcome to dance whatever you like or just hang out\nwww.youtube.com/results?search_query=lindy+hop\nhttps://en.wikipedia.org/wiki/Lindy_Hop \nCATS’ CORNER\nCats’ Corner is a non-profit dance organisation from Malmö. Our main focus is Lindy Hop\, but we gladly also dance Charleston\, Balboa\, Shag\, Blues\, Authentic Jazz and other Swing dances.\nwww.catscorner.se/\n(https://www.heptown.com/organizer/cats-corner/) \nSWING CLASSES?\nThis is also the new home for some of HepTowns weekly classes: Take a look at\nwww.heptown.com/classes/schedule/ \nBEGINNERS WEEKENDS\nThere will be beginners weekends before the ordinary classes start. Registration will open in December and more information will be available before that at\nwww.heptown.com/classes/ \nMORISKA PAVILJONGEN\nMoriska Paviljongen är Malmös största oberoende kultur- och nöjeshus. Moriskan erbjuder Bistro\, Bar\, Kulturprogram och Nattklubb på 4 olika scener i en anrik miljö från 1901. Mer info finns på:\nwww.moriskapaviljongen.se\nwww.facebook.com/moriskapaviljongen\nwww.instagram.com/moriska_paviljongen Visa mindre
URL:https://www.heptown.com/calendar/wednesday-night-hop-1-12/
LOCATION:Moriska Paviljongen\, Norra Parkgatan 2\, Malmö\, 21422\, Sweden
CATEGORIES:Cats' Corner,Lindy Hop,Malmö,Öresund,Social Dance
ATTACH;FMTTYPE=image/jpeg:https://www.heptown.com/wp-content/uploads/2021/11/24119_image_262160807_402874634741353_8576517740612604597_n.jpg
GEO:55.593854848252;13.013540268126
X-APPLE-STRUCTURED-LOCATION;VALUE=URI;X-ADDRESS=Moriska Paviljongen Norra Parkgatan 2 Malmö 21422 Sweden;X-APPLE-RADIUS=500;X-TITLE=Norra Parkgatan 2:geo:13.013540268126,55.593854848252
END:VEVENT
BEGIN:VEVENT
DTSTART;TZID=Europe/Stockholm:20211206T200000
DTEND;TZID=Europe/Stockholm:20211206T220000
DTSTAMP:20260422T160215
CREATED:20211101T161745Z
LAST-MODIFIED:20220301T170429Z
UID:10004996-1638820800-1638828000@www.heptown.com
SUMMARY:Monday Night Swing  Social Dance 6/12
DESCRIPTION:Yes we will swing-out on the big smooth hard wood dance floor in Gasquesalen at Kårhuset in Lund. \nWith the lifted restrictions we can go back to a more normal inclusive social dance where you can ask anyone if they want to dance\, BUT it’s not yet business as usual… \nNOTE!! On November 15th there is no dancing at Kårhuset. There will be a pause or an alternative venue announced shortly before. \ncovid-19 precautions\nIn accordance with the Swedish Public Health Agency’s recommendations for the unvaccinated\, we will only admit the fully vaccinated. With the exception of those who have become immune naturally or have a recent negativ test. \nRespect a no as everyone in not yet comfortable with dancing with many and might want to keep it to one or just a few. \nRead and follow our complete covid guidelines. \nhttps://www.heptown.com/flu/ (English)\nhttps://www.heptown.com/sv/influensa/ (På Svenska) \nPreebook entrance\nhttps://www.heptown.com/monday-night-swing/#book \nSocial swing dance / Swing Practice\n\nOpen: 20-22\nKårhuset\, Gasque salen\, John Ericssons väg 3 (enter through the amphitheater)\nMandatory members fee Fall 2021: 50kr\nPreebooked entrance fee: 70kr / Student 40kr\nSwish/cash at the door 80kr\nDJ: Nisse\n\nRegistration: https://dans.se/heptown/shop/?event=143430 \n\n\nInformation: https://www.heptown.com/monday-night-swing/ \n\nInformation på Svenska: https://www.heptown.com/sv/mandagsswing/ \n\nWe don’t have the same good old deal with Kårhuset. This results in slightly higher entrance fees. We hope the new management will like us and put us back on the old deal so that we can go back to the lower prices… \nLindy Hop Classes Fall 2021\nKårhuset is also the home of some of our classes\, with more classes at Smålands Nation. \nLindy Hop Course Schedule \n \nVolunteer and get in for free\nYou can volunteer at the door for about 1/2 an hour to get in for free. Just ask for Håkan to get more information or email classes@heptown.com \nwww.heptown.com \nhttps://www.heptown.com/monday-night-swing/#book \nBook a ticket\nFacebook-events\nLindy Hop Registration
URL:https://www.heptown.com/calendar/monday-night-swing-social-dance-6-12/
LOCATION:Kårhuset\, John Ericssons väg 3\, Lund\, 22100\, SE
CATEGORIES:Big event,HepTown,Lindy Hop,Lund,Öresund,Social Dance
ATTACH;FMTTYPE=image/jpeg:https://www.heptown.com/wp-content/uploads/2021/11/23912_image_251493088_4810850928933168_8344331155726649302_n.jpg
GEO:55.7122732;13.2092732
X-APPLE-STRUCTURED-LOCATION;VALUE=URI;X-ADDRESS=Kårhuset John Ericssons väg 3 Lund 22100 SE;X-APPLE-RADIUS=500;X-TITLE=John Ericssons väg 3:geo:13.2092732,55.7122732
END:VEVENT
BEGIN:VEVENT
DTSTART;TZID=Europe/Stockholm:20211208T194500
DTEND;TZID=Europe/Stockholm:20211208T230000
DTSTAMP:20260422T160215
CREATED:20211129T084142Z
LAST-MODIFIED:20211208T160619Z
UID:10005604-1638992700-1639004400@www.heptown.com
SUMMARY:Wednesday Night Hop 8/12
DESCRIPTION:Welcome to Cats’ Corners swingin’ Wednesday Night Hop at Moriska Paviljongen. The swinging social dance in Morsikans grand ballroom starts at 7.45 pm. \n\nSocial dance: 19.45-23.00 (Stora salen)\nBallroom door fee: 70kr\, 50kr for Cats’ Corner members\n-Valid covid vaccination certificate is manadatory!*\n-Bring a valid ID\n\n*You can download a covid vaccination certificate here https://www.ehalsomyndigheten.se/covidbevis/ \nAccording to new covid-restrictions according to The Public Health Agency of Sweden\, vaccination certificate is manadatory for all indoor events with more than 100 participants.\n We as an organizers have decided to implement this use as we are over 100 participants some nights.\nMore info from Public Health Agency of Sweden found here:\nhttps://www.folkhalsomyndigheten.se/smittskydd-beredskap/utbrott/aktuella-utbrott/covid-19/skydda-dig-och-andra/atgarder-mot-covid-19-fran-22-november-och-fran-1-december \nLINDY HOP\nThe main dance on Wednesdays’ is Lindy Hop\, a swing dance originating in the 30-40s in Harlem\, NY. But you are always welcome to dance whatever you like or just hang out\nwww.youtube.com/results?search_query=lindy+hop\nhttps://en.wikipedia.org/wiki/Lindy_Hop \nCATS’ CORNER\nCats’ Corner is a non-profit dance organisation from Malmö. Our main focus is Lindy Hop\, but we gladly also dance Charleston\, Balboa\, Shag\, Blues\, Authentic Jazz and other Swing dances.\nwww.catscorner.se/\n(https://www.heptown.com/organizer/cats-corner/) \nSWING CLASSES?\nThis is also the new home for some of HepTowns weekly classes: Take a look at\nwww.heptown.com/classes/schedule/ \nBEGINNERS WEEKENDS\nThere will be beginners weekends before the ordinary classes start. Registration will open in December and more information will be available before that at\nwww.heptown.com/classes/ \nMORISKA PAVILJONGEN\nMoriska Paviljongen är Malmös största oberoende kultur- och nöjeshus. Moriskan erbjuder Bistro\, Bar\, Kulturprogram och Nattklubb på 4 olika scener i en anrik miljö från 1901. Mer info finns på:\nwww.moriskapaviljongen.se\nwww.facebook.com/moriskapaviljongen\nwww.instagram.com/moriska_paviljongen Visa mindre
URL:https://www.heptown.com/calendar/wednesday-night-hop-8-12/
LOCATION:Moriska Paviljongen\, Norra Parkgatan 2\, Malmö\, 21422\, Sweden
CATEGORIES:Cats' Corner,Lindy Hop,Malmö,Öresund,Social Dance
ATTACH;FMTTYPE=image/jpeg:https://www.heptown.com/wp-content/uploads/2021/11/24116_image_262544236_402919441403539_5736497412591733031_n.jpg
GEO:55.593854848252;13.013540268126
X-APPLE-STRUCTURED-LOCATION;VALUE=URI;X-ADDRESS=Moriska Paviljongen Norra Parkgatan 2 Malmö 21422 Sweden;X-APPLE-RADIUS=500;X-TITLE=Norra Parkgatan 2:geo:13.013540268126,55.593854848252
END:VEVENT
BEGIN:VEVENT
DTSTART;TZID=Europe/Stockholm:20211213T200000
DTEND;TZID=Europe/Stockholm:20211213T220000
DTSTAMP:20260422T160215
CREATED:20211105T151420Z
LAST-MODIFIED:20220301T170429Z
UID:10004997-1639425600-1639432800@www.heptown.com
SUMMARY:Monday Night Swing  at Vita Huset 13/12
DESCRIPTION:Tonight\, the 13th of December we swing-out at Vita Huset in Lund. \nVita huset\, Uardavägen 131A\, Lund\nhttps://goo.gl/maps/6nLPepFeofUEPW76A \nParking:\nhttps://www.djingis.se/wp-content/uploads/2019/09/ParkeringVH.png \nWith the lifted restrictions we can go back to a more normal inclusive social dance where you can ask anyone if they want to dance\, BUT it’s not yet business as usual… \ncovid-19 precautions\nIn accordance with the Swedish Public Health Agency’s recommendations for the unvaccinated\, we will only admit the fully vaccinated. With the exception of those who have become immune naturally or have a recent negativ test. \nRespect a no as everyone in not yet comfortable with dancing with many and might want to keep it to one or just a few. \nRead and follow our complete covid guidelines. \nhttps://www.heptown.com/flu/ (English)\nhttps://www.heptown.com/sv/influensa/ (På Svenska) \nPreebook entrance\nhttps://www.heptown.com/monday-night-swing/#book \nSocial swing dance / Swing Practice\n\nOpen: 20-22\nVita huset\, Uardavägen 131A\, Lund\nMap: https://goo.gl/maps/6nLPepFeofUEPW76A\nMandatory members fee Fall 2021: 50kr\nPreebooked entrance fee: 70kr / Student 40kr\nSwish/cash at the door 80kr\nDJ:\n\nRegistration: https://dans.se/heptown/shop/?event=143429 \n\n\nInformation: https://www.heptown.com/monday-night-swing/ \n\nInformation på Svenska: https://www.heptown.com/sv/mandagsswing/ \n\nVolunteer and get in for free\nYou can volunteer at the door for about 1/2 an hour to get in for free. Just ask for Håkan to get more information or email classes@heptown.com \nwww.heptown.com \nhttps://www.heptown.com/monday-night-swing/#book \nBook a ticket\nFacebook-events\nLindy Hop Registration
URL:https://www.heptown.com/calendar/monday-night-swing-at-vita-huset-13-12/
LOCATION:Vita Huset\, Uardavägen 131A\, Lund\, Sweden
CATEGORIES:Big event,HepTown,Lindy Hop,Lund,Öresund,Social Dance
ATTACH;FMTTYPE=image/jpeg:https://www.heptown.com/wp-content/uploads/2021/11/23961_image_253706880_4823975744287353_3640559647199630509_n.jpg
GEO:55.7046601;13.1910073
X-APPLE-STRUCTURED-LOCATION;VALUE=URI;X-ADDRESS=Vita Huset Uardavägen 131A Lund Sweden;X-APPLE-RADIUS=500;X-TITLE=Uardavägen 131A:geo:13.1910073,55.7046601
END:VEVENT
BEGIN:VEVENT
DTSTART;TZID=Europe/Stockholm:20211215T194500
DTEND;TZID=Europe/Stockholm:20211215T230000
DTSTAMP:20260422T160215
CREATED:20211129T084140Z
LAST-MODIFIED:20211215T160612Z
UID:10005603-1639597500-1639609200@www.heptown.com
SUMMARY:Wednesday Night Hop Live\, with Triangelkvartetten on stage
DESCRIPTION:Welcome to Cats’ Corners swingin’ Wednesday Night Hop at Moriska Paviljongen.\nTonight we will have Triangelkvartetten playing for us live! \n\nSocial dance: 19.45-23.00\n-Live on stage: ~20.30\nBallroom door fee: 120kr\, 90kr for Cats’ Corner member’s\n-Valid covid vaccination certificate is manadatory!*\n-Valid ID\n\n*You can download a covid vaccination certificate here https://covidbevis.se/vaccinationsbevis-web/ \nAccording to new covid-restrictions according to The Public Health Agency of Sweden\, vaccination certificate is manadatory for all indoor events with more than 100 participants.\n We as an organizers have decided to implement this use as we are over 100 participants some nights.\nMore info from Public Health Agency of Sweden found here:\nhttps://www.folkhalsomyndigheten.se/smittskydd-beredskap/utbrott/aktuella-utbrott/covid-19/skydda-dig-och-andra/atgarder-mot-covid-19-fran-22-november-och-fran-1-december \nLINDY HOP\nThe main dance on Wednesdays’ is Lindy Hop\, a swing dance originating in the 30-40s in Harlem\, NY. But you are always welcome to dance whatever you like or just hang out\nwww.youtube.com/results?search_query=lindy+hop\nhttps://en.wikipedia.org/wiki/Lindy_Hop \nCATS’ CORNER\nCats’ Corner is a non-profit dance organisation from Malmö. Our main focus is Lindy Hop\, but we gladly also dance Charleston\, Balboa\, Shag\, Blues\, Authentic Jazz and other Swing dances.\nwww.catscorner.se/\n(https://www.heptown.com/calendar/category/organizer/cats-corner/) \nSWING CLASSES?\nThis is also the new home for some of HepTowns weekly classes: Take a look at\nwww.heptown.com/classes/schedule/ \nBEGINNERS WEEKENDS\nThere will be several beginners weekends during the semester\nwww.heptown.com/classes/ \nMORISKA PAVILJONGEN\nMoriska Paviljongen är Malmös största oberoende kultur- och nöjeshus. Moriskan erbjuder Bistro\, Bar\, Kulturprogram och Nattklubb på 4 olika scener i en anrik miljö från 1901. Mer info finns på:\nwww.moriskapaviljongen.se\nwww.facebook.com/moriskapaviljongen\nwww.instagram.com/moriska_paviljongen
URL:https://www.heptown.com/calendar/wednesday-night-hop-live-with-triangelkvartetten-on-stage/
LOCATION:Moriska Paviljongen\, Norra Parkgatan 2\, Malmö\, 21422\, Sweden
CATEGORIES:Beginners' Lindy Hop Class,Big event,Cats' Corner,Lindy Hop,Malmö,Öresund,Social Dance
ATTACH;FMTTYPE=image/jpeg:https://www.heptown.com/wp-content/uploads/2021/11/24113_image_262119806_402920508070099_7529995341685183497_n.jpg
GEO:55.593854848252;13.013540268126
X-APPLE-STRUCTURED-LOCATION;VALUE=URI;X-ADDRESS=Moriska Paviljongen Norra Parkgatan 2 Malmö 21422 Sweden;X-APPLE-RADIUS=500;X-TITLE=Norra Parkgatan 2:geo:13.013540268126,55.593854848252
END:VEVENT
BEGIN:VEVENT
DTSTART;TZID=Europe/Stockholm:20211220T180000
DTEND;TZID=Europe/Stockholm:20211220T220000
DTSTAMP:20260422T160215
CREATED:20211123T094459Z
LAST-MODIFIED:20220301T170429Z
UID:10005601-1640023200-1640037600@www.heptown.com
SUMMARY:CANCELLED! Monday Night Swing
DESCRIPTION:Monday Night Swing the 20th of December is cancelled\, but we will be back the 10th of January at Mejeriet and at Kårhuset the 17th…. \n\nAt the last Monday Night Swing this year we kick off the evening with a 1h beginners lindy hop class 18:15-19:15.\nAfter that there is a social dance with a swing DJ until 22.\nhttps://www.heptown.com/monday-night-swing/#book \nWith the lifted restrictions we can go back to a more normal inclusive social dance where you can ask anyone if they want to dance\, BUT it’s not yet business as usual… \nNOTE!! On November 15th there is no dancing at Kårhuset. There will be a pause or an alternative venue announced shortly before. \ncovid-19 precautions\nIn accordance with the Swedish Public Health Agency’s recommendations for the unvaccinated\, we will only admit the fully vaccinated. With the exception of those who have become immune naturally or have a recent negativ test. \nRespect a no as everyone in not yet comfortable with dancing with many and might want to keep it to one or just a few. \nRead and follow our complete covid guidelines. \nhttps://www.heptown.com/flu/ (English)\nhttps://www.heptown.com/sv/influensa/ (På Svenska) \nPreebook entrance\nhttps://www.heptown.com/monday-night-swing/#book \nSocial swing dance / Swing Practice\n\nOpen: 18-22\nBeginners Lindy Hop class: 18:15-19:15\nSwingDJ: 19.15-22.00\nKårhuset\, Gasque salen\, John Ericssons väg 3 (enter through the amphitheater)\n\nPreebooked entrance fee: 70kr / Student 40kr \n\nSwish/cash at the door 80kr\n\nDJ: \n\n\nRegistration: https://dans.se/heptown/shop/?event=144919 \n\n\nInformation: https://www.heptown.com/monday-night-swing/ \n\nInformation på Svenska: https://www.heptown.com/sv/mandagsswing/ \n\nWe don’t have the same good old deal with Kårhuset. This results in slightly higher entrance fees. We hope the new management will like us and put us back on the old deal so that we can go back to the lower prices… \nLindy Hop Classes Fall 2021\nKårhuset is also the home of some of our classes\, with more classes at Smålands Nation. \nLindy Hop Course Schedule \n \nVolunteer and get in for free\nYou can volunteer at the door for about 1/2 an hour to get in for free. Just ask for Håkan to get more information or email classes@heptown.com \nwww.heptown.com \nhttps://www.heptown.com/monday-night-swing/#book \nBook a ticket\nFacebook-events\nLindy Hop Registration
URL:https://www.heptown.com/calendar/monday-night-swing-beginners-lindy-hop-class/
LOCATION:Kårhuset\, John Ericssons väg 3\, Lund\, 22100\, SE
CATEGORIES:Beginner,Beginners' Lindy Hop Class,Big event,HepTown,Lindy Hop,Lund,Öresund,Social Dance
ATTACH;FMTTYPE=image/jpeg:https://www.heptown.com/wp-content/uploads/2021/11/24079_image_260343646_4885407988144128_8817237650809801259_n.jpg
GEO:55.7122732;13.2092732
X-APPLE-STRUCTURED-LOCATION;VALUE=URI;X-ADDRESS=Kårhuset John Ericssons väg 3 Lund 22100 SE;X-APPLE-RADIUS=500;X-TITLE=John Ericssons väg 3:geo:13.2092732,55.7122732
END:VEVENT
BEGIN:VEVENT
DTSTART;TZID=Europe/Stockholm:20211222T194500
DTEND;TZID=Europe/Stockholm:20211222T230000
DTSTAMP:20260422T160215
CREATED:20211129T084139Z
LAST-MODIFIED:20211222T160616Z
UID:10005602-1640202300-1640214000@www.heptown.com
SUMMARY:CANCELLED! Wednesday Night Hop 22/12
DESCRIPTION:** CANCELLED ** CANCELLED ** CANCELLED ** CANCELLED ** \nMed hänsyn till de nya restriktionerna är kvällens dans inställd \n** CANCELLED ** CANCELLED ** CANCELLED ** CANCELLED ** \nWelcome to Cats’ Corners swingin’ Wednesday Night Hop at Moriska Paviljongen. The swinging social dance in Morsikans grand ballroom starts at 7.45 pm. \n\nSocial dance: 19.45-23.00 (Stora salen)\nBallroom door fee: 70kr\, 50kr for Cats’ Corner members\n-Valid covid vaccination certificate is manadatory!*\n-bring a valid ID\n\n*You can download a covid vaccination certificate here https://www.ehalsomyndigheten.se/covidbevis/ \nAccording to new covid-restrictions according to The Public Health Agency of Sweden\, vaccination certificate is manadatory for all indoor events with more than 100 participants.\n We as an organizers have decided to implement this use as we are over 100 participants some nights.\nMore info from Public Health Agency of Sweden found here:\nhttps://www.folkhalsomyndigheten.se/smittskydd-beredskap/utbrott/aktuella-utbrott/covid-19/skydda-dig-och-andra/atgarder-mot-covid-19-fran-22-november-och-fran-1-december \nLINDY HOP\nThe main dance on Wednesdays’ is Lindy Hop\, a swing dance originating in the 30-40s in Harlem\, NY. But you are always welcome to dance whatever you like or just hang out\nwww.youtube.com/results?search_query=lindy+hop\nhttps://en.wikipedia.org/wiki/Lindy_Hop \nCATS’ CORNER\nCats’ Corner is a non-profit dance organisation from Malmö. Our main focus is Lindy Hop\, but we gladly also dance Charleston\, Balboa\, Shag\, Blues\, Authentic Jazz and other Swing dances.\nwww.catscorner.se/\n(https://www.heptown.com/organizer/cats-corner/) \nSWING CLASSES?\nThis is also the new home for some of HepTowns weekly classes: Take a look at\nwww.heptown.com/classes/schedule/ \nBEGINNERS WEEKENDS\nThere will be beginners weekends before the ordinary classes start. Registration will open in December and more information will be available before that at\nwww.heptown.com/classes/ \nMORISKA PAVILJONGEN\nMoriska Paviljongen är Malmös största oberoende kultur- och nöjeshus. Moriskan erbjuder Bistro\, Bar\, Kulturprogram och Nattklubb på 4 olika scener i en anrik miljö från 1901. Mer info finns på:\nwww.moriskapaviljongen.se\nwww.facebook.com/moriskapaviljongen\nwww.instagram.com/moriska_paviljongen Visa mindre
URL:https://www.heptown.com/calendar/wednesday-night-hop-22-12/
LOCATION:Moriska Paviljongen\, Norra Parkgatan 2\, Malmö\, 21422\, Sweden
CATEGORIES:Cats' Corner,Lindy Hop,Malmö,Öresund,Social Dance
ATTACH;FMTTYPE=image/jpeg:https://www.heptown.com/wp-content/uploads/2021/11/24110_image_262222702_402921174736699_1537643706886421050_n.jpg
GEO:55.593854848252;13.013540268126
X-APPLE-STRUCTURED-LOCATION;VALUE=URI;X-ADDRESS=Moriska Paviljongen Norra Parkgatan 2 Malmö 21422 Sweden;X-APPLE-RADIUS=500;X-TITLE=Norra Parkgatan 2:geo:13.013540268126,55.593854848252
END:VEVENT
END:VCALENDAR