BEGIN:VCALENDAR
VERSION:2.0
PRODID:-//HepTown - ECPv6.15.20//NONSGML v1.0//EN
CALSCALE:GREGORIAN
METHOD:PUBLISH
X-WR-CALNAME:HepTown
X-ORIGINAL-URL:https://www.heptown.com
X-WR-CALDESC:Events for HepTown
REFRESH-INTERVAL;VALUE=DURATION:PT1H
X-Robots-Tag:noindex
X-PUBLISHED-TTL:PT1H
BEGIN:VTIMEZONE
TZID:Europe/Stockholm
BEGIN:DAYLIGHT
TZOFFSETFROM:+0100
TZOFFSETTO:+0200
TZNAME:CEST
DTSTART:20200329T010000
END:DAYLIGHT
BEGIN:STANDARD
TZOFFSETFROM:+0200
TZOFFSETTO:+0100
TZNAME:CET
DTSTART:20201025T010000
END:STANDARD
BEGIN:DAYLIGHT
TZOFFSETFROM:+0100
TZOFFSETTO:+0200
TZNAME:CEST
DTSTART:20210328T010000
END:DAYLIGHT
BEGIN:STANDARD
TZOFFSETFROM:+0200
TZOFFSETTO:+0100
TZNAME:CET
DTSTART:20211031T010000
END:STANDARD
BEGIN:DAYLIGHT
TZOFFSETFROM:+0100
TZOFFSETTO:+0200
TZNAME:CEST
DTSTART:20220327T010000
END:DAYLIGHT
BEGIN:STANDARD
TZOFFSETFROM:+0200
TZOFFSETTO:+0100
TZNAME:CET
DTSTART:20221030T010000
END:STANDARD
END:VTIMEZONE
BEGIN:VEVENT
DTSTART;TZID=Europe/Stockholm:20210612T100000
DTEND;TZID=Europe/Stockholm:20210612T150000
DTSTAMP:20260422T123149
CREATED:20210305T085335Z
LAST-MODIFIED:20210612T085349Z
UID:10005551-1623492000-1623510000@www.heptown.com
SUMMARY:Record Store Day 2021
DESCRIPTION:Record Store Day 2021 that will take the form of RSD drops on June 12th and July 17th. \nDepending on the situation the store will be open and  there might also be live music outside… \n\nOpen: 10-15\nEntrance fee: Free\nHepCat Store\, Sankt Larsv 21\, Luns\, SE\nMore in store events: www.hepcat.se/brands/hepcat-store\nContact\, maps and bus routes: www.hepcat.se/contact-us \nGet the RSD records: www.hepcat.se/rsd\n\nLIVE DROP 1\n t.b.a. \nNew RSD drops in the store for each date\, live music outside and great burgers from Garagebar on the other side of the parking lot. \nRSD record releases will first be available in the physical store during the event and then soon after online at www.hepcat.se \nAs always in these times IMPORTANT that we manage distance and other things to stay safe! \nwww.hepcat.se \n·−− · ·−·· −·−· −−− −− ·  − −−−  ···· · ·−−· −·−· ·− −  ··· − −−− ·−· · −·−·−− \nWant to play at HepCat Store? Send an email to info@hepcat.se \nMore HepCat Store events\nThe Barber at HepCat Store\nHepCat Day 2020 \nwww.hepcat.se/rsd\nwww.hepcat.se \n·−− · ·−·· −·−· −−− −− ·  − −−−  ···· · ·−−· −·−· ·− −  ··· − −−− ·−· · −·−·−− \nHEPCAT STORE\nSankt Lars väg 21\n222 70 Lund\, Sweden.\nwww.hepcat.se/contact-us \n·−− · ·−·· −·−· −−− −− ·  − −−−  ···· · ·−−· −·−· ·− −  ··· − −−− ·−· · −·−·−− \n#recordstoreday #recordstorday2021 #rsd #hepcatstore
URL:https://www.heptown.com/calendar/record-store-day-2021/
LOCATION:HepCat Store\, Sankt Lars väg 21\, Lund\, 22270\, SE
ATTACH;FMTTYPE=image/jpeg:https://www.heptown.com/wp-content/uploads/2021/03/22057_image_156736368_10158255200228951_8340250533910990164_n.jpg
GEO:55.6849678;13.1810689
X-APPLE-STRUCTURED-LOCATION;VALUE=URI;X-ADDRESS=HepCat Store Sankt Lars väg 21 Lund 22270 SE;X-APPLE-RADIUS=500;X-TITLE=Sankt Lars väg 21:geo:13.1810689,55.6849678
END:VEVENT
BEGIN:VEVENT
DTSTART;TZID=Europe/Stockholm:20210616T183000
DTEND;TZID=Europe/Stockholm:20210616T210000
DTSTAMP:20260422T123149
CREATED:20210525T103437Z
LAST-MODIFIED:20210618T161547Z
UID:10004938-1623868200-1623877200@www.heptown.com
SUMMARY:Swing in the park Premiere
DESCRIPTION:Yes\, HepTown and Visit Lund invites you to swing in the park every Wednesday from the 16th of June  to the 4th of August. \nWe take this opportunity to work on our solo swing dance. An important and fun part of becoming an excellent Lindy Hopper. \nHOURS\n\nOpen: 18.30 – 21.00\nCost: Free*\nEasy solo dance class: Shim Sham\, 18:30-19:20\nChallenging solo danse class: Shim Sham Styling\, 19:30-20:30 \nTeacher: t.b.a\nSwing DJ: 20.30-21:00**\nSchedule: bit.ly/swingitp\n\n*As part of Sommarlund this is a free event but you are very welcome to support us by becoming a HepCat member.  \nClub HepCat Member \n \n** For the swing DJ set you are welcome to solo dance or social dance with 1 fixed partner. No switching partners until most of us are vaccinated. \nIn the autumn\, when we are vaccinated\, we will go back to the normal state where everyone just dances with everyone. \n50 PEOPLE LIMIT\nTo ensure that we are a maximum of 50 people inside the fences around the dance floor\, SommarLund has extra staff on site to hand out 50 tags (Dansband). When you go home (or take a longer break) you leave your tag which is then disinfected. There are extra tags to be handed out while the disinfected ones are left to dry. \nIS THIS REALLY A GOOD IDEA!?\nIt will not be business as usual. We strive to follow and surpass guidelines and recommendations. \nSome examples of measurements: \n\nMore authentic jazz solo dance classes instead of just coupled Lindy Hop.\nBeginners Lindy Hop without rotating partner.\nNo traditional social dance where everyone dances with everyone  \nFenced dance area with a limit of 50 people at once\n\nMORE THAN DANCING\nThis is also a good time to have picnic or barbecue while keeping good distance\, play some games or just lounging in the sun. \nLOCATION\nThe dance-floor will be located at Stadsparken in Lund. Close to  Söderlyckan Skateboardpark Lund and Mejeriet. Map: https://goo.gl/maps/f2UPVyj2Kdq1XGfY6 \nSTAY HYDRATED\nBring your own water bottle that can be refilled outside the toilets opposite the skate park. https://goo.gl/maps/RfmjSwmHGfT7prkt9 \nSWING DANCE TASTER CLASS\nThe evenings used to always start with a short taster class in Lindy Hop aka jitterbug \, an African American couple dance from the ’30s Harlem and we will still do this the evenings in July but without rotating partners. Most other evenings we will teach Tap or Authentic jazz solo dance classes instead. Authentic Jazz is a big part of the Lindy Hop scene and a really good way to get your body moving and feel the rhythm… \nwww.heptown.com\nwww.sommarlund.se/\nwww.facebook.com/SwinginHepTown/events \nWHAT ABOUT ALL THE OTHER SWING DANCE EVENTS AND CLASSES!?\nAll un finished classes from last fall have new preliminary dates in the schedule\, some even have spots left and new beginners weekends have been added including a summer weekend. We also plan to offer a full new Fall semester starting in October with details t.b.a. in July… \nLindy Hop Course Schedule
URL:https://www.heptown.com/calendar/swing-in-the-park-premiere-2/
CATEGORIES:Beginner,Big event,HepTown,Lindy Hop,Lund,Öresund,Social Dance,Solo Jazz - Authentic Jazz - Solo Rutinens
ATTACH;FMTTYPE=image/jpeg:https://www.heptown.com/wp-content/uploads/2021/05/22471_image_190518417_4314341135250819_8313647897177291141_n.jpg
END:VEVENT
BEGIN:VEVENT
DTSTART;TZID=Europe/Stockholm:20210623T183000
DTEND;TZID=Europe/Stockholm:20210623T210000
DTSTAMP:20260422T123149
CREATED:20210615T172717Z
LAST-MODIFIED:20210623T161700Z
UID:10005552-1624473000-1624482000@www.heptown.com
SUMMARY:Swing in the park 23/6 20's Charleston
DESCRIPTION:The 2nd occasion where HepTown and Visit Lund invites you to swing in the park every Wednesday from the 16th of June  to the 4th of August. \nTonight it’s 20’s Charleston for beginners at 6:30 pm and for more experienced dancers at 7:30 pm. \nBe on time! There is no registration but still a 50 person limit on the dance floors to keep it safe. \nHOURS\n\nOpen: 18.30 – 21.00\nCost: Free*\nEasy solo dance class: Johannas Charleston (solo) \, 18:30-19:20\nChallenging Charleston  class:\, 19:30-20:30 \nTeacher: t.b.a\nSwing DJ: 20.30-21:00**\nSchedule: bit.ly/swingitp\n\n*As part of Sommarlund this is a free event but you are very welcome to support us by becoming a HepCat member.  \nClub HepCat Member \n \n** For the swing DJ set you are welcome to solo dance or social dance with 1 fixed partner. No switching partners until most of us are vaccinated. \nIn the autumn\, when we are vaccinated\, we will go back to the normal state where everyone just dances with everyone. \n50 PEOPLE LIMIT\nTo ensure that we are a maximum of 50 people inside the fences around the dance floor\, SommarLund has extra staff on site to hand out 50 tags (Dansband). When you go home (or take a longer break) you leave your tag which is then disinfected. There are extra tags to be handed out while the disinfected ones are left to dry. \nIS THIS REALLY A GOOD IDEA!?\nIt will not be business as usual. We strive to follow and surpass guidelines and recommendations. \nSome examples of measurements: \n\nMore authentic jazz solo dance classes instead of just coupled Lindy Hop.\nBeginners Lindy Hop without rotating partner.\nNo traditional social dance where everyone dances with everyone  \nFenced dance area with a limit of 50 people at once\n\nMORE THAN DANCING\nThis is also a good time to have picnic or barbecue while keeping good distance\, play some games or just lounging in the sun. \nLOCATION\nThe dance-floor will be located at Stadsparken in Lund. Close to  Söderlyckan Skateboardpark Lund and Mejeriet. Map: https://goo.gl/maps/f2UPVyj2Kdq1XGfY6 \nSTAY HYDRATED\nBring your own water bottle that can be refilled outside the toilets opposite the skate park. https://goo.gl/maps/RfmjSwmHGfT7prkt9 \nSWING DANCE TASTER CLASS\nThe evenings used to always start with a short taster class in Lindy Hop aka jitterbug \, an African American couple dance from the ’30s Harlem and we will still do this the evenings in July but without rotating partners. Most other evenings we will teach Tap or Authentic jazz solo dance classes instead. Authentic Jazz is a big part of the Lindy Hop scene and a really good way to get your body moving and feel the rhythm… \nwww.heptown.com\nwww.sommarlund.se/\nwww.facebook.com/SwinginHepTown/events \nWHAT ABOUT ALL THE OTHER SWING DANCE EVENTS AND CLASSES!?\nAll un finished classes from last fall have new preliminary dates in the schedule\, some even have spots left and new beginners weekends have been added including a summer weekend. We also plan to offer a full new Fall semester starting in October with details t.b.a. in July… \nLindy Hop Course Schedule
URL:https://www.heptown.com/calendar/swing-in-the-park-23-6/
CATEGORIES:Beginner,Big event,HepTown,Lindy Hop,Lund,Öresund,Social Dance,Solo Jazz - Authentic Jazz - Solo Rutinens
ATTACH;FMTTYPE=image/jpeg:https://www.heptown.com/wp-content/uploads/2021/06/22667_image_199124066_4378775355474063_8868273177316351214_n.jpg
END:VEVENT
BEGIN:VEVENT
DTSTART;TZID=Europe/Stockholm:20210627T150000
DTEND;TZID=Europe/Stockholm:20210627T170000
DTSTAMP:20260422T123149
CREATED:20210618T161940Z
LAST-MODIFIED:20210627T155004Z
UID:10005557-1624806000-1624813200@www.heptown.com
SUMMARY:Midsommarswing med Swing Street Trio
DESCRIPTION:FULLBOKAT! Picknickkonsert på dansbanan – medtag egen picknick. Pris 150 kr. Bokning sker via mail till theswingstreetorchestra@gmail.com\nPris 120 kr om du kommer till fots eller cyklar. \nSwing Street Trio med LinaMaria Bengtsson på sång\, Nick Christie på gitarr och Jens Lindström på bas spelar jazzklassiker med engelska och svenska texter i lekfulla arrangemang. \nEtt tips för den utomsocknes är att ta tåget till Tjörnarps station och cykla 7 km på trevlig grusväg.
URL:https://www.heptown.com/calendar/midsommarswing-med-swing-street-trio/
CATEGORIES:Big event,Lindy Hop,Öresund
ATTACH;FMTTYPE=image/jpeg:https://www.heptown.com/wp-content/uploads/2021/06/22750_image_201266531_188028133328326_2090244922546428912_n.jpg
END:VEVENT
BEGIN:VEVENT
DTSTART;TZID=Europe/Stockholm:20210630T183000
DTEND;TZID=Europe/Stockholm:20210630T210000
DTSTAMP:20260422T123149
CREATED:20210616T133446Z
LAST-MODIFIED:20210630T161627Z
UID:10005553-1625077800-1625086800@www.heptown.com
SUMMARY:Swing in the park 30/6 Do the twist & Beginners Solo Lindy
DESCRIPTION:Lindy Hop is a couple dance but in tonight’s beginners class we will work on it solo without a partner. Have fun\, get your feet moving and your body bouncing in preperation for next week when we couple up and dance with a partner. \nLater we got a lovely twist solo dance routine to Sam Cook’s “Twisting The Night Away” choreographed by the amazing Sharon Davis. \nYou can’t book a spot on this evening. Just show up early and grab one of the 50 spots… \nHOURS\n\nOpen: 18.30 – 21.00\nCost: Free*\nEasy solo dance class: t.b.a\, 18:30-19:20\nChallenging solo dance class: Do the twist! 19:30-20:30 \nTeacher: t.b.a\nSwing DJ: 20.30-21:00**\nSchedule: bit.ly/swingitp\n\n*As part of Sommarlund this is a free event but you are very welcome to support us by becoming a HepCat member.  \nClub HepCat Member \n \n** For the swing DJ set you are welcome to solo dance or social dance with 1 fixed partner. No switching partners until most of us are vaccinated. \nIn the autumn\, when we are vaccinated\, we will go back to the normal state where everyone just dances with everyone. \n50 PEOPLE LIMIT\nTo ensure that we are a maximum of 50 people inside the fences around the dance floor\, SommarLund has extra staff on site to hand out 50 tags (Dansband). When you go home (or take a longer break) you leave your tag which is then disinfected. There are extra tags to be handed out while the disinfected ones are left to dry. \nIS THIS REALLY A GOOD IDEA!?\nIt will not be business as usual. We strive to follow and surpass guidelines and recommendations. \nSome examples of measurements: \n\nMore authentic jazz solo dance classes instead of just coupled Lindy Hop.\nBeginners Lindy Hop without rotating partner.\nNo traditional social dance where everyone dances with everyone  \nFenced dance area with a limit of 50 people at once\n\nMORE THAN DANCING\nThis is also a good time to have picnic or barbecue while keeping good distance\, play some games or just lounging in the sun. \nLOCATION\nThe dance-floor will be located at Stadsparken in Lund. Close to  Söderlyckan Skateboardpark Lund and Mejeriet. Map: https://goo.gl/maps/f2UPVyj2Kdq1XGfY6 \nSTAY HYDRATED\nBring your own water bottle that can be refilled outside the toilets opposite the skate park. https://goo.gl/maps/RfmjSwmHGfT7prkt9 \nSWING DANCE TASTER CLASS\nThe evenings used to always start with a short taster class in Lindy Hop aka jitterbug \, an African American couple dance from the ’30s Harlem and we will still do this the evenings in July but without rotating partners. Most other evenings we will teach Tap or Authentic jazz solo dance classes instead. Authentic Jazz is a big part of the Lindy Hop scene and a really good way to get your body moving and feel the rhythm… \nwww.heptown.com\nwww.sommarlund.se/\nwww.facebook.com/SwinginHepTown/events \nWHAT ABOUT ALL THE OTHER SWING DANCE EVENTS AND CLASSES!?\nAll un finished classes from last fall have new preliminary dates in the schedule\, some even have spots left and new beginners weekends have been added including a summer weekend. We also plan to offer a full new Fall semester starting in October with details t.b.a. in July… \nLindy Hop Course Schedule
URL:https://www.heptown.com/calendar/swing-in-the-park-30-6/
CATEGORIES:Beginner,Big event,HepTown,Lindy Hop,Lund,Öresund,Social Dance,Solo Jazz - Authentic Jazz - Solo Rutinens
ATTACH;FMTTYPE=image/jpeg:https://www.heptown.com/wp-content/uploads/2021/06/22674_image_201358131_4380282008656731_7351064340990210545_n.jpg
END:VEVENT
END:VCALENDAR