BEGIN:VCALENDAR
VERSION:2.0
PRODID:-//HepTown - ECPv6.15.20//NONSGML v1.0//EN
CALSCALE:GREGORIAN
METHOD:PUBLISH
X-WR-CALNAME:HepTown
X-ORIGINAL-URL:https://www.heptown.com
X-WR-CALDESC:Events for HepTown
REFRESH-INTERVAL;VALUE=DURATION:PT1H
X-Robots-Tag:noindex
X-PUBLISHED-TTL:PT1H
BEGIN:VTIMEZONE
TZID:Europe/Stockholm
BEGIN:DAYLIGHT
TZOFFSETFROM:+0100
TZOFFSETTO:+0200
TZNAME:CEST
DTSTART:20250330T010000
END:DAYLIGHT
BEGIN:STANDARD
TZOFFSETFROM:+0200
TZOFFSETTO:+0100
TZNAME:CET
DTSTART:20251026T010000
END:STANDARD
BEGIN:DAYLIGHT
TZOFFSETFROM:+0100
TZOFFSETTO:+0200
TZNAME:CEST
DTSTART:20260329T010000
END:DAYLIGHT
BEGIN:STANDARD
TZOFFSETFROM:+0200
TZOFFSETTO:+0100
TZNAME:CET
DTSTART:20261025T010000
END:STANDARD
BEGIN:DAYLIGHT
TZOFFSETFROM:+0100
TZOFFSETTO:+0200
TZNAME:CEST
DTSTART:20270328T010000
END:DAYLIGHT
BEGIN:STANDARD
TZOFFSETFROM:+0200
TZOFFSETTO:+0100
TZNAME:CET
DTSTART:20271031T010000
END:STANDARD
END:VTIMEZONE
BEGIN:VEVENT
DTSTART;TZID=Europe/Stockholm:20260523T080000
DTEND;TZID=Europe/Stockholm:20260523T170000
DTSTAMP:20260421T194928
CREATED:20260409T131526Z
LAST-MODIFIED:20260409T132115Z
UID:10006545-1779523200-1779555600@www.heptown.com
SUMMARY:SWING HELSINGBORG DANCE NIGHT April 11 & May 23
DESCRIPTION:De mest svängiga låtarna kommer att vara på från kl19:00 till 21:00. Ta på dig Lindy-kläderna\, snöra på dig skorna och gör dig redo att dansa!\nSnack och dryck kan köpas på @fahlmanskonditori .\n🎁Natten är kostnadsfri och öppen för alla! Glöm bara inte att stödja baren genom att beställa något under kvällen.\nMer Swing\, mer lycka!\n—\nThe most swinging tunes will be on from 19:00 to 21:00. Put your Lindy clothes on\, lace up your shoes and get ready to dance!\nSnacks and drinks can be bought at Fahlmans konditori.\n🎁The night is free of charge and open to all. Just do not forget to support the bar.\nMore Swing\, more happiness! \nhttps://www.facebook.com/events/1271735328222903/?event_time_id=1271736521556117
URL:https://www.heptown.com/calendar/swing-helsingborg-dance-night-nr1314/2026-05-23/
LOCATION:Fahlmans Konditori\, Fahlmans Konditori
CATEGORIES:Helsingborg,Social Dance
END:VEVENT
BEGIN:VEVENT
DTSTART;TZID=Europe/Stockholm:20260525T180000
DTEND;TZID=Europe/Stockholm:20260525T220000
DTSTAMP:20260421T194928
CREATED:20260410T083516Z
LAST-MODIFIED:20260410T083516Z
UID:10006546-1779732000-1779746400@www.heptown.com
SUMMARY:GRAND SEASON FINALE: Monday Night Swing | BBQ & Dance 25/5
DESCRIPTION:English below \nDet är dags för årets stora säsongsfinal på Kårhuset! Vi firar av en fantastisk termin med extra mycket dans\, gemenskap och sommarvibbar. Denna kväll öppnar vi dörrarna redan kl. 18:00 för att njuta av kvällssolen tillsammans. \n🔥 BYO BBQ (Bring Your Own BBQ) – Från kl. 18:00\nVi startar kvällen med grillning utanför Kårhuset! Ta med dig det du vill äta och dricka\, så fixar vi glöden och den goda stämningen. Ett perfekt tillfälle att hänga med alla dansvänner innan vi intar dansgolvet. \n💃 SOCIALDANS – Kl. 19:30 – 22:00\nEfter grillningen flyttar vi in i Gasquesalen för terminens sista Monday Night Swing. \n⏰ Tid: Måndag 25 maj\, kl. 18:00 – 22:00 (Socialdans från ca 19:00)\n📍 Plats: Gasquesalen\, Kårhuset vid LTH (John Ericssons väg 3\, Lund).\n🎟️ Pris: 80 kr drop-in (Swish). För rabatt (medlem/student/ungdom/arbetslös)\, föranmäl och betala via länken nedan. \n👉 Säkra din plats till finalen här:\nhttps://dans.se/heptown/shop/?event=271855&lang=sv \n\nGRAND SEASON FINALE & BYO BBQ!\nIt’s time to wrap up a fantastic season at Kårhuset! We’re celebrating with extra dance time\, great vibes\, and our traditional season-ending BBQ. \n🔥 BYO BBQ (Bring Your Own BBQ) – From 18:00\nWe start the evening outside Kårhuset. Bring whatever you want to eat and drink\, and we’ll provide the grill and the company. A perfect way to hang out before hitting the floor! \n💃 SOCIAL DANCE – 19:30 – 22:00\nAfter the BBQ\, we move into Gasquesalen for the final Monday Night Swing of the term\, keeping the floor burning until 22:00! \n⏰ Time: Monday\, May 25th\, 18:00 – 22:00 (Dance starts around 19:00)\n📍 Location: Gasquesalen\, Kårhuset at LTH (John Ericssons väg 3\, Lund).\n🎟️ Price: 80 SEK drop-in (Swish). For discounts\, pre-register and pay via the link below. \n👉 Secure your spot for the finale here:\nhttps://dans.se/heptown/shop/?event=271855&lang=en \n#lund #lindyhop #seasonfinale #socialdance #bbq #swingdance #heptown #kårhuset
URL:https://www.heptown.com/calendar/grand-season-finale-monday-night-swing-bbq-dance-25-5/
LOCATION:Gasquesalen
CATEGORIES:Big event,HepTown,Lindy Hop,Lund,Monday Night Swing,Öresund,Social Dance,Student Discount / Studentrabatt
ATTACH;FMTTYPE=image/jpeg:https://www.heptown.com/wp-content/uploads/2026/04/36992_image_670835507_1599480285520795_3128335386965866019_n.jpg
END:VEVENT
BEGIN:VEVENT
DTSTART;TZID=Europe/Stockholm:20260527T180000
DTEND;TZID=Europe/Stockholm:20260527T191500
DTSTAMP:20260421T194928
CREATED:20260319T164411Z
LAST-MODIFIED:20260319T164759Z
UID:10006527-1779904800-1779909300@www.heptown.com
SUMMARY:🪄Alice in Vintageland🎶
DESCRIPTION:✨ VÄRLDSPREMIÄR 27 MAJ – ALICE IN VINTAGELAND ✨ \n⏰🐇🎭💃🏼🃏👑🎶🪄🦩 \nVälkommen till en gnistrande\, jazzig resa genom tid och fantasi! Alice in Vintageland är en färgsprakande dansmusikal och vintage varieté i ett – där Lindy Hop\, Charleston\, Blues och autentisk jazz möter den klassiska sagan i ett vibrerande 1920-tal. \nFölj med Alice på ett magiskt äventyr till ett New Orleans fyllt av rytm\, karaktärer och överraskningar. En föreställning om mod\, självkänsla och att bli sin egen bästa vän – berättad genom dans\, humor\, musik och visuell magi. 🎩👯‍♀️ \n💫 En energifylld show för hela familjen\n⏱ Längd: 75 minuter\n🎟 Pris: 200 kr\n💃 För 250 kr får du även inträde till dansen samma kväll! \nTa med hela släkten\, alla vänner och kollegor och upplev en härlig vårshow du sent kommer glömma! \n🌟 MEDVERKANDE:\nRebecka DecaVita\nCharlie DecaVita\nLinaMaria Bengtsson\nMattias Bruzelius\nVivien Nivesse\nPhilippa Svensson \n✨ Producerad av DecaVita Sisters \n🎶 Missa inte premiären!!!
URL:https://www.heptown.com/calendar/%f0%9f%aa%84alice-in-vintageland%f0%9f%8e%b6/
LOCATION:Moriska Paviljongen\, Norra Parkgatan 2\, Malmö\, 21422\, SE
CATEGORIES:Aerials,Big event,Lindy Hop,Malmö,Öresund
ATTACH;FMTTYPE=image/jpeg:https://www.heptown.com/wp-content/uploads/2026/03/Alice-in-vintage-land.jpg
END:VEVENT
BEGIN:VEVENT
DTSTART;TZID=Europe/Stockholm:20260601T180000
DTEND;TZID=Europe/Stockholm:20260601T210000
DTSTAMP:20260421T194928
CREATED:20260410T111739Z
LAST-MODIFIED:20260410T113154Z
UID:10006548-1780336800-1780347600@www.heptown.com
SUMMARY:Unofficial swingin’ picknick & social dance in Nobelparken 1/6
DESCRIPTION:The spring semester at Kårhuset is over\, but we’re not done dancing yet! We’re extending the season with a spontaneous swingin’ picnic and social dance at Dansön in Nobelparken. \nThis evening is free and open to everyone! Bring a blanket\, your dancing shoes\, and something tasty to eat. While the dance floor itself can’t be reserved\, it’s usually free for use. \nWe’ll see you from 6 p.m.\, but please feel free to come earlier (or drop in later). Håkan brings a small speaker and a playlist\, but it’s free for others to help out and decide on the music and take over the DJing for a while. If you want to dance before Håkan gets there\, the big white box is a Bluetooth speaker. There’s also a megaphone that you can put your phone in\, which amplifies the sound unexpectedly well… \nWe continue until everyone’s tired 🙂 \n📅 UPCOMING SCHEDULE:\n+ 1/6 Unofficial swingin’ picknick & social dance in Nobelparken\n+ 8/6 Unofficial swingin’ picknick & social dance in Nobelparken\n+ 17/6 PREMIERE: Summer Swing in Stadsparken! (Wednesdays) \n📖 Mer info: https://www.heptown.com/monday-night-swing/ \n📍 Find the dance floor\nGet off at the Brunnshög torg stop\, only a 12-minute tram ride from Lund Central Station. Then a few minutes walk to the dance “Dansön” located here:\n🗺️ Map: https://maps.app.goo.gl/9FpBPMAeA3xUMgEk9
URL:https://www.heptown.com/calendar/unofficial-swingin-picknick-social-dance-in-nobelparken-1-6/
LOCATION:Dansön\, Nobelparken\, Lund\, Lund\, Sverige [SE]\, 224 82\, Sweden
CATEGORIES:Big event,HepTown,Lindy Hop,Lund,Monday Night Swing,Öresund,Social Dance
ATTACH;FMTTYPE=image/jpeg:https://www.heptown.com/wp-content/uploads/2026/04/37000_image_668780133_1599496062185884_356631576233981403_n.jpg
GEO:55.720693412342;13.235453815577
END:VEVENT
BEGIN:VEVENT
DTSTART;TZID=Europe/Stockholm:20260605T190000
DTEND;TZID=Europe/Stockholm:20260606T010000
DTSTAMP:20260421T194928
CREATED:20251117T095130Z
LAST-MODIFIED:20251123T205838Z
UID:10006480-1780686000-1780707600@www.heptown.com
SUMMARY:HFS Friday Party - June 2026
DESCRIPTION:🎉 Friday Party at the Home of Happy Feet! 🕺💃 \nGet ready for a fantastic evening of dancing\, laughter\, and great vibes in our cozy studio! \n🕒 Time: 19:00 – 01:00📍 Location: Happy Feet Studio\, Ørnevej 33\, 2400 Kbh NV (just a 5-min walk from Nørrebro Station) \nℹ️ More info coming soon — save the date! ❤️✨
URL:https://www.heptown.com/calendar/hfs-friday-party-june-2026/
LOCATION:Ørnevej 33\, 2400 Copenhagen\, Denmark\, Ørnevej 33\, 2400 Copenhagen\, Denmark
CATEGORIES:Copenhagen,Lindy Hop,notml,Öresund,Social Dance
END:VEVENT
BEGIN:VEVENT
DTSTART;TZID=Europe/Stockholm:20260608T180000
DTEND;TZID=Europe/Stockholm:20260608T210000
DTSTAMP:20260421T194928
CREATED:20260410T111733Z
LAST-MODIFIED:20260410T113557Z
UID:10006547-1780941600-1780952400@www.heptown.com
SUMMARY:Unofficial swingin’ picknick & social dance in Nobelparken 8/6
DESCRIPTION:The last Monday dance before the big summer season begins! Join us for another spontaneous picnic and social dance at Dansön in Nobelparken. Pack your basket\, bring your shoes\, and enjoy the early summer breeze on the dance island. \nWe’ll be there from 6 p.m. and dance until we’re tired. This evening is free and open to everyone! \nHåkan brings a small speaker and a playlist\, but it’s free for others to help out and decide on the music and take over the DJing for a while. If you want to dance before Håkan gets there\, the big white box is a Bluetooth speaker. There’s also a megaphone that you can put your phone in\, which amplifies the sound unexpectedly well… \nWe continue until everyone’s tired 🙂 \n📅 SCHEDULE:\n+ May 25th GRAND SEASON FINALE @ Kårhuset\n+ June 1st Unofficial swingin’ picknick & social dance in Nobelparken\n+ June 8th Unofficial swingin’ picknick & social dance in Nobelparken\n+ June 17th PREMIERE: Summer Swing in Stadsparken! (Wednesdays) \n📖 More info: https://www.heptown.com/monday-night-swing/ \n📍 Find the dance floor\nGet off at the Brunnshög torg stop\, only a 12-minute tram ride from Lund Central Station. Then a few minutes walk to the dance “Dansön” located here:\n🗺️ Map: https://maps.app.goo.gl/9FpBPMAeA3xUMgEk9
URL:https://www.heptown.com/calendar/unofficial-swingin-picknick-social-dance-in-nobelparken-8-6/
LOCATION:Dansön\, Nobelparken\, Lund\, Lund\, Sverige [SE]\, 224 82\, Sweden
CATEGORIES:HepTown,Lindy Hop,Lund,Monday Night Swing,Öresund,Social Dance
ATTACH;FMTTYPE=image/jpeg:https://www.heptown.com/wp-content/uploads/2026/04/36996_image_667837362_1599501472185343_7659632299331980904_n.jpg
GEO:55.720693412342;13.235453815577
END:VEVENT
BEGIN:VEVENT
DTSTART;TZID=Europe/Stockholm:20260617T183000
DTEND;TZID=Europe/Stockholm:20260617T210000
DTSTAMP:20260421T194928
CREATED:20260421T140652Z
LAST-MODIFIED:20260421T162949Z
UID:10006557-1781721000-1781730000@www.heptown.com
SUMMARY:Swing in the park |  Lindy Hop | Social dance | Season Premiere |  Lund 17/6
DESCRIPTION:HepTown and Visit Lund invite you to Swing in the Park every Wednesday from June 17th to August 5th\, 2026! \nAs usual\, we’ll have a taster class in Lindy Hop – a high-energy and fun swing dance – followed by social dancing to great swing music under the open sky. \n☀️ QUICK FACTS\n+ The whole evening is free!\n+ Drop-in\, no registration needed\n+ You are equally welcome with or without a dance partner\n+ Open to all ages and dance experience levels\n+ We rotate partners during class (it’s more fun and better for learning!) \nWe start from scratch every time so new beginners can join in\, but we vary the content slightly for those attending multiple weeks. (Please note: these tasters do not replace our regular full courses or weekend camps). \n🕒 SCHEDULE\n+ 18:30 – 21:00: Open\n+ 18:30 – 19:30: Beginners Lindy Hop drop-in taster\n+ 19:30 – 21:00: Social dance\n+ 21:00 – late: After-dance hang out at “Stallet” (behind Mejeriet) \n📍 LOCATION\nThe dance floor with the white tent roof is located in Stadsparken\, Lund. Close to Söderlyckan Skateboardpark and Mejeriet.\nMap: https://goo.gl/maps/f2UPVyj2Kdq1XGfY6 \n👟 WHAT IS LINDY HOP?\nThe evenings start with a short introduction to Lindy Hop (a.k.a. Jitterbug)\, an African American partner dance from 1930s Harlem. Stylistically\, it has more in common with today’s street dance than other ballroom dances! \n🍉 MORE THAN JUST DANCING\nThe park is perfect for a picnic\, a barbecue\, or just lounging in the sun between dances. Bring your friends and make a night of it! \n💧 STAY HYDRATED\nBring your own water bottle! It can be refilled outside the toilets opposite the skate park: https://goo.gl/maps/RfmjSwmHGfT7prkt9 \nLINKS\nhttps://www.heptown.com\nhttps://www.facebook.com/SwinginHepTown/events\nhttps://www.heptown.com/classes/\nhttps://www.sommarlund.se/
URL:https://www.heptown.com/calendar/swing-in-the-park-lindy-hop-social-dance-season-premiere-lund-17-6/
LOCATION:Sommarlunds dansbana\, Ringvägen 15\, Lund\, 22223\, SE
CATEGORIES:Beginners' Lindy Hop Class,Big event,HepTown,Lindy Hop,Lund,Monday Night Swing,Öresund,Social Dance
ATTACH;FMTTYPE=image/jpeg:https://www.heptown.com/wp-content/uploads/2026/04/37052_image_678812756_1609722811163209_4951100897818110319_n.jpg
END:VEVENT
END:VCALENDAR