BEGIN:VCALENDAR
VERSION:2.0
PRODID:-//HepTown - ECPv6.15.20//NONSGML v1.0//EN
CALSCALE:GREGORIAN
METHOD:PUBLISH
X-WR-CALNAME:HepTown
X-ORIGINAL-URL:https://www.heptown.com
X-WR-CALDESC:Events for HepTown
REFRESH-INTERVAL;VALUE=DURATION:PT1H
X-Robots-Tag:noindex
X-PUBLISHED-TTL:PT1H
BEGIN:VTIMEZONE
TZID:Europe/Stockholm
BEGIN:DAYLIGHT
TZOFFSETFROM:+0100
TZOFFSETTO:+0200
TZNAME:CEST
DTSTART:20230326T010000
END:DAYLIGHT
BEGIN:STANDARD
TZOFFSETFROM:+0200
TZOFFSETTO:+0100
TZNAME:CET
DTSTART:20231029T010000
END:STANDARD
BEGIN:DAYLIGHT
TZOFFSETFROM:+0100
TZOFFSETTO:+0200
TZNAME:CEST
DTSTART:20240331T010000
END:DAYLIGHT
BEGIN:STANDARD
TZOFFSETFROM:+0200
TZOFFSETTO:+0100
TZNAME:CET
DTSTART:20241027T010000
END:STANDARD
BEGIN:DAYLIGHT
TZOFFSETFROM:+0100
TZOFFSETTO:+0200
TZNAME:CEST
DTSTART:20250330T010000
END:DAYLIGHT
BEGIN:STANDARD
TZOFFSETFROM:+0200
TZOFFSETTO:+0100
TZNAME:CET
DTSTART:20251026T010000
END:STANDARD
END:VTIMEZONE
BEGIN:VEVENT
DTSTART;TZID=Europe/Stockholm:20241120T200000
DTEND;TZID=Europe/Stockholm:20241120T230000
DTSTAMP:20260421T114634
CREATED:20241120T105658Z
LAST-MODIFIED:20241120T105658Z
UID:10006231-1732132800-1732143600@www.heptown.com
SUMMARY:Wednesday Night Hop  |  Drop-in Shag taster  | Lindy Hop  | Social dance |  20/11
DESCRIPTION:Welcome to Cats’ Corners swingin’ Wednesday Night Hop in the grand ballroom at Moriska Paviljongen. \nEXTRA: Shag taster for beginners and experienced dancers 20:15-21:15 followed by social dance 21:15-22:15 in “Spegelsalen”.\nThe class is included in the regular entrance fee and you are very welcome regardless of age\, membership\, dance ability\, with or without a partner and if you are a student or not \n\nDoors open: 20:00\nSocial dance: 20:00-22:30 (Stora Salen)\nDrop-in shag taster: 20:15-21:15 (Spegelsalen)\nShag dance social: 21:15-22:15 (Spegelsalen)\nBallroom door fee: 80kr\, 60kr for Cats’ Corner members / students\nMoriska Paviljongen\, Norra Parkgatan 2\, Malmö\nMap: <” target=”_blank” title=”http://catscorner.se/volunteering/>”>http://catscorner.se/volunteering/>\n\nVolunteering?\nWe often need help at the front desk.\nFor 30 min of your time\, you’ll receive free entrance for the night.\nThere’s a list at the front desk.\nAnd you can also sign-up in advance here:\n<” target=”_blank” title=”https://www.youtube.com/results?search_query=lindy+hop>”>https://www.youtube.com/results?search_query=lindy+hop>\n<” target=”_blank” title=”https://www.catscorner.se/>”>https://www.catscorner.se/>\n<” target=”_blank” title=”https://www.heptown.com/classes/>”>https://www.heptown.com/classes/> \nMORISKA PAVILJONGEN\nMoriska Paviljongen är Malmös största oberoende kultur- och nöjeshus. Moriskan erbjuder Bistro\, Bar\, Kulturprogram och Nattklubb på 4 olika scener i en anrik miljö från 1901. Mer info finns på:\nwww.moriskapaviljongen.se\nwww.facebook.com/moriskapaviljongen\nwww.instagram.com/moriska_paviljongen
URL:https://www.heptown.com/calendar/wednesday-night-hop-drop-in-shag-taster-lindy-hop-social-dance-20-11/
LOCATION:Moriska Paviljongen\, Folkets Park\, Malmö\, Sweden
CATEGORIES:Beginner,Cats' Corner,Collegiate Shag,Malmö,Öresund,Social Dance
ATTACH;FMTTYPE=image/jpeg:https://www.heptown.com/wp-content/uploads/2024/11/34168_image_466968365_1170354521326690_500789324911345981_n.jpg
END:VEVENT
END:VCALENDAR