BEGIN:VCALENDAR
VERSION:2.0
PRODID:-//HepTown - ECPv6.15.20//NONSGML v1.0//EN
CALSCALE:GREGORIAN
METHOD:PUBLISH
X-ORIGINAL-URL:https://www.heptown.com
X-WR-CALDESC:Events for HepTown
REFRESH-INTERVAL;VALUE=DURATION:PT1H
X-Robots-Tag:noindex
X-PUBLISHED-TTL:PT1H
BEGIN:VTIMEZONE
TZID:Europe/Stockholm
BEGIN:DAYLIGHT
TZOFFSETFROM:+0100
TZOFFSETTO:+0200
TZNAME:CEST
DTSTART:20250330T010000
END:DAYLIGHT
BEGIN:STANDARD
TZOFFSETFROM:+0200
TZOFFSETTO:+0100
TZNAME:CET
DTSTART:20251026T010000
END:STANDARD
BEGIN:DAYLIGHT
TZOFFSETFROM:+0100
TZOFFSETTO:+0200
TZNAME:CEST
DTSTART:20260329T010000
END:DAYLIGHT
BEGIN:STANDARD
TZOFFSETFROM:+0200
TZOFFSETTO:+0100
TZNAME:CET
DTSTART:20261025T010000
END:STANDARD
BEGIN:DAYLIGHT
TZOFFSETFROM:+0100
TZOFFSETTO:+0200
TZNAME:CEST
DTSTART:20270328T010000
END:DAYLIGHT
BEGIN:STANDARD
TZOFFSETFROM:+0200
TZOFFSETTO:+0100
TZNAME:CET
DTSTART:20271031T010000
END:STANDARD
END:VTIMEZONE
BEGIN:VEVENT
DTSTART;TZID=Europe/Stockholm:20260527T180000
DTEND;TZID=Europe/Stockholm:20260527T191500
DTSTAMP:20260420T181504
CREATED:20260319T164411Z
LAST-MODIFIED:20260319T164759Z
UID:10006527-1779904800-1779909300@www.heptown.com
SUMMARY:🪄Alice in Vintageland🎶
DESCRIPTION:✨ VÄRLDSPREMIÄR 27 MAJ – ALICE IN VINTAGELAND ✨ \n⏰🐇🎭💃🏼🃏👑🎶🪄🦩 \nVälkommen till en gnistrande\, jazzig resa genom tid och fantasi! Alice in Vintageland är en färgsprakande dansmusikal och vintage varieté i ett – där Lindy Hop\, Charleston\, Blues och autentisk jazz möter den klassiska sagan i ett vibrerande 1920-tal. \nFölj med Alice på ett magiskt äventyr till ett New Orleans fyllt av rytm\, karaktärer och överraskningar. En föreställning om mod\, självkänsla och att bli sin egen bästa vän – berättad genom dans\, humor\, musik och visuell magi. 🎩👯‍♀️ \n💫 En energifylld show för hela familjen\n⏱ Längd: 75 minuter\n🎟 Pris: 200 kr\n💃 För 250 kr får du även inträde till dansen samma kväll! \nTa med hela släkten\, alla vänner och kollegor och upplev en härlig vårshow du sent kommer glömma! \n🌟 MEDVERKANDE:\nRebecka DecaVita\nCharlie DecaVita\nLinaMaria Bengtsson\nMattias Bruzelius\nVivien Nivesse\nPhilippa Svensson \n✨ Producerad av DecaVita Sisters \n🎶 Missa inte premiären!!!
URL:https://www.heptown.com/calendar/%f0%9f%aa%84alice-in-vintageland%f0%9f%8e%b6/
LOCATION:Moriska Paviljongen\, Norra Parkgatan 2\, Malmö\, 21422\, SE
CATEGORIES:Aerials,Big event,Lindy Hop,Malmö,Öresund
ATTACH;FMTTYPE=image/jpeg:https://www.heptown.com/wp-content/uploads/2026/03/Alice-in-vintage-land.jpg
END:VEVENT
END:VCALENDAR