BEGIN:VCALENDAR
VERSION:2.0
PRODID:-//HepTown - ECPv6.15.20//NONSGML v1.0//EN
CALSCALE:GREGORIAN
METHOD:PUBLISH
X-ORIGINAL-URL:https://www.heptown.com
X-WR-CALDESC:Events for HepTown
REFRESH-INTERVAL;VALUE=DURATION:PT1H
X-Robots-Tag:noindex
X-PUBLISHED-TTL:PT1H
BEGIN:VTIMEZONE
TZID:Europe/Stockholm
BEGIN:DAYLIGHT
TZOFFSETFROM:+0100
TZOFFSETTO:+0200
TZNAME:CEST
DTSTART:20240331T010000
END:DAYLIGHT
BEGIN:STANDARD
TZOFFSETFROM:+0200
TZOFFSETTO:+0100
TZNAME:CET
DTSTART:20241027T010000
END:STANDARD
BEGIN:DAYLIGHT
TZOFFSETFROM:+0100
TZOFFSETTO:+0200
TZNAME:CEST
DTSTART:20250330T010000
END:DAYLIGHT
BEGIN:STANDARD
TZOFFSETFROM:+0200
TZOFFSETTO:+0100
TZNAME:CET
DTSTART:20251026T010000
END:STANDARD
BEGIN:DAYLIGHT
TZOFFSETFROM:+0100
TZOFFSETTO:+0200
TZNAME:CEST
DTSTART:20260329T010000
END:DAYLIGHT
BEGIN:STANDARD
TZOFFSETFROM:+0200
TZOFFSETTO:+0100
TZNAME:CET
DTSTART:20261025T010000
END:STANDARD
END:VTIMEZONE
BEGIN:VEVENT
DTSTART;TZID=Europe/Stockholm:20251212T190000
DTEND;TZID=Europe/Stockholm:20251212T220000
DTSTAMP:20260421T031724
CREATED:20251113T222805Z
LAST-MODIFIED:20251203T153139Z
UID:10006442-1765566000-1765576800@www.heptown.com
SUMMARY:Swingcirkus Stenkrossen; A Vintage Variety Hour - Lucia Edition 2025
DESCRIPTION:Dansshow med Lindy Hop och Charleston\, hisnande akrobatik\, sång & musik och celebert gästspel av The Decavita Sisters; Projekt Swingcirkus & “The Showteam with No Name” som bla uppträtt på Malmöfestivalen och Kulturnatten i Lund bjuder in till en färgsprakande och svängig version av den legendariska Swing Street Vintage Variety Hour\, som uppvärmning på Luciahelgen\, denna gång på “The Stone Crusher” i Lund. Kom som du är eller passa på att klä upp dig i finaste retrostassen\, eller varför inte\, Lusselinnet. Ta i vilket fall med dansskorna och dansa med oss After Show\, eller bara häng kvar och mingla en stund. Showen beräknas som namnet antyder bli ca en timme lång. \nValfri entré\, rekommenderat pris från 100 kr. Insläpp från 18.30 \nProjekt SWINGCIRKUS under ledning av LinaMaria Bengtsson och Mattias Bruzelius har med stöd av Lunds Kommun huserat i Bygghallen/Cirkushallen på Stenkrossen under 2025 med träning och kurser i samarbete med dansföreningen HepTown i sk. Airsteps (dansakrobatik)\, och bjuder nu in till en förhoppningsvis storslagen säsongsavslutning dit alla är välkomna. \n 
URL:https://www.heptown.com/calendar/swingcirkus-stenkrossen-a-vintage-variety-hour-lucia-edition-2025/
LOCATION:Stenkrossen\, Kastanjegatan 13\, Lund\, 22357\, Sweden
CATEGORIES:Aerials,Big event,Lindy Hop,Lund,Öresund,Social Dance,Solo Jazz - Authentic Jazz - Solo Rutinens
ATTACH;FMTTYPE=image/jpeg:https://www.heptown.com/wp-content/uploads/2025/11/Stenkrossen-vintage-hour.jpg
END:VEVENT
BEGIN:VEVENT
DTSTART;TZID=Europe/Stockholm:20251213T180000
DTEND;TZID=Europe/Stockholm:20251213T235900
DTSTAMP:20260421T031724
CREATED:20251113T223534Z
LAST-MODIFIED:20251213T160054Z
UID:10006443-1765648800-1765670340@www.heptown.com
SUMMARY:Vaudeville - Julshowen❣️
DESCRIPTION:🎩✨ Välkommen Malmö! ✨🎩\nFörbered er på en hejdundrande 1920-tals VARIETÉ fylld av dans\, cirkus\, magi\, komedi – och ALL THAT JAZZ! \nUnder ledning av världsstjärnorna inom Lindy Hop & Charleston – The DecaVita Sisters – bjuds ni in till en kväll där tiden backas hundra år och scenen förvandlas till ett glittrande Vaudeville-palats! \n🌟 I föreställningen Vaudeville har vi samlat the crème de la crème av våra bästa artister i en sprakande show inspirerad av det glada 20-talet – en tid då jazzens rytmer tog över världen och varietén regerade på scenerna. \n💃✨ Förvänta dig dans som svänger så att du garanterat studsar upp och ner i stolen\, halsbrytande cirkusnummer\, glittrande magi\, livemusik på piano\, tuba\, tvättbräda och till och med musiksåg! \n🎙️ Kvällens konferencierer och showvärdar är ingen mindre än The DecaVita Sisters – redo att svepa dig med i ett virvlande\, glittrande\, helt oemotståndligt 20-talsäventyr. \n🎷💋 Damma av fjädern\, morfars topp hatt och de där paljetterna – för nu blir det VAUDEVILLE! \n⏰: 18:00\n🗺️: Karavan i Malmö\n🎟️: 200 kr och köps smidigast via Billetto (se länk).\nI mån av plats säljs även biljetter i dörren – först till kvarn! \n🌞 Passar vuxna\, gamla\, unga och barn från 7 år 🎊 \n 
URL:https://www.heptown.com/calendar/vaudeville-julshowen/
LOCATION:Karavan – nytt scenrum för cirkus och musik\, Bokgatan 18\, Malmö\, 214 36\, SE
CATEGORIES:Aerials,Big event,Lindy Hop,Malmö,Öresund,Solo Jazz - Authentic Jazz - Solo Rutinens
ATTACH;FMTTYPE=image/jpeg:https://www.heptown.com/wp-content/uploads/2025/11/Vaudeville.jpg
GEO:55.5880808;13.0165366
X-APPLE-STRUCTURED-LOCATION;VALUE=URI;X-ADDRESS=Karavan – nytt scenrum för cirkus och musik Bokgatan 18 Malmö 214 36 SE;X-APPLE-RADIUS=500;X-TITLE=Bokgatan 18:geo:13.0165366,55.5880808
END:VEVENT
BEGIN:VEVENT
DTSTART;TZID=Europe/Stockholm:20251213T193000
DTEND;TZID=Europe/Stockholm:20251213T223000
DTSTAMP:20260421T031724
CREATED:20251113T231423Z
LAST-MODIFIED:20251114T105131Z
UID:10006444-1765654200-1765665000@www.heptown.com
SUMMARY:✨ Lucia Socialdans på Karavan! ✨
DESCRIPTION:✨ Lucia Socialdans på Karavan! ✨ \nLördagen den 13 december bjuder vi in till en mysig socialdanskväll i Lindy Hopens tecken — mitt i självaste Lucia-kvällen! 💃🕯️ \nEfter Vaudeville Julshowen förvandlas Karavans cirkuslokal till ett varmt och glittrande dansgolv. Här väntar skön swingmusik\, glada människor och riktig Lucia-magi. Kom och dansa bort vinternatten med oss! 🎶 \n🕺 Tid: direkt efter showen (ca 19.30) till 23:00\n📍 Plats: Karavan\, Malmö\n💸 Pris: Gratis för dig med biljett till Vaudeville Julshowen\,\n50 kr för övriga danssugna \nKom som du är — glittrig\, lucialjus eller pepparkaka — och låt oss fira Lucia med rytm\, värme och gemenskap. ❤️ \n👉 Eventet arrangeras av The DecaVita Sisters
URL:https://www.heptown.com/calendar/%e2%9c%a8-lucia-socialdans-pa-karavan-%e2%9c%a8/
LOCATION:Karavan – nytt scenrum för cirkus och musik\, Bokgatan 18\, Malmö\, 214 36\, SE
CATEGORIES:Aerials,Lindy Hop,Malmö,Öresund,Solo Jazz - Authentic Jazz - Solo Rutinens
ATTACH;FMTTYPE=image/jpeg:https://www.heptown.com/wp-content/uploads/2025/11/Lucia-social-karavan.jpg
GEO:55.5880808;13.0165366
X-APPLE-STRUCTURED-LOCATION;VALUE=URI;X-ADDRESS=Karavan – nytt scenrum för cirkus och musik Bokgatan 18 Malmö 214 36 SE;X-APPLE-RADIUS=500;X-TITLE=Bokgatan 18:geo:13.0165366,55.5880808
END:VEVENT
END:VCALENDAR