BEGIN:VCALENDAR
VERSION:2.0
PRODID:-//HepTown - ECPv6.15.20//NONSGML v1.0//EN
CALSCALE:GREGORIAN
METHOD:PUBLISH
X-ORIGINAL-URL:https://www.heptown.com
X-WR-CALDESC:Events for HepTown
REFRESH-INTERVAL;VALUE=DURATION:PT1H
X-Robots-Tag:noindex
X-PUBLISHED-TTL:PT1H
BEGIN:VTIMEZONE
TZID:Europe/Stockholm
BEGIN:DAYLIGHT
TZOFFSETFROM:+0100
TZOFFSETTO:+0200
TZNAME:CEST
DTSTART:20240331T010000
END:DAYLIGHT
BEGIN:STANDARD
TZOFFSETFROM:+0200
TZOFFSETTO:+0100
TZNAME:CET
DTSTART:20241027T010000
END:STANDARD
BEGIN:DAYLIGHT
TZOFFSETFROM:+0100
TZOFFSETTO:+0200
TZNAME:CEST
DTSTART:20250330T010000
END:DAYLIGHT
BEGIN:STANDARD
TZOFFSETFROM:+0200
TZOFFSETTO:+0100
TZNAME:CET
DTSTART:20251026T010000
END:STANDARD
BEGIN:DAYLIGHT
TZOFFSETFROM:+0100
TZOFFSETTO:+0200
TZNAME:CEST
DTSTART:20260329T010000
END:DAYLIGHT
BEGIN:STANDARD
TZOFFSETFROM:+0200
TZOFFSETTO:+0100
TZNAME:CET
DTSTART:20261025T010000
END:STANDARD
END:VTIMEZONE
BEGIN:VEVENT
DTSTART;TZID=Europe/Stockholm:20250412T104500
DTEND;TZID=Europe/Stockholm:20250413T160000
DTSTAMP:20260423T183016
CREATED:20250321T124706Z
LAST-MODIFIED:20250411T142119Z
UID:10006298-1744454700-1744560000@www.heptown.com
SUMMARY:Lindy Hop Aerials Weekend / Swingcirkus at Stenkrossen / 12-13/4
DESCRIPTION:Have you ever seen dancers do cool lifts and thought “I wanna try that” ? Here’s your chance!\nhttps://www.heptown.com/sv/lindy-hop-aerials/#video \nLinaMaria Bengtsson and Mattias Bruzelius teaches fun partner acrobatics with focus on Lindy Hop Aerials\, aka Airsteps. It can be lifts\, throws & jumps that you do together with a partner. This weekend bootcamp is for grown ups (+15) and meant for both Lindy Hop dancers and other dancers who want to learn new tricks to use in their own dancing\, aswell as  those who just want a fun form of physical training in a welcoming and relaxed environment. You don´t need to be a Lindy Hop dancer yet\, since we will focus on the acrobatics. \nWhen? Saturday 12/4 and Sunday 13/4 kl 11.00 -16.00 The doors will open 15 min before and close when first class starts. After this weekend you can join Lindy Hop Aerials Fortsättningskurs / Swingcirkus på Stenkrossen Thursdays 8/5\, 15/5\, 22/5\, 29/5\, 5/6 kl 18.15-19.45 \nWhere? In the Circus Hall at Stenkrossen in Lund\, Kastanjegatan 13\nHow? We will practise with the same person all weekend so sign up with a training buddy. Bring comfy clothes and shoes\, (although we will not use them most of the time when on the mat)\, waterbottle\, lunch and lots of snacks.\nThe weekend bootcamp is for all levels. You don’t have to have tried Lindy Hop Aerials before\, but we promise that you will still get a lot out of it if you have. Participation is at everybody´s own risk and responsibility. We take care of ourselves and help each other out during practise\, to create an as safe and injure free practise as possible. We will adjust the levels and always go through the basics step by step in a fun and safe way\, where technique and working together is more important than physical strength. We will also have fun warm ups and a nice long stretch to look forward to at the end of the day. \nMore information and registration: https://www.heptown.com/lindy-hop-aerials/ \nSwingcirkus\nThis is part of the project Swingcirkus with support from  City of Lund in collaboration with Stenkrossen\, HepTown and Swing Station.
URL:https://www.heptown.com/calendar/lindy-hop-aerials-weekend-swingcirkus-at-stenkrossen-12-13-4/
LOCATION:Sweden
CATEGORIES:Aerials,Lindy Hop,Lund,Öresund
ATTACH;FMTTYPE=image/jpeg:https://www.heptown.com/wp-content/uploads/2025/03/34929_image_480260008_122159558414336668_7744032151547913603_n.jpg
END:VEVENT
BEGIN:VEVENT
DTSTART;TZID=Europe/Stockholm:20250417T170000
DTEND;TZID=Europe/Stockholm:20250417T180000
DTSTAMP:20260423T183016
CREATED:20250227T140830Z
LAST-MODIFIED:20250411T142153Z
UID:10006280-1744909200-1744912800@www.heptown.com
SUMMARY:Prova på Swingkids 10-14 år | Swingcirkus på Stenkrossen 17/4
DESCRIPTION:Kom och prova på Lindyhop för Swingkids 10-14 år i Cirkushallen på Stenkrossen under Påsklovet 20/2 kl 17-18. \nAlla\, nybörjare som erfarna\, är välkomna att vara med! Vi kommer att anpassa nivån efter behov. \nVi kommer under kursen att dansa både Solojazz och Lindy Hop samt prova enklare akrobatiska moment. Anmälan krävs och vi ser gärna att man anmäler sig med en kompis. \nTa med bekväma träningskläder och vattenflaska. \nInsläpp 16.45-17.00\nInstruktörer: LinaMaria Bengtsson och Jerry Segerberg. \nKurserna sker i samarbete med Stenkrossen\, Lunds kommun\, HepTown och Swing Station. \nDenna prova-på är kostnadsfri men har obligatorisk anmälan på:\nhttps://www.heptown.com/sv/lindy-hop-aerials/#kids\nhttps://dans.se/heptown/shop/?event=242963 \nAnmäl intresse för fler kurser för fler åldersgrupper\nhttps://dans.se/heptown/shop/?event=241939 \nSe video från LinaMaria & Mattias Lindy Hop Aerials-kurs (för vuxna)\nhttps://www.heptown.com/sv/lindy-hop-aerials/#video
URL:https://www.heptown.com/calendar/prova-pa-swingkids-10-14-ar-swingcirkus-pa-stenkrossen-17-4/
LOCATION:Stenkrossen\, Kastanjegatan 13-15\, Lund\, 22359\, SE
CATEGORIES:Aerials,Lindy Hop,Lund,Öresund
ATTACH;FMTTYPE=image/jpeg:https://www.heptown.com/wp-content/uploads/2025/02/34838_image_481467625_1218071750328319_1497045104091161609_n.jpg
GEO:55.696932;13.1989996
X-APPLE-STRUCTURED-LOCATION;VALUE=URI;X-ADDRESS=Stenkrossen Kastanjegatan 13-15 Lund 22359 SE;X-APPLE-RADIUS=500;X-TITLE=Kastanjegatan 13-15:geo:13.1989996,55.696932
END:VEVENT
BEGIN:VEVENT
DTSTART;TZID=Europe/Stockholm:20250426T110000
DTEND;TZID=Europe/Stockholm:20250426T170000
DTSTAMP:20260423T183016
CREATED:20250403T091844Z
LAST-MODIFIED:20250426T093406Z
UID:10006303-1745665200-1745686800@www.heptown.com
SUMMARY:Dansens dag i Lund 2025
DESCRIPTION:Välkommen till Mårtenstorget 26 april och se framträdanden av fantastiska dansare från Lund och närområdet. Dessutom kan du se eller delta i All Styles Dance Battle! Fri entré. \nLinaMaria & Mattias är med och representerar HepTown med Lindy Hop\, Lindy Hop akrobatik och en liten prova på i Solojazz/Authentic-jazz \nFacebookevent med senaste informationen \nKlockan 11.00-14.00 Dansuppvisningar\nMedverkande: Cadenza\, LL Dance\, Salsa\, Dans i Lomma\, Kulturskolan Lund\, Fuego Peruano\, Style Dance\, Medborgarskolan\, HepTown\, Studio S\, och New York Dance \nUngefärliga tider\n\n11:00       Cadenza\n11:15       LL dance\n11:30       Salsa Sabrosa\n11:45       Dans i Lomma\n12:00       Kulturskolan\n12:15       Fuego peruano\n12:30       Style dance studio\n12:45       Medborgarskolan\n13:00       HepTown\n13:15       Studio S\n13:30       Tangokompaniet\n13:45       NYD\n\nKlockan 14.00-17.00 All Styles Dance Battle\ni samarbete med IVER!\nVälj om du vill dansa eller heja fram en vinnare! Vi välkomnar flera stilar. DJ:n väljer musiken och du får 45 sekunder på dig att bevisa för domarna att du ska gå vidare till nästa runda. \n\nKonferencier: Dirty Jens/Osawe\nDomare: Tr3sa\, Riviera\, B-Girl Mononoke\nDJ: Slowz\n\nVill du tävla i All Styles Dance Battle? Anmäl dig på: lund.se/dansensdag
URL:https://www.heptown.com/calendar/dansens-dag/
LOCATION:Mårtenstorget\, Lund\, Sverige
CATEGORIES:Aerials,Beginner,Big event,HepTown,Lindy Hop,Lund,Öresund,Solo Jazz - Authentic Jazz - Solo Rutinens
ATTACH;FMTTYPE=image/jpeg:https://www.heptown.com/wp-content/uploads/2025/04/35015_image_486519916_1126317406199751_813420518183926794_n.jpg
END:VEVENT
END:VCALENDAR