BEGIN:VCALENDAR
VERSION:2.0
PRODID:-//HepTown - ECPv6.15.20//NONSGML v1.0//EN
CALSCALE:GREGORIAN
METHOD:PUBLISH
X-ORIGINAL-URL:https://www.heptown.com
X-WR-CALDESC:Events for HepTown
REFRESH-INTERVAL;VALUE=DURATION:PT1H
X-Robots-Tag:noindex
X-PUBLISHED-TTL:PT1H
BEGIN:VTIMEZONE
TZID:Europe/Stockholm
BEGIN:DAYLIGHT
TZOFFSETFROM:+0100
TZOFFSETTO:+0200
TZNAME:CEST
DTSTART:20240331T010000
END:DAYLIGHT
BEGIN:STANDARD
TZOFFSETFROM:+0200
TZOFFSETTO:+0100
TZNAME:CET
DTSTART:20241027T010000
END:STANDARD
BEGIN:DAYLIGHT
TZOFFSETFROM:+0100
TZOFFSETTO:+0200
TZNAME:CEST
DTSTART:20250330T010000
END:DAYLIGHT
BEGIN:STANDARD
TZOFFSETFROM:+0200
TZOFFSETTO:+0100
TZNAME:CET
DTSTART:20251026T010000
END:STANDARD
BEGIN:DAYLIGHT
TZOFFSETFROM:+0100
TZOFFSETTO:+0200
TZNAME:CEST
DTSTART:20260329T010000
END:DAYLIGHT
BEGIN:STANDARD
TZOFFSETFROM:+0200
TZOFFSETTO:+0100
TZNAME:CET
DTSTART:20261025T010000
END:STANDARD
END:VTIMEZONE
BEGIN:VEVENT
DTSTART;TZID=Europe/Stockholm:20250220T170000
DTEND;TZID=Europe/Stockholm:20250220T180000
DTSTAMP:20260423T200529
CREATED:20250211T152712Z
LAST-MODIFIED:20250220T152805Z
UID:10006265-1740070800-1740074400@www.heptown.com
SUMMARY:Prova på Swingkids 10-14 år | Swingcirkus på Stenkrossen
DESCRIPTION:Kom och prova på Lindyhop för Swingkids 10-14 år i Cirkushallen på Stenkrossen under Sportlovet 20/2 kl 17-18. \nAlla\, nybörjare som erfarna\, är välkomna att vara med! Vi kommer att anpassa nivån efter behov. \nVi kommer under kursen att dansa både Solojazz och Lindy Hop samt prova enklare akrobatiska moment. Anmälan krävs och vi ser gärna att man anmäler sig med en kompis. \nTa med bekväma träningskläder och vattenflaska. \nInsläpp 16.45-17.00 \nInstruktörer: LinaMaria Bengtsson och Jerry Segerberg. \nKurserna sker i samarbete med Stenkrossen\, Lunds kommun\, HepTown och Swing Station. \nInstruktörer: LinaMaria Bengtsson och Jerry Segerberg. \nKurserna sker i samarbete med Stenkrossen\, Lunds kommun\, HepTown och Swing Station. \nDenna prova-på är kostnadsfri men har obligatorisk anmälan på:\nhttps://www.heptown.com/sv/lindy-hop-aerials/#kids\nhttps://dans.se/heptown/shop/?event=241702 \nAnmäl intresse för fler kurser för fler åldersgrupper\nhttps://dans.se/heptown/shop/?event=241939 \nSe video från LinaMaria & Matias Lindy Hop Aerials-kurs (för vuxna)\nhttps://www.heptown.com/sv/lindy-hop-aerials/#video
URL:https://www.heptown.com/calendar/flying-swing-kids-teens-lindy-hop-aerials-prova-pa-for-barn-och-tonaringar-10-14ar/
LOCATION:Stenkrossen\, Kastanjegatan 13-15\, Lund\, 22359\, SE
CATEGORIES:Aerials,Beginner,Big event,Lindy Hop,Lund,Öresund
ATTACH;FMTTYPE=image/jpeg:https://www.heptown.com/wp-content/uploads/2025/02/34710_image_476191103_1203601671775327_4346117307451227581_n.jpg
GEO:55.696932;13.1989996
X-APPLE-STRUCTURED-LOCATION;VALUE=URI;X-ADDRESS=Stenkrossen Kastanjegatan 13-15 Lund 22359 SE;X-APPLE-RADIUS=500;X-TITLE=Kastanjegatan 13-15:geo:13.1989996,55.696932
END:VEVENT
BEGIN:VEVENT
DTSTART;TZID=Europe/Stockholm:20250220T181500
DTEND;TZID=Europe/Stockholm:20250220T194500
DTSTAMP:20260423T200529
CREATED:20250203T085954Z
LAST-MODIFIED:20250220T153121Z
UID:10006261-1740075300-1740080700@www.heptown.com
SUMMARY:Lindy Hop aerials prova-på | Swing Cirkus | Akrobatik
DESCRIPTION:Välkomna till Lindy Hop Aerials prova-på med LinaMaria & Mattias i Cirkushallen på Stenkrossen! Vi fortsätter sen med aerialskurser på två nivåer torsdagar resten av terminen samt en helg. \nMer information och anmälan: https://www.heptown.com/sv/lindy-hop-aerials/\nMore information and registration: https://www.heptown.com/lindy-hop-aerials/ \nHar du sett dansare göra häftiga lyft och tänkt “det där vill jag testa”? Nu har du chansen!\nhttps://www.youtube.com/results?search_query=Lindy+Hop+Aerials \nEn Lindy Hop Aerial är en akrobatisk dansrörelse t.ex. ett lyft\, kast eller hopp tillsammans med en partner. \nAlla\, nybörjare som erfarna\, är välkomna att vara med! Du behöver ingen danserfarenhet. Vi kommer att anpassa nivån efter behov. Vi går igenom grunderna på ett tryggt och roligt sätt\, där teknik och samarbete är viktigare än styrka. \nSwing Cirkus\nKursen är en del av Swing Cirkus. LinaMaria & Mattias projekt på Stenkrossen med stöd av Kultur Lund \nMore Lindy Hop Aerials
URL:https://www.heptown.com/calendar/lindy-hop-aerials-prova-pa-swing-cirkus-akrobatik/
LOCATION:Stenkrossen\, Kastanjegatan 13-15\, Lund\, 22359\, SE
CATEGORIES:Aerials,Beginner,Big event,HepTown,Lindy Hop,Lund
ATTACH;FMTTYPE=image/jpeg:https://www.heptown.com/wp-content/uploads/2025/02/34537_image_475974667_1197926289009532_1284345418874784926_n.jpg
GEO:55.696932;13.1989996
X-APPLE-STRUCTURED-LOCATION;VALUE=URI;X-ADDRESS=Stenkrossen Kastanjegatan 13-15 Lund 22359 SE;X-APPLE-RADIUS=500;X-TITLE=Kastanjegatan 13-15:geo:13.1989996,55.696932
END:VEVENT
BEGIN:VEVENT
DTSTART;TZID=Europe/Stockholm:20250227T181500
DTEND;TZID=Europe/Stockholm:20250227T194500
DTSTAMP:20260423T200529
CREATED:20250220T151101Z
LAST-MODIFIED:20250220T154518Z
UID:10006277-1740680100-1740685500@www.heptown.com
SUMMARY:Lindy Hop Aerials Nybörjarkurs / Swingcirkus på Stenkrossen / Start 27/2
DESCRIPTION:Har du sett dansare göra häftiga lyft och tänkt “det där vill jag testa”? Nu har du chansen!\nhttps://www.heptown.com/sv/lindy-hop-aerials/#video \nLinaMaria Bengtsson och Mattias Bruzelius undervisar i svängig och rolig partner-dansakrobatik med fokus på Lindy Hop Aerials sk Airsteps\, t.ex. lyft\, kast eller hopp tillsammans med en partner. Kurserna för vuxna (över 15 år) riktar sig både till redan inbitna swingdansare och andra dansare som vill utöka repertoaren med tricks att implementera i sin egen dans\, samt den som helt enkelt  ha en rolig och fysiskt utmanande träningsform i ett avslappnat och välkomnande sammanhang. Du behöver inte vara dansare ännu\, då vi vid dessa kurstillfällen fokuserar på akrobatiken. \nMer information och anmälan\nMore information and registration \nNär?\n5 Torsdagar 27/2\, 6/3\, 13/3\, 27/3\, 3/4 kl 18.15-19.45 med en timmes efterföljande öppen träning med möjlighet att fortsätta stretcha eller testa att inkorporera nya moves i dansen. Observera att insläpp sker 18.00-18.15\, sedan stängs dörren. \nVar?\nI Cirkushallen på Stenkrossen i Lund\, Kastanjegatan 13 \nHur?\nAll träning sker med samma partner så anmäl dig tillsammans med en träningskompis. Glöm inte bekväma kläder\, dansskor om du vill träna på golvet på den öppna träningen efter kurs (inga skor är tillåtna på mattan under kurs)\, vattenflaska och egna snacks vid behov. \nNybörjarkursen riktar sig till alla nivåer inklusive den som gått vår Aerialshelg\, men här  behöver du inte ha provat Lindyhop Aerials tidigare. På fortsättningskursen är det däremot bra om du har gått nybörjarkursen eller någon av våra Aerialshelger tidigare\, eller har erfarenhet av akrobatik från annat håll. \nEfter kursen kan du fortsätta träna på Lindy Hop Aerials Weekend / Swingcirkus at Stenkrossen Lördag 12/4 och Söndag 13/4 kl 11.00 – 16.00 och/eller på Lindy Hop Aerials Fortsättningskurs / Swingcirkus på Stenkrossen Torsdagar 8/5\, 15/5\, 22/5\, 29/5\, 5/6 \nDeltagande sker på egen risk\, vi tar hand om oss själva och varandra och vi hjälper varandra under träning för att skapa en så säker och skadefri miljö som möjligt. Vi kommer att anpassa nivån efter behov\, och går igenom grunderna på ett tryggt och roligt sätt\, där teknik och samarbete är viktigare än styrka. Obligatorisk uppvärmning och stretching ingår. \nSwingcirkus\nKurserna är en del av projekt Swingcirkus med stöd av Lunds Kommun\, Kultur Lund och i samarbete med Stenkrossen\, HepTown och Swing Station
URL:https://www.heptown.com/calendar/lindy-hop-aerials-nyborjarkurs-swingcirkus-pa-stenkrossen-start-27-2/
LOCATION:Stenkrossen\, Kastanjegatan 13-15\, Lund\, 22359\, SE
CATEGORIES:Aerials,Lund,Öresund
ATTACH;FMTTYPE=image/jpeg:https://www.heptown.com/wp-content/uploads/2025/02/34814_image_480535785_122159558786336668_887877812511575358_n.jpg
GEO:55.696932;13.1989996
X-APPLE-STRUCTURED-LOCATION;VALUE=URI;X-ADDRESS=Stenkrossen Kastanjegatan 13-15 Lund 22359 SE;X-APPLE-RADIUS=500;X-TITLE=Kastanjegatan 13-15:geo:13.1989996,55.696932
END:VEVENT
END:VCALENDAR