BEGIN:VCALENDAR
VERSION:2.0
PRODID:-//HepTown - ECPv6.15.20//NONSGML v1.0//EN
CALSCALE:GREGORIAN
METHOD:PUBLISH
X-WR-CALNAME:HepTown
X-ORIGINAL-URL:https://www.heptown.com
X-WR-CALDESC:Events for HepTown
REFRESH-INTERVAL;VALUE=DURATION:PT1H
X-Robots-Tag:noindex
X-PUBLISHED-TTL:PT1H
BEGIN:VTIMEZONE
TZID:Europe/Stockholm
BEGIN:DAYLIGHT
TZOFFSETFROM:+0100
TZOFFSETTO:+0200
TZNAME:CEST
DTSTART:20240331T010000
END:DAYLIGHT
BEGIN:STANDARD
TZOFFSETFROM:+0200
TZOFFSETTO:+0100
TZNAME:CET
DTSTART:20241027T010000
END:STANDARD
BEGIN:DAYLIGHT
TZOFFSETFROM:+0100
TZOFFSETTO:+0200
TZNAME:CEST
DTSTART:20250330T010000
END:DAYLIGHT
BEGIN:STANDARD
TZOFFSETFROM:+0200
TZOFFSETTO:+0100
TZNAME:CET
DTSTART:20251026T010000
END:STANDARD
BEGIN:DAYLIGHT
TZOFFSETFROM:+0100
TZOFFSETTO:+0200
TZNAME:CEST
DTSTART:20260329T010000
END:DAYLIGHT
BEGIN:STANDARD
TZOFFSETFROM:+0200
TZOFFSETTO:+0100
TZNAME:CET
DTSTART:20261025T010000
END:STANDARD
END:VTIMEZONE
BEGIN:VEVENT
DTSTART;TZID=Europe/Stockholm:20250702T183000
DTEND;TZID=Europe/Stockholm:20250702T210000
DTSTAMP:20260420T231151
CREATED:20250527T140619Z
LAST-MODIFIED:20250528T164651Z
UID:10006342-1751481000-1751490000@www.heptown.com
SUMMARY:Swing in the park |  Lindy Hop | Beginners drop-in class |  Social dance |  Lund 2/7
DESCRIPTION:Yes\, HepTown and Visit Lund invites you to swing in the park every Wednesday from the 18th of June to the 30th 0f July 2025 \n\nThe whole evening is free!\nIt is drop-in without registration\nYou are equally welcome with or without a dance partner\nWe rotate dance partners as the course gets better that way\n\nWe take it from scratch every time so that new beginners can keep up but will also vary slightly for those who are joining  multiple times. However\, these drop-in classes do not replace our longer beginner courses and weekend courses. \nSCHEDULE\n\nOpen: 18:30 – 21:00\nCost: Free\nBeginners Lindy Hop drop-in class: 18:30-19:30\nSocial dance: 19:30-21:00\nAfter dancing\, hang out at “Stallet” behind Mejeriet: 21-\n\nLOCATION\nThe dance-floor will be located at Stadsparken in Lund. Close to Söderlyckan Skateboardpark Lund and Mejeriet. Map: https://goo.gl/maps/f2UPVyj2Kdq1XGfY6 \nBEGINNERS LINDY HOP DROP-IN CLASS 18:30-19:20\nThe evening starts with a short taster class in Lindy Hop aka jitterbug \, an African American couple swing dance from the ’30s Harlem\, NY. This class is targeted at adults BUT teens that are OK taking classes with adults are also welcome to join.\nJust come and join us\, no partner and no registration needed.\nThis class is taught in English as there is always lots of tourists joining \nThis course is aimed at adults\, but teenagers who dare are welcome to participate. \nMORE THAN DANCING\nThis is also a good time to have a picnic or barbecue\, play some games or just lounging in the sun. \nSTAY HYDRATED\nBring your own water bottle that can be refilled outside the toilets opposite the skate park. https://goo.gl/maps/RfmjSwmHGfT7prkt9 \nMORE LINDY HOP CLASSES\nhttps://www.heptown.com/classes/ \nLinks\n<www.heptown.com>\n<www.sommarlund.se/>\n<www.facebook.com/SwinginHepTown/events>\n<www.heptown.com/classes/> \nWelcome to this thing called swing! \n#swinginthepark #heptown #dans #danskurs #provapå #lindyhop #swingdans #lund #dansiparken #sommarlund #2025
URL:https://www.heptown.com/calendar/swing-in-the-park-lindy-hop-beginners-drop-in-class-social-dance-lund-2-7/
LOCATION:Sommarlunds dansbana\, Ringvägen 15\, Lund\, 22223
CATEGORIES:Beginners' Lindy Hop Class,HepTown,Lindy Hop,Lund,Öresund,Social Dance
ATTACH;FMTTYPE=image/jpeg:https://www.heptown.com/wp-content/uploads/2025/05/35335_image_500376585_1302552268546933_2098856458898310031_n.jpg
GEO:55.69624141516;13.186140840358
X-APPLE-STRUCTURED-LOCATION;VALUE=URI;X-ADDRESS=Sommarlunds dansbana Ringvägen 15 Lund 22223;X-APPLE-RADIUS=500;X-TITLE=Ringvägen 15:geo:13.186140840358,55.69624141516
END:VEVENT
BEGIN:VEVENT
DTSTART;TZID=Europe/Stockholm:20250704T170000
DTEND;TZID=Europe/Stockholm:20250714T203000
DTSTAMP:20260420T231151
CREATED:20250701T111105Z
LAST-MODIFIED:20250701T111745Z
UID:10006373-1751648400-1752525000@www.heptown.com
SUMMARY:Swing dance at Copenhagen Jazz Festival 2025  | Lindy Hop | Balboa | Classes | Social dance | 4-13/7
DESCRIPTION:Good swingtimes at Kultorvet are coming back! Thanks til cooperation between Foreningen Kultorvets Venner and Hepcats and a further economic effort by the dancing societies \n\nHepcats Copenhagen \nSwingshoes \nMinistry of Balboa \n\nA new dancing floor at Kultorvet is being constructed and will be ready for the Copenhagen Jazz Festival. So be prepared!\nThere will fre intros in Lindy Hop\, Balboa and other swing dances every day from 17.30 – 18.30. \nSocial dance from 18.30 – 20.30\, maybe a little later. \nSome days there will be live music! \nDetails and updates in the Facebook event
URL:https://www.heptown.com/calendar/swing-dance-at-copenhagen-jazz-festival-2025/
LOCATION:Kultorvet\, Kultorvet\, København\, 1127\, DK
CATEGORIES:Balboa,Beginner,Beginners' Lindy Hop Class,Big event,Copenhagen,HepCats Copenhagen,Lindy Hop,Öresund,Social Dance
ATTACH;FMTTYPE=image/jpeg:https://www.heptown.com/wp-content/uploads/2025/07/Swing-dancing-at-Copenhagen-Jazz-Festival-2025-v2.jpg
GEO:55.6824525;12.5740377
X-APPLE-STRUCTURED-LOCATION;VALUE=URI;X-ADDRESS=Kultorvet Kultorvet København 1127 DK;X-APPLE-RADIUS=500;X-TITLE=Kultorvet:geo:12.5740377,55.6824525
END:VEVENT
BEGIN:VEVENT
DTSTART;TZID=Europe/Stockholm:20250706T183000
DTEND;TZID=Europe/Stockholm:20250706T213000
DTSTAMP:20260420T231151
CREATED:20250616T111303Z
LAST-MODIFIED:20250627T102416Z
UID:10006367-1751826600-1751837400@www.heptown.com
SUMMARY:DANS PÅ STRANDEN med Cats' Corner || Lindy Hop & Other Swing Dances 6/7
DESCRIPTION:Cats’ Corner invites you to Swing on the Beach! We dance on Sundays from June 29th to August 10th. \n☀️ Taster class for beginners: 18:30-19:30\n☀️ Social dance: 19:30-21:30 \nNo registration\, dance experience or partner needed! Join us – it will be fun! \nWe dance on the wooden dance floor on the beach behind the kiosk\, close to Kallbadhuset. \nhttps://goo.gl/maps/RPWgEnzqR15CSxHh6 \nOn Sundays we love to dance Lindy Hop\, Balboa\, Blues\, collegiate shag and Authentic Solo Jazz. However\, you are welcome to come and move your body to the music in whichever way you like! \n☔ If the weather is not on our side\, we might be forced to cancel. In such cases we announce this in advance in our Facebook events. ☔ \n☀️☀️☀️☀️☀️☀️☀️☀️☀️☀️☀️☀️ \nCATS’ CORNER\nCats’ Corner is a non-profit dance organisation from Malmö. We love to dance Lindy Hop\, a swing dance originating in the African American community in Harlem\, New York in the 1920s-1940s. We also love other swing era dances\, such as Charleston\, Balboa\, Collegiate Shag\, Blues\, and Authentic Jazz. \nWant to know more? Check out www.catscorner.se \nWant to take Lindy Hop classes? Check out www.heptown.com
URL:https://www.heptown.com/calendar/dans-pa-stranden-med-cats-corner-lindy-hop-other-swing-dances-2/
LOCATION:Strandkiosken (vid Kallis-bryggan\, Ribersborg)
CATEGORIES:Beginners' Lindy Hop Class,Cats' Corner,Lindy Hop,Malmö,Öresund,Social Dance
ATTACH;FMTTYPE=image/jpeg:https://www.heptown.com/wp-content/uploads/2025/06/35477_image_508142524_1343416657353808_5910152631082458230_n.jpg
END:VEVENT
BEGIN:VEVENT
DTSTART;TZID=Europe/Stockholm:20250709T183000
DTEND;TZID=Europe/Stockholm:20250709T210000
DTSTAMP:20260420T231151
CREATED:20250527T161408Z
LAST-MODIFIED:20250630T124907Z
UID:10006345-1752085800-1752094800@www.heptown.com
SUMMARY:Swing in the park |  Lindy Hop | Beginners drop-in class |  Social dance |  Lund 9/7
DESCRIPTION:Yes\, HepTown and Visit Lund invites you to swing in the park every Wednesday from the 18th of June to the 30th 0f July 2025 \n\nThe whole evening is free!\nIt is drop-in without registration\nYou are equally welcome with or without a dance partner\nWe rotate dance partners as the course gets better that way\n\nWe take it from scratch every time so that new beginners can keep up but will also vary slightly for those who are joining  multiple times. However\, these drop-in classes do not replace our longer beginner courses and weekend courses. \nSCHEDULE\n\nOpen: 18:30 – 21:00\nCost: Free\nBeginners Lindy Hop drop-in class: 18:30-19:30\nSocial dance: 19:30-21:00\nAfter dancing\, hang out at “Stallet” behind Mejeriet: 21-\n\nLOCATION\nThe dance-floor will be located at Stadsparken in Lund. Close to Söderlyckan Skateboardpark Lund and Mejeriet. Map: https://goo.gl/maps/f2UPVyj2Kdq1XGfY6 \nBEGINNERS LINDY HOP DROP-IN CLASS 18:30-19:20\nThe evening starts with a short taster class in Lindy Hop aka jitterbug \, an African American couple swing dance from the ’30s Harlem\, NY. This class is targeted at adults BUT teens that are OK taking classes with adults are also welcome to join.\nJust come and join us\, no partner and no registration needed.\nThis class is taught in English as there is always lots of tourists joining \nThis course is aimed at adults\, but teenagers who dare are welcome to participate. \nMORE THAN DANCING\nThis is also a good time to have a picnic or barbecue\, play some games or just lounging in the sun. \nSTAY HYDRATED\nBring your own water bottle that can be refilled outside the toilets opposite the skate park. https://goo.gl/maps/RfmjSwmHGfT7prkt9 \nMORE LINDY HOP CLASSES\nhttps://www.heptown.com/classes/ \nLinks\nhttps://www.heptown.com\nhttps://www.sommarlund.se/\nhttps://www.facebook.com/SwinginHepTown/events\nhttps://www.heptown.com/classes/ \nWelcome to this thing called swing! \n#swinginthepark #heptown #dans #danskurs #provapå #lindyhop #swingdans #lund #dansiparken #sommarlund #2025
URL:https://www.heptown.com/calendar/swing-in-the-park-lindy-hop-beginners-drop-in-class-social-dance-lund-9-7/
LOCATION:Sommarlunds dansbana\, Ringvägen 15\, Lund\, 22223
CATEGORIES:Beginners' Lindy Hop Class,HepTown,Lindy Hop,Lund,Öresund,Social Dance
ATTACH;FMTTYPE=image/jpeg:https://www.heptown.com/wp-content/uploads/2025/05/35346_image_497007869_1302644108537749_5482738821505495409_n.jpg
GEO:55.69624141516;13.186140840358
X-APPLE-STRUCTURED-LOCATION;VALUE=URI;X-ADDRESS=Sommarlunds dansbana Ringvägen 15 Lund 22223;X-APPLE-RADIUS=500;X-TITLE=Ringvägen 15:geo:13.186140840358,55.69624141516
END:VEVENT
BEGIN:VEVENT
DTSTART;TZID=Europe/Stockholm:20250713T183000
DTEND;TZID=Europe/Stockholm:20250713T213000
DTSTAMP:20260420T231151
CREATED:20250616T111741Z
LAST-MODIFIED:20250627T102454Z
UID:10006366-1752431400-1752442200@www.heptown.com
SUMMARY:DANS PÅ STRANDEN med Cats' Corner || Lindy Hop & Other Swing Dances 13/7
DESCRIPTION:Cats’ Corner invites you to Swing on the Beach! We dance on Sundays from June 29th to August 10th. \n☀️ Taster class for beginners: 18:30-19:30\n☀️ Social dance: 19:30-21:30 \nNo registration\, dance experience or partner needed! Join us – it will be fun! \nWe dance on the wooden dance floor on the beach behind the kiosk\, close to Kallbadhuset. \nhttps://goo.gl/maps/RPWgEnzqR15CSxHh6 \nOn Sundays we love to dance Lindy Hop\, Balboa\, Blues\, collegiate shag and Authentic Solo Jazz. However\, you are welcome to come and move your body to the music in whichever way you like! \n☔ If the weather is not on our side\, we might be forced to cancel. In such cases we announce this in advance in our Facebook events. ☔ \n☀️☀️☀️☀️☀️☀️☀️☀️☀️☀️☀️☀️ \nCATS’ CORNER\nCats’ Corner is a non-profit dance organisation from Malmö. We love to dance Lindy Hop\, a swing dance originating in the African American community in Harlem\, New York in the 1920s-1940s. We also love other swing era dances\, such as Charleston\, Balboa\, Collegiate Shag\, Blues\, and Authentic Jazz. \nWant to know more? Check out www.catscorner.se \nWant to take Lindy Hop classes? Check out www.heptown.com
URL:https://www.heptown.com/calendar/dans-pa-stranden-med-cats-corner-lindy-hop-other-swing-dances-13-7/
LOCATION:Strandkiosken (vid Kallis-bryggan\, Ribersborg)
CATEGORIES:Beginners' Lindy Hop Class,Cats' Corner,Lindy Hop,Malmö,Öresund,Social Dance
ATTACH;FMTTYPE=image/jpeg:https://www.heptown.com/wp-content/uploads/2025/06/35477_image_508142524_1343416657353808_5910152631082458230_n.jpg
END:VEVENT
BEGIN:VEVENT
DTSTART;TZID=Europe/Stockholm:20250716T173000
DTEND;TZID=Europe/Stockholm:20250716T210000
DTSTAMP:20260420T231151
CREATED:20250528T163303Z
LAST-MODIFIED:20250615T183337Z
UID:10006347-1752687000-1752699600@www.heptown.com
SUMMARY:Swing in the park |  Lindy Hop | Swingkids | Beginners drop-in class |  Social dance |  Lund 16/7
DESCRIPTION:HepTown och Visit Lund bjuder in till swingdans i parken varje onsdag från den 18 juni till den 30 juli 2025\nVi har som vanligt prova-på i Lindy Hop\, en fartfylld och rolig swingdans följt av socialdans till swingmusik. \nDenna kväll samt 18 juni börjar vi 1h tidigare med en kurs speciellt för Swingkids 10-14 år \n\nHela kvällen är gratis!\nDet är drop-in utan föranmälan\nDu är lika välkommen med eller utan danspartner\nOavsett ålder och danserfarenhet\nVi roterar danspartner då det blir bättre kurs så.\n\nVi tar det från början varje gång så att nya nybörjare kan hänga med men kommer även att variera något för de som är med flera gånger. Dessa prova-på ersätter dock inte våra längre nybörjarkurser och helgerkurser. \nTIDER\n\nÖppet: 17:30-21:00\nKostnad: Gratis\nSwingkids 10-14 år: 17:30-18:30\nNybörjare Lindy Hop drop-in: 18:30-19:30\nSocialdans: 19:30-21:00\nEfter dans häng “Stallet” bakom Mejeriet: 21-\nKvällens instruktörer: LinaMaria & Jerry \nSwing DJ:  t.b.a.\n\nHITTA HIT\nDansgolvet med vitt tälttak kommer att ligga i Stadsparken i Lund. Nära Söderlyckans Skateboardpark och Mejeriet. Karta: https://goo.gl/maps/f2UPVyj2Kdq1XGfY6 \nPROVA-PÅ SWINGKIDS 10-14 ÅR 17.30-18.30\nSom ett smakprov på höstens Swingkids-kurser på Stenkrossen bjuder LinaMaria & Jerry på prova-på i parken 18 juni samt 16 juli \nKursen riktar sig till de som är 10-14 år men denna kväll är vi inte jättenoga med åldern. Vuxna får dock hålla sig till näste timme!\nhttps://www.heptown.com/sv/lindy-hop-aerials/#kids \nPROVA-PÅ LINDY HOP 18.30-19.30\nAlla kvällarna inleds med en kort prova på kurs i swingdansen Lindy Hop\, a.k.a Jitterbugg\, en Afroamerikansk pardans från 30-talets Harlem\, vilken stilmässigt har mer gemensamt med dagens street-dance än annan pardans. \nKursen riktar sig till vuxna men tonåringar som vågar är mycket välkomna att delta.\nhttps://www.heptown.com/sv/kurser/ \nMER ÄN BARA DANS\nDetta är också ett bra tillfälle att ha en picknick eller grilla\, spela några spel eller bara slappa i solen. \nFYLL PÅ MED VÄTSKA!\nTa med egen vattenflaska som kan fyllas på utanför toaletterna mitt emot skateparken. https://goo.gl/maps/RfmjSwmHGfT7prkt9 \nMER LINDY HOP-KURSER\nhttps://www.heptown.com/sv/kurser/ \n#swinginthepark #heptown #dans #danskurs #provapå #lindyhop #swingdans #lund #dansiparken #sommarlund #2025
URL:https://www.heptown.com/calendar/swing-in-the-park-lindy-hop-beginners-drop-in-class-social-dance-lund-16-7/
LOCATION:Sommarlunds dansbana\, Ringvägen 15\, Lund\, 22223
CATEGORIES:Aerials,Beginners' Lindy Hop Class,Big event,Lindy Hop,Lund,Öresund,Social Dance
ATTACH;FMTTYPE=image/jpeg:https://www.heptown.com/wp-content/uploads/2025/05/35359_image_495951657_1303678048434355_8507393234232045793_n.jpg
GEO:55.69624141516;13.186140840358
X-APPLE-STRUCTURED-LOCATION;VALUE=URI;X-ADDRESS=Sommarlunds dansbana Ringvägen 15 Lund 22223;X-APPLE-RADIUS=500;X-TITLE=Ringvägen 15:geo:13.186140840358,55.69624141516
END:VEVENT
BEGIN:VEVENT
DTSTART;TZID=Europe/Stockholm:20250720T183000
DTEND;TZID=Europe/Stockholm:20250720T213000
DTSTAMP:20260420T231151
CREATED:20250616T111414Z
LAST-MODIFIED:20250627T102516Z
UID:10006365-1753036200-1753047000@www.heptown.com
SUMMARY:DANS PÅ STRANDEN med Cats' Corner || Lindy Hop & Other Swing Dances 20/7
DESCRIPTION:Cats’ Corner invites you to Swing on the Beach! We dance on Sundays from June 29th to August 10th. \n☀️ Taster class for beginners: 18:30-19:30\n☀️ Social dance: 19:30-21:30 \nNo registration\, dance experience or partner needed! Join us – it will be fun! \nWe dance on the wooden dance floor on the beach behind the kiosk\, close to Kallbadhuset. \nhttps://goo.gl/maps/RPWgEnzqR15CSxHh6 \nOn Sundays we love to dance Lindy Hop\, Balboa\, Blues\, collegiate shag and Authentic Solo Jazz. However\, you are welcome to come and move your body to the music in whichever way you like! \n☔ If the weather is not on our side\, we might be forced to cancel. In such cases we announce this in advance in our Facebook events. ☔ \n☀️☀️☀️☀️☀️☀️☀️☀️☀️☀️☀️☀️ \nCATS’ CORNER\nCats’ Corner is a non-profit dance organisation from Malmö. We love to dance Lindy Hop\, a swing dance originating in the African American community in Harlem\, New York in the 1920s-1940s. We also love other swing era dances\, such as Charleston\, Balboa\, Collegiate Shag\, Blues\, and Authentic Jazz. \nWant to know more? Check out www.catscorner.se \nWant to take Lindy Hop classes? Check out www.heptown.com
URL:https://www.heptown.com/calendar/dans-pa-stranden-med-cats-corner-lindy-hop-other-swing-dances-20-7/
LOCATION:Strandkiosken (vid Kallis-bryggan\, Ribersborg)
CATEGORIES:Beginners' Lindy Hop Class,Cats' Corner,Lindy Hop,Malmö,Öresund,Social Dance
ATTACH;FMTTYPE=image/jpeg:https://www.heptown.com/wp-content/uploads/2025/06/35477_image_508142524_1343416657353808_5910152631082458230_n.jpg
END:VEVENT
BEGIN:VEVENT
DTSTART;TZID=Europe/Stockholm:20250723T183000
DTEND;TZID=Europe/Stockholm:20250723T210000
DTSTAMP:20260420T231151
CREATED:20250605T152647Z
LAST-MODIFIED:20250630T125201Z
UID:10006350-1753295400-1753304400@www.heptown.com
SUMMARY:Swing in the park |  Lindy Hop | Beginners drop-in class |  Social dance |  Lund 23/7
DESCRIPTION:Yes\, HepTown and Visit Lund invites you to swing in the park every Wednesday from the 18th of June to the 30th 0f July 2025 \nThis evening is the season finale for Lindy Hop in Lund City Park BUT we will continue unofficially on Mondays with only social dancing on “dansön” in Brunnshög for three more weeks \n\nThe whole evening is free!\nIt is drop-in without registration\nYou are equally welcome with or without a dance partner\nWe rotate dance partners as the course gets better that way\n\nWe take it from scratch every time so that new beginners can keep up but will also vary slightly for those who are joining  multiple times. However\, these drop-in classes do not replace our longer beginner courses and weekend courses. \nSCHEDULE\n\nOpen: 18:30 – 21:00\nCost: Free\nBeginners Lindy Hop drop-in class: 18:30-19:30\nSocial dance: 19:30-21:00\nAfter dancing\, hang out at “Stallet” behind Mejeriet: 21-\n\nLOCATION\nThe dance-floor will be located at Stadsparken in Lund. Close to Söderlyckan Skateboardpark Lund and Mejeriet. Map: https://goo.gl/maps/f2UPVyj2Kdq1XGfY6 \nBEGINNERS LINDY HOP DROP-IN CLASS 18:30-19:20\nThe evening starts with a short taster class in Lindy Hop aka jitterbug \, an African American couple swing dance from the ’30s Harlem\, NY. This class is targeted at adults BUT teens that are OK taking classes with adults are also welcome to join.\nJust come and join us\, no partner and no registration needed.\nThis class is taught in English as there is always lots of tourists joining \nThis course is aimed at adults\, but teenagers who dare are welcome to participate. \nMORE THAN DANCING\nThis is also a good time to have a picnic or barbecue\, play some games or just lounging in the sun. \nSTAY HYDRATED\nBring your own water bottle that can be refilled outside the toilets opposite the skate park. https://goo.gl/maps/RfmjSwmHGfT7prkt9 \nMORE LINDY HOP CLASSES\nhttps://www.heptown.com/classes/ \nLinks\nhttps://www.heptown.com\nhttps://www.sommarlund.se/\nhttps://www.facebook.com/SwinginHepTown/events \nWelcome to this thing called swing! \n#swinginthepark #heptown #dans #danskurs #provapå #lindyhop #swingdans #lund #dansiparken #sommarlund #2025
URL:https://www.heptown.com/calendar/swing-in-the-park-lindy-hop-beginners-drop-in-class-social-dance-lund-23-7/
LOCATION:Sommarlunds dansbana\, Ringvägen 15\, Lund\, 22223
CATEGORIES:Beginners' Lindy Hop Class,HepTown,Lindy Hop,Lund,Öresund,Social Dance
ATTACH;FMTTYPE=image/jpeg:https://www.heptown.com/wp-content/uploads/2025/06/35392_image_502519719_1304717738330386_8178912477725199869_n.jpg
GEO:55.69624141516;13.186140840358
X-APPLE-STRUCTURED-LOCATION;VALUE=URI;X-ADDRESS=Sommarlunds dansbana Ringvägen 15 Lund 22223;X-APPLE-RADIUS=500;X-TITLE=Ringvägen 15:geo:13.186140840358,55.69624141516
END:VEVENT
BEGIN:VEVENT
DTSTART;TZID=Europe/Stockholm:20250727T183000
DTEND;TZID=Europe/Stockholm:20250727T213000
DTSTAMP:20260420T231151
CREATED:20250616T111329Z
LAST-MODIFIED:20250627T102529Z
UID:10006364-1753641000-1753651800@www.heptown.com
SUMMARY:DANS PÅ STRANDEN med Cats' Corner || Lindy Hop & Other Swing Dances 27/7
DESCRIPTION:Cats’ Corner invites you to Swing on the Beach! We dance on Sundays from June 29th to August 10th. \n☀️ Taster class for beginners: 18:30-19:30\n☀️ Social dance: 19:30-21:30 \nNo registration\, dance experience or partner needed! Join us – it will be fun! \nWe dance on the wooden dance floor on the beach behind the kiosk\, close to Kallbadhuset. \nhttps://goo.gl/maps/RPWgEnzqR15CSxHh6 \nOn Sundays we love to dance Lindy Hop\, Balboa\, Blues\, collegiate shag and Authentic Solo Jazz. However\, you are welcome to come and move your body to the music in whichever way you like! \n☔ If the weather is not on our side\, we might be forced to cancel. In such cases we announce this in advance in our Facebook events. ☔ \n☀️☀️☀️☀️☀️☀️☀️☀️☀️☀️☀️☀️ \nCATS’ CORNER\nCats’ Corner is a non-profit dance organisation from Malmö. We love to dance Lindy Hop\, a swing dance originating in the African American community in Harlem\, New York in the 1920s-1940s. We also love other swing era dances\, such as Charleston\, Balboa\, Collegiate Shag\, Blues\, and Authentic Jazz. \nWant to know more? Check out www.catscorner.se \nWant to take Lindy Hop classes? Check out www.heptown.com
URL:https://www.heptown.com/calendar/dans-pa-stranden-med-cats-corner-lindy-hop-other-swing-dances-27-7/
LOCATION:Strandkiosken (vid Kallis-bryggan\, Ribersborg)
CATEGORIES:Beginners' Lindy Hop Class,Cats' Corner,Lindy Hop,Malmö,Öresund,Social Dance
ATTACH;FMTTYPE=image/jpeg:https://www.heptown.com/wp-content/uploads/2025/06/35477_image_508142524_1343416657353808_5910152631082458230_n.jpg
END:VEVENT
BEGIN:VEVENT
DTSTART;TZID=Europe/Stockholm:20250730T183000
DTEND;TZID=Europe/Stockholm:20250730T210000
DTSTAMP:20260420T231151
CREATED:20250605T152941Z
LAST-MODIFIED:20250709T094442Z
UID:10006351-1753900200-1753909200@www.heptown.com
SUMMARY:Swing in the park |  Lindy Hop | Beginners drop-in class |  Social dance | Season finale | Lund 30/7
DESCRIPTION:Yes\, HepTown and Visit Lund invites you to swing in the park every Wednesday from the 18th of June to the 30th 0f July 2025 \nThis evening is the season finale for Lindy Hop in Lund City Park BUT we will continue unofficially on Mondays with only social dancing on “dansön” in Brunnshög for three more weeks \n\nThe whole evening is free!\nIt is drop-in without registration\nYou are equally welcome with or without a dance partner\nWe rotate dance partners as the course gets better that way\n\nWe take it from scratch every time so that new beginners can keep up but will also vary slightly for those who are joining  multiple times. However\, these drop-in classes do not replace our longer beginner courses and weekend courses. \nSCHEDULE\n\nOpen: 18:30 – 21:00\nCost: Free\nBeginners Lindy Hop drop-in class: 18:30-19:30\nSocial dance: 19:30-21:00\nAfter dancing\, hang out at “Stallet” behind Mejeriet: 21-\n\nLOCATION\nThe dance-floor will be located at Stadsparken in Lund. Close to Söderlyckan Skateboardpark Lund and Mejeriet. Map: https://goo.gl/maps/f2UPVyj2Kdq1XGfY6 \nBEGINNERS LINDY HOP DROP-IN CLASS 18:30-19:20\nThe evening starts with a short taster class in Lindy Hop aka jitterbug \, an African American couple swing dance from the ’30s Harlem\, NY. This class is targeted at adults BUT teens that are OK taking classes with adults are also welcome to join.\nJust come and join us\, no partner and no registration needed.\nThis class is taught in English as there is always lots of tourists joining \nThis course is aimed at adults\, but teenagers who dare are welcome to participate. \nMORE THAN DANCING\nThis is also a good time to have a picnic or barbecue\, play some games or just lounging in the sun. \nSTAY HYDRATED\nBring your own water bottle that can be refilled outside the toilets opposite the skate park. https://goo.gl/maps/RfmjSwmHGfT7prkt9 \nMORE LINDY HOP CLASSES\nhttps://www.heptown.com/classes/ \nLinks\nhttps://www.heptown.com\nhttps://www.sommarlund.se/\nhttps://www.facebook.com/SwinginHepTown/events \nWelcome to this thing called swing!
URL:https://www.heptown.com/calendar/swing-in-the-park-lindy-hop-beginners-drop-in-class-social-dance-season-finale-lund-23-7/
LOCATION:Sommarlunds dansbana\, Ringvägen 15\, Lund\, 22223
CATEGORIES:Beginners' Lindy Hop Class,Big event,HepTown,Lindy Hop,Lund,Öresund,Social Dance
ATTACH;FMTTYPE=image/jpeg:https://www.heptown.com/wp-content/uploads/2025/06/35395_image_502583020_1308814467920713_4595298263002576724_n.jpg
GEO:55.69624141516;13.186140840358
X-APPLE-STRUCTURED-LOCATION;VALUE=URI;X-ADDRESS=Sommarlunds dansbana Ringvägen 15 Lund 22223;X-APPLE-RADIUS=500;X-TITLE=Ringvägen 15:geo:13.186140840358,55.69624141516
END:VEVENT
END:VCALENDAR