BEGIN:VCALENDAR
VERSION:2.0
PRODID:-//HepTown - ECPv6.15.20//NONSGML v1.0//EN
CALSCALE:GREGORIAN
METHOD:PUBLISH
X-WR-CALNAME:HepTown
X-ORIGINAL-URL:https://www.heptown.com
X-WR-CALDESC:Events for HepTown
REFRESH-INTERVAL;VALUE=DURATION:PT1H
X-Robots-Tag:noindex
X-PUBLISHED-TTL:PT1H
BEGIN:VTIMEZONE
TZID:Europe/Stockholm
BEGIN:DAYLIGHT
TZOFFSETFROM:+0100
TZOFFSETTO:+0200
TZNAME:CEST
DTSTART:20230326T010000
END:DAYLIGHT
BEGIN:STANDARD
TZOFFSETFROM:+0200
TZOFFSETTO:+0100
TZNAME:CET
DTSTART:20231029T010000
END:STANDARD
BEGIN:DAYLIGHT
TZOFFSETFROM:+0100
TZOFFSETTO:+0200
TZNAME:CEST
DTSTART:20240331T010000
END:DAYLIGHT
BEGIN:STANDARD
TZOFFSETFROM:+0200
TZOFFSETTO:+0100
TZNAME:CET
DTSTART:20241027T010000
END:STANDARD
BEGIN:DAYLIGHT
TZOFFSETFROM:+0100
TZOFFSETTO:+0200
TZNAME:CEST
DTSTART:20250330T010000
END:DAYLIGHT
BEGIN:STANDARD
TZOFFSETFROM:+0200
TZOFFSETTO:+0100
TZNAME:CET
DTSTART:20251026T010000
END:STANDARD
END:VTIMEZONE
BEGIN:VEVENT
DTSTART;TZID=Europe/Stockholm:20240304T200000
DTEND;TZID=Europe/Stockholm:20240304T220000
DTSTAMP:20260422T220525
CREATED:20240219T124602Z
LAST-MODIFIED:20240219T124602Z
UID:10006087-1709582400-1709589600@www.heptown.com
SUMMARY:Monday Night Swing | Lindy Hop | Social Dance 4/3
DESCRIPTION:Welcome to Monday Night Swing a social dance where we every Monday swing-out in the big ballroom at Kårhuset. \nNew to Lindy Hop? There is no drop-in class tonight but just come and we will have someone spend a song showing you a move or two…. Also checkout our beginners’ courses and weekends! \n\nRegistration: https://dans.se/heptown/shop/?event=202754\nSeason Pass: https://dans.se/heptown/shop/?event=202652\nMore events and classes: https://www.heptown.com/\nMonday Night Swing: https://www.heptown.com/monday-night-swing/\n\nYou are very welcome regardless of age\, membership\, dance ability\, with or without a partner and if you are a student or not. \nAt this social dance We mostly dance Lindy Hop but you can also find someone dancing Balboa\, Solo Jazz and Collegiate Shag. You are of course welcome to come and dance foxtrot\, bugg or any dance you know… \nSCHEDULE\n\nDoors open 19:45\nSocial dance: 20:00-22:00\nAfterparty / Social hang-out at Botulfs 22:15-23:30\n\nLOCATION\n\nKårhuset\, Gasque salen\, John Ericssons väg 3\nEnter through the amphitheater here: https://goo.gl/maps/v3hmJZozeFkeysQ18\nParking: https://goo.gl/maps/AveB7GXCECgWx63f9\n\nPrice & discounts\n\n80kr fixed rate if you pay by swish or cash at the door.\n70kr if you sign-up in advance.\n20kr (additional) discount if you are a member and sign-up in advance.\n20kr (additional) discount for students(ST)\, youth or the unemployed(AR) that sign up in advance.\nLower price (or free) when we move to Smålands Nation.\n0kr for those who sign-up as volunteer and help out during the evening .\n\nPree-book entrance for best price\nhttps://www.heptown.com/monday-night-swing/#book\nhttps://dans.se/heptown/shop/?event=202651&info=1\nMembership: https://www.heptown.com/member/ \nVolunteer and get in for free\nYou can volunteer for about 1/2 an hour to get in for free. Just ask for Håkan to get more information or email classes@heptown.com\nThe volunteer schedule and sign-up is now available online\nSchedule: https://bit.ly/mondaycrew\nSign-up: https://bit.ly/catcrewme \nMore information\nhttps://www.heptown.com/monday-night-swing/\n+ Information på Svenska: https://www.heptown.com/sv/mandagsswing/ \nAfterparty / Social hang-out at Botulfs 22:15-23:30\nLet’s meet up and get to know each other after the dance. We will walk/bike from Kårhuset after the dance and go to Botulfs bar.\nhttps://www.facebook.com/events/1877090826096761 \nLindy Hop Classes Spring 2024\nKårhuset is also the home of some of our classes\, with more classes around Lund and Malmö. A new addition is a special youth & student track starting in January and conveniently right before this social dance \nBeginners weekends/courses\nhttps://www.heptown.com/classes/#beginners\nFull semester continued to advanced\nhttps://www.heptown.com/classes/schedule/#S24 \nSocial dances starting with a beginners class\nhttps://www.heptown.com/calendar/category/beginners-class/ \nBook a ticket\nFacebook-events\nLindy Hop Registration\n#LindyHop #Lund #Kårhuset
URL:https://www.heptown.com/calendar/monday-night-swing-lindy-hop-social-dance-4-3/
LOCATION:Teknologkåren vid LTH\, John Ericssons väg 3\, Lund\, 223 63\, Sweden
CATEGORIES:HepTown,Lindy Hop,Lund,Monday Night Swing,Öresund,Social Dance
ATTACH;FMTTYPE=image/jpeg:https://www.heptown.com/wp-content/uploads/2024/02/33129_image_424931931_919126230222874_485033963700325933_n.jpg
END:VEVENT
BEGIN:VEVENT
DTSTART;TZID=Europe/Stockholm:20240311T200000
DTEND;TZID=Europe/Stockholm:20240311T220000
DTSTAMP:20260422T220525
CREATED:20240126T093857Z
LAST-MODIFIED:20240126T093857Z
UID:10006079-1710187200-1710194400@www.heptown.com
SUMMARY:Monday Night Swing @ Smålands Nation 11/3
DESCRIPTION:The swing thing 11/3 and 8/4 is moved to Smålands Nation! \nReduced prices to get in! \nYou are very welcome regardless of age\, membership\, dance ability\, with or without a partner and if you are a student or not. \n\nRegistration: https://dans.se/heptown/shop/new?event=202755\nSeason Pass: https://dans.se/heptown/shop/?event=202652\nMore events and classes: https://www.heptown.com/\nMonday Night Swing: https://www.heptown.com/monday-night-swing/\n\nNew to Lindy Hop? There is no drop-in class tonight but just let us know and we will have someone spend a song showing you a move or two…. Also checkout our beginners’ weekends! \nSocial swing dance\n\nSocial dance 20:00-22:00\nKlubblokalen\, Smålands Nation\, Kastanjegatan 7\,  Lund\nMap:https://goo.gl/maps/owxV5keNecxsdzvz6\n\nPrice & discounts\n\n50kr fixed rate if you pay by swish at the door.\n40kr if you sign-up in advance.\n20kr (additional) discount if you are a member and sign-up in advance.\n20kr (additional) discount for students(ST)\, youth or the unemployed(AR) that sign up in advance.\n0kr for those who sign-up as volunteer and help out during the evening .\n\nPree-book entrance for best price\nhttps://www.heptown.com/monday-night-swing/#book \nVolunteer and get in for free\nYou can volunteer for about 1/2 an hour to get in for free. Just ask for Håkan to get more information or email classes@heptown.com\nThe volunteer schedule and sign-up is now available online\nSchedule: https://bit.ly/mondaycrew\nSign-up: https://bit.ly/catcrewme \nSocial dances starting with a beginners class\nhttps://www.heptown.com/calendar/category/beginners-class/ \nLindy Hop Classes\n<https://www.heptown.com/classes/ \nLindy Hop events\nhttps://www.heptown.com/calendar/
URL:https://www.heptown.com/calendar/monday-night-swing-smalands-nation-11-3/
LOCATION:Smålands Nation\, Kastanjegatan 7\, Lund\, 22359\, SE
CATEGORIES:Big event,HepTown,Lindy Hop,Lund,Monday Night Swing,Social Dance
ATTACH;FMTTYPE=image/jpeg:https://www.heptown.com/wp-content/uploads/2024/01/33000_image_421889462_899738935494937_8236957072367243443_n.jpg
END:VEVENT
BEGIN:VEVENT
DTSTART;TZID=Europe/Stockholm:20240313T200000
DTEND;TZID=Europe/Stockholm:20240313T223000
DTSTAMP:20260422T220525
CREATED:20240312T165152Z
LAST-MODIFIED:20240312T165152Z
UID:10006092-1710360000-1710369000@www.heptown.com
SUMMARY:Wednesday Night Hop |  Social dance | Lindy Hop | 13/3
DESCRIPTION:Welcome to Cats’ Corners swingin’ Wednesday Night Hop in the grand ballroom at Moriska Paviljongen. \n\nDoors open: 20:00\nSocial dance: 20:00-22.30 (Stora Salen)\nDJ: TBA\nBallroom door fee: 80kr\, 60kr for Cats’ Corner members / students\nMoriska Paviljongen\, Norra Parkgatan 2\, Malmö\nMap: https://goo.gl/maps/kBpFWfswzEjyKyvb9\nVolunteer at the front desk: http://catscorner.se/volunteering/\n\nVolunteering?\nWe often need help at the front desk.\nFor 30 min of your time\, you’ll receive free entrance for the night.\nThere’s a list at the front desk.\nAnd you can also sign-up in advance here:\nhttps://catscorner.se/volunteering/ \nLINDY HOP\nThe main dance on Wednesdays’ is Lindy Hop\, a swing dance originating in the 30-40s in Harlem\, NY. But you are always welcome to dance whatever you like or just hang out\nhttps://www.youtube.com/results?search_query=lindy+hop\nhttps://en.wikipedia.org/wiki/Lindy_Hop \nCATS’ CORNER\nCats’ Corner is a non-profit dance organisation from Malmö. Our main focus is Lindy Hop\, but we gladly also dance Charleston\, Balboa\, Shag\, Blues\, Authentic Jazz and other Swing dances.\nhttps://www.catscorner.se/\nhttps://www.heptown.com/calendar/category/organizer/cats-corner/ \nLINDY HOP DANCE CLASSES?\nThis is also the home for some of HepTowns weekly courses. Take a look at:\nhttps://www.heptown.com/classes/schedule/ \nBEGINNERS LINDT HOP WEEKENDS\nhttps://www.heptown.com/classes/ \nMORISKA PAVILJONGEN\nMoriska Paviljongen är Malmös största oberoende kultur- och nöjeshus. Moriskan erbjuder Bistro\, Bar\, Kulturprogram och Nattklubb på 4 olika scener i en anrik miljö från 1901. Mer info finns på:\nwww.moriskapaviljongen.se\nwww.facebook.com/moriskapaviljongen\nwww.instagram.com/moriska_paviljongen
URL:https://www.heptown.com/calendar/wednesday-night-hop-social-dance-lindy-hop-13-3/
LOCATION:Moriska Paviljongen
CATEGORIES:Cats' Corner,Lindy Hop,Malmö,Öresund
ATTACH;FMTTYPE=image/jpeg:https://www.heptown.com/wp-content/uploads/2024/03/33179_image_425536286_967322858296525_8689497201347664734_n.jpg
END:VEVENT
BEGIN:VEVENT
DTSTART;TZID=Europe/Stockholm:20240316T180000
DTEND;TZID=Europe/Stockholm:20240317T020000
DTSTAMP:20260422T220525
CREATED:20240304T143824Z
LAST-MODIFIED:20240304T143824Z
UID:10006089-1710612000-1710640800@www.heptown.com
SUMMARY:The LAST Black Cat's Blues Dance Party @ NGBG 16/3
DESCRIPTION:The Black Cat & Co is back for what is probably the very last blues party at NGBG before they need to leave their great house \nThe party is formally a free\, NGBG members only event. Thus you all need to become members of NGBG\, arrive before 22:00 and sign up below to get in as spots are limited.https://dans.se/heptown/shop/?event=211799 \nMARIA SCHILLING TRIO LIVE ON STAGE (in the cafe)\nThe amazing Maria Schilling will be there with her trio to release their new record and will of course also play some blues.\nThe event is free but to cover the cost of musicians suggested donation is SEK 150 but anything helps.  Live music starts round 21:00\nSwish: http://tinyurl.com/29dre5ma\nhttps://www.mariaschilling.com/ \n\nNGBG downstairs is open from: 18:00\nFood is available from: 19:00 (or a bit earlier)\nBeginners Blues dance class in the attic: 20-21 \nBlues party in the attic: 21:00 until late night\nMaria live in the bar 21:00\nArrive before 22:00 when we lock the gates\nNear Annelundsgatan 63\, Malmö\nMore blues at: www.heptown.com/blues/\n\nThe attic blues party starts at 20:00 but you are welcome to hangout downstairs at NGBG from 18:00. As usual there will be art exebitions and other cool stuff happening. NGBG will have some simple and very affordable food and drinks. \nMANDATORY NGBG MEMBERSHIP\nEntrance to NGBG is free and open to the public until 18:00. After this it’s only open to NGBG members. Not a member? No worries\, it’s only 100kr for a year’s membership: Card payment at <https://apply.cardskipper.se/r4q >or Swish 100 kr to 1231083823 and write your email in the message. \nBLUES DANCING?\nBlues dancing is whole a family of dances with African American roots danced to blues music\, it can for instance look like this when local dancers Philippa and Vivien dance https://www.youtube.com/results?search_query=Philippa+Svensson+and+Vivien+Nivesse+blues \nBUT as we see it knowing the “right steps” is not as important as feeling the music and you are equally welcome regardless of experience or if you just want to hang out and enjoy the vibe… \nMore Blues dancing\nhttps://www.heptown.com/blues/ \nVery welcome!\nWelcome! \nThe Black Cat & Co\n Håkan\, Erik\, Jared and Oscar
URL:https://www.heptown.com/calendar/the-last-black-cats-blues-dance-party-ngbg-16-3/
LOCATION:NGBG\, Annelundsgatan 61\, Malmö\, 21444\, SE
CATEGORIES:Big event,Blues Dance,Malmö,Öresund,Social Dance
ATTACH;FMTTYPE=image/jpeg:https://www.heptown.com/wp-content/uploads/2024/03/33155_image_424612725_910580561077441_4465516262975575365_n.jpg
END:VEVENT
BEGIN:VEVENT
DTSTART;TZID=Europe/Stockholm:20240318T200000
DTEND;TZID=Europe/Stockholm:20240318T220000
DTSTAMP:20260422T220525
CREATED:20240304T143551Z
LAST-MODIFIED:20240304T144951Z
UID:10006088-1710792000-1710799200@www.heptown.com
SUMMARY:Monday Night Swing | Lindy Hop | Social Dance 18/3
DESCRIPTION:Welcome to Monday Night Swing a social dance where we every Monday swing-out in the big ballroom at Kårhuset. \nNew to Lindy Hop? There is no drop-in class tonight but just come and we will have someone spend a song showing you a move or two…. Also checkout our beginners’ courses and weekends! \n\nRegistration: https://dans.se/heptown/shop/?event=202756\nSeason Pass: https://dans.se/heptown/shop/?event=202652\nMore events and classes: https://www.heptown.com/\nMonday Night Swing: https://www.heptown.com/monday-night-swing/\n\nYou are very welcome regardless of age\, membership\, dance ability\, with or without a partner and if you are a student or not. \nAt this social dance We mostly dance Lindy Hop but you can also find someone dancing Balboa\, Solo Jazz and Collegiate Shag. You are of course welcome to come and dance foxtrot\, bugg or any dance you know… \nSCHEDULE\n\nDoors open 19:45\nSocial dance: 20:00-22:00\nAfterparty / Social hang-out at Botulfs 22:15-23:30\n\nLOCATION\n\nKårhuset\, Gasque salen\, John Ericssons väg 3\nEnter through the amphitheater here: https://goo.gl/maps/v3hmJZozeFkeysQ18\nParking: https://goo.gl/maps/AveB7GXCECgWx63f9\n\nPrice & discounts\n\n80kr fixed rate if you pay by swish or cash at the door.\n70kr if you sign-up in advance.\n20kr (additional) discount if you are a member and sign-up in advance.\n20kr (additional) discount for students(ST)\, youth or the unemployed(AR) that sign up in advance.\nLower price (or free) when we move to Smålands Nation.\n0kr for those who sign-up as volunteer and help out during the evening .\n\nPree-book entrance for best price\nhttps://www.heptown.com/monday-night-swing/#book\nhttps://dans.se/heptown/shop/?event=202651&info=1\nMembership: https://www.heptown.com/member/ \nVolunteer and get in for free\nYou can volunteer for about 1/2 an hour to get in for free. Just ask for Håkan to get more information or email classes@heptown.com\nThe volunteer schedule and sign-up is now available online\nSchedule: https://bit.ly/mondaycrew\nSign-up: https://bit.ly/catcrewme \nMore information\nhttps://www.heptown.com/monday-night-swing/\n+ Information på Svenska: https://www.heptown.com/sv/mandagsswing/ \nAfterparty / Social hang-out at Botulfs 22:15-23:30\nLet’s meet up and get to know each other after the dance. We will walk/bike from Kårhuset after the dance and go to Botulfs bar.\nhttps://www.facebook.com/events/1877090826096761 \nLindy Hop Classes Spring 2024\nKårhuset is also the home of some of our classes\, with more classes around Lund and Malmö. A new addition is a special youth & student track starting in January and conveniently right before this social dance \nBeginners weekends/courses\nhttps://www.heptown.com/classes/#beginners\nFull semester continued to advanced\nhttps://www.heptown.com/classes/schedule/#S24 \nSocial dances starting with a beginners class\nhttps://www.heptown.com/calendar/category/beginners-class/ \nBook a ticket\nFacebook-events\nLindy Hop Registration\n#LindyHop #Lund #Kårhuset
URL:https://www.heptown.com/calendar/monday-night-swing-lindy-hop-social-dance-19-2-2/
LOCATION:Teknologkåren vid LTH\, John Ericssons väg 3\, Lund\, 223 63\, Sweden
CATEGORIES:HepTown,Lindy Hop,Lund,Monday Night Swing,Öresund,Social Dance
ATTACH;FMTTYPE=image/jpeg:https://www.heptown.com/wp-content/uploads/2024/03/33151_image_431186663_928765535925610_2966353432411389302_n.jpg
END:VEVENT
BEGIN:VEVENT
DTSTART;TZID=Europe/Stockholm:20240320T200000
DTEND;TZID=Europe/Stockholm:20240320T223000
DTSTAMP:20260422T220525
CREATED:20240312T165154Z
LAST-MODIFIED:20240312T165154Z
UID:10006093-1710964800-1710973800@www.heptown.com
SUMMARY:Wednesday Night Hop |  Social dance | Lindy Hop | 20/3
DESCRIPTION:Welcome to Cats’ Corners swingin’ Wednesday Night Hop in the grand ballroom at Moriska Paviljongen. \n\nDoors open: 20:00\nSocial dance: 20:00-22.30 (Stora Salen)\nDJ: TBA\nBallroom door fee: 80kr\, 60kr for Cats’ Corner members / students\nMoriska Paviljongen\, Norra Parkgatan 2\, Malmö\nMap: https://goo.gl/maps/kBpFWfswzEjyKyvb9\nVolunteer at the front desk: http://catscorner.se/volunteering/\n\nVolunteering?\nWe often need help at the front desk.\nFor 30 min of your time\, you’ll receive free entrance for the night.\nThere’s a list at the front desk.\nAnd you can also sign-up in advance here:\nhttps://catscorner.se/volunteering/ \nLINDY HOP\nThe main dance on Wednesdays’ is Lindy Hop\, a swing dance originating in the 30-40s in Harlem\, NY. But you are always welcome to dance whatever you like or just hang out\nhttps://www.youtube.com/results?search_query=lindy+hop\nhttps://en.wikipedia.org/wiki/Lindy_Hop \nCATS’ CORNER\nCats’ Corner is a non-profit dance organisation from Malmö. Our main focus is Lindy Hop\, but we gladly also dance Charleston\, Balboa\, Shag\, Blues\, Authentic Jazz and other Swing dances.\nhttps://www.catscorner.se/\nhttps://www.heptown.com/calendar/category/organizer/cats-corner/ \nLINDY HOP DANCE CLASSES?\nThis is also the home for some of HepTowns weekly courses. Take a look at:\nhttps://www.heptown.com/classes/schedule/ \nBEGINNERS LINDT HOP WEEKENDS\nhttps://www.heptown.com/classes/ \nMORISKA PAVILJONGEN\nMoriska Paviljongen är Malmös största oberoende kultur- och nöjeshus. Moriskan erbjuder Bistro\, Bar\, Kulturprogram och Nattklubb på 4 olika scener i en anrik miljö från 1901. Mer info finns på:\nwww.moriskapaviljongen.se\nwww.facebook.com/moriskapaviljongen\nwww.instagram.com/moriska_paviljongen
URL:https://www.heptown.com/calendar/wednesday-night-hop-social-dance-lindy-hop-20-3/
LOCATION:Moriska Paviljongen
CATEGORIES:Cats' Corner,Lindy Hop,Malmö,Öresund
ATTACH;FMTTYPE=image/jpeg:https://www.heptown.com/wp-content/uploads/2024/03/33182_image_425544688_967323378296473_3177857555158180592_n.jpg
END:VEVENT
BEGIN:VEVENT
DTSTART;TZID=Europe/Stockholm:20240324T020000
DTEND;TZID=Europe/Stockholm:20240324T050000
DTSTAMP:20260422T220525
CREATED:20240313T160621Z
LAST-MODIFIED:20240313T160621Z
UID:10006102-1711245600-1711256400@www.heptown.com
SUMMARY:Sunday Tea Dance - Perhaps With Collegiate Shag Taster
DESCRIPTION:On Sunday\, February 4th\, Fast Feet Society is bringing back the fast tea dances. Join us at Ungdomens Hus for a slightly faster evening\, perfect for all us Balboa\, Shag\, and fast lindy lovers. We’ll have dancing and fika for you all afternoon.\nkl. 14.00 – 15.00 Social or Taster in Collegiate Shag\nkl. 15.00 – 1700 Social dancing\nSuggested price:\n30 SEK entrance\n20 for fika\nPay as you like. We ask that you help cover the cost of renting the venue/fika\, and have given a suggested price. You can pay more or less as you like.\nPayment via swish only. Let us know if you don’t have swish! \nMore swing dance events at:\nhttps://www.heptown.com/calendar/\nAnd for more happenings for collegiate shag\, check out Fast Feet Society on Facebook
URL:https://www.heptown.com/calendar/sunday-tea-dance-perhaps-with-collegiate-shag-taster/
LOCATION:Ungdomens Hus (Torpgatan 21\, Malmö)
CATEGORIES:Collegiate Shag,Malmö,Öresund,Social Dance
ATTACH;FMTTYPE=image/jpeg:https://www.heptown.com/wp-content/uploads/2024/03/33211_image_431498828_723922269890446_6432582007076681817_n.jpg
END:VEVENT
BEGIN:VEVENT
DTSTART;TZID=Europe/Stockholm:20240325T200000
DTEND;TZID=Europe/Stockholm:20240325T220000
DTSTAMP:20260422T220525
CREATED:20240304T150049Z
LAST-MODIFIED:20240304T150049Z
UID:10006090-1711396800-1711404000@www.heptown.com
SUMMARY:Monday Night Swing | Lindy Hop | Social Dance 25/3
DESCRIPTION:Welcome to Monday Night Swing a social dance where we every Monday swing-out in the big ballroom at Kårhuset. \nNew to Lindy Hop? There is no drop-in class tonight but just come and we will have someone spend a song showing you a move or two…. Also checkout our beginners’ courses and weekends! \n\nRegistration: https://dans.se/heptown/shop/?event=202757\nMore events and classes: https://www.heptown.com/\nMonday Night Swing: https://www.heptown.com/monday-night-swing/\n\nYou are very welcome regardless of age\, membership\, dance ability\, with or without a partner and if you are a student or not. \nAt this social dance We mostly dance Lindy Hop but you can also find someone dancing Balboa\, Solo Jazz and Collegiate Shag. You are of course welcome to come and dance foxtrot\, bugg or any dance you know… \nSCHEDULE\n\nDoors open 19:45\nSocial dance: 20:00-22:00\nAfterparty / Social hang-out at Botulfs 22:15-23:30\n\nLOCATION\n\nKårhuset\, Gasque salen\, John Ericssons väg 3\nEnter through the amphitheater here: https://goo.gl/maps/v3hmJZozeFkeysQ18\nParking: https://goo.gl/maps/AveB7GXCECgWx63f9\n\nPrice & discounts\n\n80kr fixed rate if you pay by swish or cash at the door.\n70kr if you sign-up in advance.\n20kr (additional) discount if you are a member and sign-up in advance.\n20kr (additional) discount for students(ST)\, youth or the unemployed(AR) that sign up in advance.\nLower price (or free) when we move to Smålands Nation.\n0kr for those who sign-up as volunteer and help out during the evening .\n\nPree-book entrance for best price\nhttps://www.heptown.com/monday-night-swing/#book\nhttps://dans.se/heptown/shop/?event=202651&info=1\nMembership: https://www.heptown.com/member/ \nVolunteer and get in for free\nYou can volunteer for about 1/2 an hour to get in for free. Just ask for Håkan to get more information or email classes@heptown.com\nThe volunteer schedule and sign-up is now available online\nSchedule: https://bit.ly/mondaycrew\nSign-up: https://bit.ly/catcrewme \nMore information\nhttps://www.heptown.com/monday-night-swing/\n+ Information på Svenska: https://www.heptown.com/sv/mandagsswing/ \nAfterparty / Social hang-out at Botulfs 22:15-23:30\nLet’s meet up and get to know each other after the dance. We will walk/bike from Kårhuset after the dance and go to Botulfs bar.\nhttps://www.facebook.com/events/1877090826096761 \nLindy Hop Classes Spring 2024\nKårhuset is also the home of some of our classes\, with more classes around Lund and Malmö. A new addition is a special youth & student track starting in January and conveniently right before this social dance \nBeginners weekends/courses\nhttps://www.heptown.com/classes/#beginners\nFull semester continued to advanced\nhttps://www.heptown.com/classes/schedule/#S24 \nSocial dances starting with a beginners class\nhttps://www.heptown.com/calendar/category/beginners-class/ \nBook a ticket\nFacebook-events\nLindy Hop Registration\n#LindyHop #Lund #Kårhuset
URL:https://www.heptown.com/calendar/monday-night-swing-lindy-hop-social-dance-25-3/
LOCATION:Teknologkåren vid LTH\, John Ericssons väg 3\, Lund\, 223 63\, Sweden
CATEGORIES:Lindy Hop,Lund,Monday Night Swing,Öresund,Social Dance
ATTACH;FMTTYPE=image/jpeg:https://www.heptown.com/wp-content/uploads/2024/03/33160_image_431490165_928779782590852_8524901642452246862_n.jpg
END:VEVENT
BEGIN:VEVENT
DTSTART;TZID=Europe/Stockholm:20240327T164500
DTEND;TZID=Europe/Stockholm:20240327T174500
DTSTAMP:20260422T220525
CREATED:20231211T140106Z
LAST-MODIFIED:20240215T110054Z
UID:10006068-1711557900-1711561500@www.heptown.com
SUMMARY:Swing Kids Lindy Hop med gratis prova-på i Malmö
DESCRIPTION:Vi har i HepTown inga egna Swing Kids kurser i Malmö men vi vill gärna att de finns så vi har skickat bästa LinaMaria & Jerry till SV för att hålla kurser i deras regi. \nGratis prova-på FRAMFLYTTAD till 27/3\nhttps://www.sv.se/avdelningar/sv-malmo/kurser/prova-pa—lindyhop-swing-kids-9–521169/ \nKursstart FRAMFLYTTAD till 3/4\nhttps://www.sv.se/avdelningar/sv-malmo/kurser/nyhet—lindyhop-swing-kids-9–45221/ \nHepTown har många andra kurser evenemang som i huvudsak riktar sig till vuxna men yngre som vågar får också vara med.\nhttps://www.heptown.com/sv/kurser/
URL:https://www.heptown.com/calendar/swing-kids-lindy-hop-med-gratis-prova-pa-i-malmo/
LOCATION:Studieförbundet Vuxenskolan Malmö\, Grynbodgatan 20\, Malmö\, 211 33\, SE
CATEGORIES:Beginners' Lindy Hop Class,Beginners' Weekend,Lindy Hop,Malmö,Öresund
ATTACH;FMTTYPE=image/jpeg:https://www.heptown.com/wp-content/uploads/2023/12/32689_image_409931886_862975425837955_2372635872421272289_n.jpg
END:VEVENT
BEGIN:VEVENT
DTSTART;TZID=Europe/Stockholm:20240327T200000
DTEND;TZID=Europe/Stockholm:20240327T223000
DTSTAMP:20260422T220525
CREATED:20240312T165156Z
LAST-MODIFIED:20240312T165156Z
UID:10006094-1711569600-1711578600@www.heptown.com
SUMMARY:Wednesday Night Hop |  Annual meeting 2024 | Social dance | Lindy Hop | 27/3
DESCRIPTION:Welcome to Cats’ Corners swingin’ Wednesday Night Hop in the grand ballroom at Moriska Paviljongen.\nTonight’s dance will begin at 21:00 as we will start the evening with the annual meeting in Spegelsalen\, where we will review the past year 2023. Review of the economy\, results\, activities and the election of board members for the coming operational year. A more detailed agenda will be available in a folder on Google Drive (https://drive.google.com/drive/folders/1GBD_g8AkKsXNfcN-7Bg2-_SVjOseXY6M?usp=drive_link). Other documentation that is important for the meeting will be uploaded here one by one before the meeting. Motions/appropriations from members needs to be sent to the board latest 20th March in order to be processed at the meeting. Motions/appropriations shall be sent to info@catscorner.se \nDo you want to be part of the board? Please contact the Election committee Håkan Larsson or Anna Ludl. \nWe offer Swedish fika and free entrance for the evening for those members who participate in the meeting. \n\nDoors open: 20:00\nAnnual meeting for members: 20:00-21:00 (Spegelsalen)\nSocial dance: 21:00-22.30 (Stora Salen)\nDJ: TBA\nBallroom door fee: 80kr\, 60kr for Cats’ Corner members / students\nFree entrance for members who take part of the meeting. \nMoriska Paviljongen\, Norra Parkgatan 2\, Malmö\nMap: https://goo.gl/maps/kBpFWfswzEjyKyvb9\nVolunteer at the front desk: http://catscorner.se/volunteering/\n\nVolunteering?\nWe often need help at the front desk.\nFor 30 min of your time\, you’ll receive free entrance for the night.\nThere’s a list at the front desk.\nAnd you can also sign-up in advance here:\nhttps://catscorner.se/volunteering/ \nLINDY HOP\nThe main dance on Wednesdays’ is Lindy Hop\, a swing dance originating in the 30-40s in Harlem\, NY. But you are always welcome to dance whatever you like or just hang out\nhttps://www.youtube.com/results?search_query=lindy+hop\nhttps://en.wikipedia.org/wiki/Lindy_Hop \nCATS’ CORNER\nCats’ Corner is a non-profit dance organisation from Malmö. Our main focus is Lindy Hop\, but we gladly also dance Charleston\, Balboa\, Shag\, Blues\, Authentic Jazz and other Swing dances.\nhttps://www.catscorner.se/\nhttps://www.heptown.com/calendar/category/organizer/cats-corner/ \nLINDY HOP DANCE CLASSES?\nThis is also the home for some of HepTowns weekly courses. Take a look at:\nhttps://www.heptown.com/classes/schedule/ \nBEGINNERS LINDT HOP WEEKENDS\nhttps://www.heptown.com/classes/ \nMORISKA PAVILJONGEN\nMoriska Paviljongen är Malmös största oberoende kultur- och nöjeshus. Moriskan erbjuder Bistro\, Bar\, Kulturprogram och Nattklubb på 4 olika scener i en anrik miljö från 1901. Mer info finns på:\nwww.moriskapaviljongen.se\nwww.facebook.com/moriskapaviljongen\nwww.instagram.com/moriska_paviljongen
URL:https://www.heptown.com/calendar/wednesday-night-hop-annual-meeting-2024-social-dance-lindy-hop-27-3/
LOCATION:Moriska Paviljongen
CATEGORIES:Cats' Corner,Lindy Hop,Malmö,Öresund
ATTACH;FMTTYPE=image/jpeg:https://www.heptown.com/wp-content/uploads/2024/03/33185_image_430002904_987742396254571_4909771343228987086_n.jpg
END:VEVENT
END:VCALENDAR