BEGIN:VCALENDAR
VERSION:2.0
PRODID:-//HepTown - ECPv6.15.20//NONSGML v1.0//EN
CALSCALE:GREGORIAN
METHOD:PUBLISH
X-WR-CALNAME:HepTown
X-ORIGINAL-URL:https://www.heptown.com
X-WR-CALDESC:Events for HepTown
REFRESH-INTERVAL;VALUE=DURATION:PT1H
X-Robots-Tag:noindex
X-PUBLISHED-TTL:PT1H
BEGIN:VTIMEZONE
TZID:Europe/Helsinki
BEGIN:DAYLIGHT
TZOFFSETFROM:+0200
TZOFFSETTO:+0300
TZNAME:EEST
DTSTART:20220327T010000
END:DAYLIGHT
BEGIN:STANDARD
TZOFFSETFROM:+0300
TZOFFSETTO:+0200
TZNAME:EET
DTSTART:20221030T010000
END:STANDARD
BEGIN:DAYLIGHT
TZOFFSETFROM:+0200
TZOFFSETTO:+0300
TZNAME:EEST
DTSTART:20230326T010000
END:DAYLIGHT
BEGIN:STANDARD
TZOFFSETFROM:+0300
TZOFFSETTO:+0200
TZNAME:EET
DTSTART:20231029T010000
END:STANDARD
BEGIN:DAYLIGHT
TZOFFSETFROM:+0200
TZOFFSETTO:+0300
TZNAME:EEST
DTSTART:20240331T010000
END:DAYLIGHT
BEGIN:STANDARD
TZOFFSETFROM:+0300
TZOFFSETTO:+0200
TZNAME:EET
DTSTART:20241027T010000
END:STANDARD
END:VTIMEZONE
BEGIN:VEVENT
DTSTART;TZID=Europe/Helsinki:20230501T180000
DTEND;TZID=Europe/Helsinki:20230501T220000
DTSTAMP:20260423T150142
CREATED:20230227T200407Z
LAST-MODIFIED:20230227T200407Z
UID:10005806-1682964000-1682978400@www.heptown.com
SUMMARY:No Monday Night Swing 1/5
DESCRIPTION:There is no Monday Night Swing planned for the 1st of May. \n+ Press going if you still want something to happen this evening\n+ Press interested just to let us know that you have seen this. \nNext Monday we are back as usual as Kårhuset\nwww.heptown.com
URL:https://www.heptown.com/calendar/no-monday-night-swing-1-5/
LOCATION:Lund Centrum
CATEGORIES:Big event,HepTown,Lindy Hop,Lund
ATTACH;FMTTYPE=image/jpeg:https://www.heptown.com/wp-content/uploads/2023/02/30498_image_332264032_456871666568412_4564060981241484180_n.jpg
END:VEVENT
BEGIN:VEVENT
DTSTART;TZID=Europe/Helsinki:20230508T200000
DTEND;TZID=Europe/Helsinki:20230508T220000
DTSTAMP:20260423T150142
CREATED:20230227T200406Z
LAST-MODIFIED:20230705T084558Z
UID:10005805-1683576000-1683583200@www.heptown.com
SUMMARY:Monday Night Swing | Lindy Hop | Social Dance 8/5
DESCRIPTION:Come and swing-out at our social dance every Monday in Gasquesalen at Kårhuset. Our DJs play very danceable swing music while you dance. We mostly dance Lindy Hop but you can also find someone dancing Balboa and Collegiate Shag. \nNew to Lindy Hop? There is no drop-in for beginners this evening but if you ask nicely someone will show you a move or two. \nYou are very welcome regardless of age\, membership\, dance ability\, with or without a partner and if you are a student or not. \nSocial swing dance\n\nSocial dance 20:00-22:00\nKårhuset\, Gasque salen\, John Ericssons väg 3\nEnter through the amphitheater here: <https://goo.gl/maps/v3hmJZozeFkeysQ18>\nParking: <https://goo.gl/maps/AveB7GXCECgWx63f9>\n\nPrice & discounts\n\n80kr fixed rate if you pay by swish or cash at the door.\n70kr if you sign-up in advance.\n20kr (additional) discount if you are a member and sign-up in advance.\n20kr (additional) discount for students(ST)\, youth or the unemployed(AR) that sign up in advance.\nLower price (or free) when we move to Smålands Nation.\n0kr for those who sign-up as volunteer and help out during the evening .\n\nPree-book entrance for best price\n<https://www.heptown.com/monday-night-swing/#book>\n<https://dans.se/heptown/shop/?event=178545&info=1> \nVolunteer and get in for free\nYou can volunteer for about 1/2 an hour to get in for free. Just ask for Håkan to get more information or email classes@heptown.com\nThe volunteer schedule and sign-up is now available online\nSchedule: <https://bit.ly/mondaycrew>\nSign-up: <https://bit.ly/catcrewme> \nMore information\n<https://www.heptown.com/monday-night-swing/>\n+ Information på Svenska: <https://www.heptown.com/sv/mandagsswing/> \nSocial dances starting with a beginners class\n<https://www.heptown.com/calendar/category/beginners-class/> \nLindy Hop Classes Spring 2023\nKårhuset is also the home of some of our classes\, with more classes around Lund and Malmö\nBeginners weekends\n<https://www.heptown.com/classes/#beginners>\nFull semester continued to advanced\n<https://www.heptown.com/classes/schedule/#S23> \nBook a ticket\nFacebook-events\nLindy Hop Registration\n#LindyHop #Lund #Kårhuset
URL:https://www.heptown.com/calendar/monday-night-swing-lindy-hop-social-dance-8-1/
LOCATION:Teknologkåren vid LTH\, John Ericssons väg 3\, Lund\, 223 63\, Sweden
CATEGORIES:HepTown,Lindy Hop,Lund,Social Dance
ATTACH;FMTTYPE=image/jpeg:https://www.heptown.com/wp-content/uploads/2023/03/30530_image_333506403_1399743990774757_8525165465045580261_n.jpg
END:VEVENT
BEGIN:VEVENT
DTSTART;TZID=Europe/Helsinki:20230510T200000
DTEND;TZID=Europe/Helsinki:20230510T223000
DTSTAMP:20260423T150142
CREATED:20230509T141933Z
LAST-MODIFIED:20230509T141933Z
UID:10005886-1683748800-1683757800@www.heptown.com
SUMMARY:Wednesday Night Hop 10/5
DESCRIPTION:Welcome to Cats’ Corners swingin’ Wednesday Night Hop. PLEASE NOTE: Tonight WNH is moved to Barnens Scen in Folkets park \n\nDoors open: 20:00\nSocial dance: 20:00-22.30 (Stora Salen)\nBallroom door fee: 70kr\, 50kr for Cats’ Corner members\nBarnens Scen\, Falsterbogatan 17\, Malmö\nMap: Folkets park\, Falsterbogatan 17\, 214 36 Malmö\nVolunteer at the front desk**: http://catscorner.se/volunteering/\n\n**Volunteering?\nWe often need help at the front desk.\nFor 30 min of your time\, you’ll receive free entrance for the night.\nThere’s a list at the front desk.\nAnd you can also sign-up in advance here:\nhttps://catscorner.se/volunteering/ \nLINDY HOP\nThe main dance on Wednesdays’ is Lindy Hop\, a swing dance originating in the 30-40s in Harlem\, NY. But you are always welcome to dance whatever you like or just hang out\nhttps://www.youtube.com/results?search_query=lindy+hop\nhttps://en.wikipedia.org/wiki/Lindy_Hop \nCATS’ CORNER\nCats’ Corner is a non-profit dance organisation from Malmö. Our main focus is Lindy Hop\, but we gladly also dance Charleston\, Balboa\, Shag\, Blues\, Authentic Jazz and other Swing dances.\nhttps://www.catscorner.se/\nhttps://www.heptown.com/calendar/category/organizer/cats-corner/ \nLINDY HOP DANCE CLASSES?\nThis is also the home for some of HepTowns weekly courses. Take a look at:\nhttps://www.heptown.com/classes/schedule/ \nBEGINNERS LINDT HOP WEEKENDS\nhttps://www.heptown.com/classes/
URL:https://www.heptown.com/calendar/wednesday-night-hop-10-5/
LOCATION:Barnens Scen
CATEGORIES:Cats' Corner,Lindy Hop,Malmö,Organizer,Social Dance
ATTACH;FMTTYPE=image/jpeg:https://www.heptown.com/wp-content/uploads/2023/05/31268_image_345904790_194014570134242_7550015311844905468_n.jpg
END:VEVENT
BEGIN:VEVENT
DTSTART;TZID=Europe/Helsinki:20230512T190000
DTEND;TZID=Europe/Helsinki:20230512T233000
DTSTAMP:20260423T150142
CREATED:20230210T100051Z
LAST-MODIFIED:20230210T100051Z
UID:10005756-1683918000-1683934200@www.heptown.com
SUMMARY:Balboa på Globen
DESCRIPTION:Så er det tid til endnu en balboa aften på Globen 🙂\nKl. 19 taster – TBA\nKl. 20 socialdans\nNæste balboa aften på Globen er 9. juni
URL:https://www.heptown.com/calendar/balboa-pa-globen-8/
CATEGORIES:Balboa,Copenhagen,Social Dance
ATTACH;FMTTYPE=image/jpeg:https://www.heptown.com/wp-content/uploads/2023/02/30327_image_329279235_656707346207200_7269674581782733706_n.jpg
END:VEVENT
BEGIN:VEVENT
DTSTART;TZID=Europe/Helsinki:20230515T180000
DTEND;TZID=Europe/Helsinki:20230515T220000
DTSTAMP:20260423T150142
CREATED:20230301T082930Z
LAST-MODIFIED:20231130T134732Z
UID:10005819-1684173600-1684188000@www.heptown.com
SUMMARY:Monday Night Swing + Beginners Lindy Hop Class 15/5
DESCRIPTION:For those that are new to swing tonight the evening starts with an included 1h Lindy Hop class for beginners. It’s a taster class were we will in a fun and easy way will give you some moves to later use on the social dance.\nYou are very welcome regardless of age\, membership\, dance ability\, with or without a partner and if you are a student or not.\nWe mostly dance Lindy Hop but you can often find someone dancing Balboa and other swing dances. \nSocial swing dance & theme class\n\nOpen: tonight 18-22 (normal night 20-22)\nBeginners drop-in class included 18.15-19.15\nSocial dance 19.15-22.00\nKårhuset\, Gasque salen\, John Ericssons väg 3\nEnter through the amphitheater here: https://goo.gl/maps/v3hmJZozeFkeysQ18\nParking: https://goo.gl/maps/AveB7GXCECgWx63f9\n\nPrice & discounts\n\n80kr fixed rate if you pay by swish or cash at the door.\n70kr if you sign-up in advance.\n20kr (additional) discount if you are a member and sign-up in advance.\n20kr (additional) discount for students(ST)\, youth or the unemployed(AR) that sign up in advance.\nLower price (or free) when we move to Smålands Nation.\n0kr for those who sign-up as volunteer and help out during the evening .\n\nPree-book entrance for best price\nhttps://www.heptown.com/monday-night-swing/#book\nhttps://dans.se/heptown/shop/?event=178545&info=1 \nVolunteer and get in for free\nYou can volunteer for about 1/2 an hour to get in for free. Just ask for Håkan to get more information or email classes@heptown.com\nThe volunteer schedule and sign-up is now available online\nSchedule: https://bit.ly/mondaycrew\nSign-up: https://bit.ly/catcrewme \nMore information\nhttps://www.heptown.com/monday-night-swing/\n+ Information på Svenska: https://www.heptown.com/sv/mandagsswing/ \nSocial dances starting with a beginners class\nhttps://www.heptown.com/calendar/category/beginners-class/ \nLindy Hop Classes Spring 2023\nKårhuset is also the home of some of our classes\, with more classes around Lund and Malmö\nBeginners weekends\nhttps://www.heptown.com/classes/#beginners\nFull semester continued to advanced\nhttps://www.heptown.com/classes/schedule/\nBook a ticket\nFacebook-events\nLindy Hop Registration\n#LindyHop #Lund #Kårhuset Visa mindre
URL:https://www.heptown.com/calendar/monday-night-swing-beginners-lindy-hop-class-15-2/
LOCATION:Teknologkåren vid LTH\, John Ericssons väg 3\, Lund\, 223 63\, Sweden
CATEGORIES:Beginners' Lindy Hop Class,Big event,HepTown,Lindy Hop,Lund,Monday Night Swing,Öresund,Social Dance
ATTACH;FMTTYPE=image/jpeg:https://www.heptown.com/wp-content/uploads/2023/03/30530_image_333506403_1399743990774757_8525165465045580261_n.jpg
END:VEVENT
BEGIN:VEVENT
DTSTART;TZID=Europe/Helsinki:20230517T200000
DTEND;TZID=Europe/Helsinki:20230517T223000
DTSTAMP:20260423T150142
CREATED:20230509T141932Z
LAST-MODIFIED:20230509T141932Z
UID:10005885-1684353600-1684362600@www.heptown.com
SUMMARY:Wednesday Night Hop 17/5
DESCRIPTION:Welcome to Cats’ Corners swingin’ Wednesday Night Hop at Moriska Paviljongen. \n\nDoors open: 20:00\nSocial dance: 20:00-22.30 (Stora Salen)\nBallroom door fee: 70kr\, 50kr for Cats’ Corner members\nMoriska Paviljongen\, Norra Parkgatan 2\, Malmö\nMap: https://goo.gl/maps/kBpFWfswzEjyKyvb9\nVolunteer at the front desk**: http://catscorner.se/volunteering/\n\n**Volunteering?\nWe often need help at the front desk.\nFor 30 min of your time\, you’ll receive free entrance for the night.\nThere’s a list at the front desk.\nAnd you can also sign-up in advance here:\nhttps://catscorner.se/volunteering/ \nLINDY HOP\nThe main dance on Wednesdays’ is Lindy Hop\, a swing dance originating in the 30-40s in Harlem\, NY. But you are always welcome to dance whatever you like or just hang out\nhttps://www.youtube.com/results?search_query=lindy+hop\nhttps://en.wikipedia.org/wiki/Lindy_Hop \nCATS’ CORNER\nCats’ Corner is a non-profit dance organisation from Malmö. Our main focus is Lindy Hop\, but we gladly also dance Charleston\, Balboa\, Shag\, Blues\, Authentic Jazz and other Swing dances.\nhttps://www.catscorner.se/\nhttps://www.heptown.com/calendar/category/organizer/cats-corner/ \nLINDY HOP DANCE CLASSES?\nThis is also the home for some of HepTowns weekly courses. Take a look at:\nhttps://www.heptown.com/classes/schedule/ \nBEGINNERS LINDT HOP WEEKENDS\nhttps://www.heptown.com/classes/ \nMORISKA PAVILJONGEN\nMoriska Paviljongen är Malmös största oberoende kultur- och nöjeshus. Moriskan erbjuder Bistro\, Bar\, Kulturprogram och Nattklubb på 4 olika scener i en anrik miljö från 1901. Mer info finns på:\nwww.moriskapaviljongen.se\nwww.facebook.com/moriskapaviljongen\nwww.instagram.com/moriska_paviljongen
URL:https://www.heptown.com/calendar/wednesday-night-hop-17-5/
LOCATION:Moriska Paviljongen\, Norra Parkgatan 2\, Malmö\, 21422\, Sweden
CATEGORIES:Cats' Corner,Lindy Hop,Malmö,Organizer,Social Dance
ATTACH;FMTTYPE=image/jpeg:https://www.heptown.com/wp-content/uploads/2023/05/31264_image_345618332_1684782955630470_5389681082700877473_n.jpg
GEO:55.593854848252;13.013540268126
X-APPLE-STRUCTURED-LOCATION;VALUE=URI;X-ADDRESS=Moriska Paviljongen Norra Parkgatan 2 Malmö 21422 Sweden;X-APPLE-RADIUS=500;X-TITLE=Norra Parkgatan 2:geo:13.013540268126,55.593854848252
END:VEVENT
BEGIN:VEVENT
DTSTART;TZID=Europe/Helsinki:20230520T110000
DTEND;TZID=Europe/Helsinki:20230521T160000
DTSTAMP:20260423T150142
CREATED:20230212T143801Z
LAST-MODIFIED:20230216T161349Z
UID:10002046-1684580400-1684684800@www.heptown.com
SUMMARY:Lindy Hop Beginners' Weekend in Malmö 20-21/5
DESCRIPTION:Nybörjarhelg i swingdansen Lindy Hop\, a.k.a Jitterbugg\, en Afroamerikansk pardans från 30-talets Harlem\, vilken stilmässigt har mer gemensamt med dagens street-dance än annan pardans. \nKursen riktar sig till vuxna men tonåringar som vågar är välkomna att delta. \nMER INFORMATION & OBLIGATORISK FÖRANMÄLAN\n<https://www.heptown.com/sv/kurser/ \n### MER LINDY HOP-KURSER\nhttps://www.heptown.com/sv/kurser/schema/ \nMER INFORMATION\nwww.heptown.com\n<www.facebook.com/SwinginHepTown/events> \n** ENGLISH *** ENGLISH *** ENGLISH *** ENGLISH *** ENGLISH ** \nBeginners weekend in Lindy Hop aka jitterbug \, an African American couple swing dance from the ’30s Harlem\, NY. This class is targeted at adults BUT teens that are OK taking classes with adults are also welcome to join. \nDETAILS & MANDATORY REGISTRATION\nhttps://www.heptown.com/classes/ \nMORE LINDY HOP CLASSES\nhttps://www.heptown.com/classes/schedule/ \nLinks\nwww.heptown.com\n<www.facebook.com/SwinginHepTown/events> \nWelcome to this thing called swing! \n#heptown #dans #danskurs  #lindyhop #swingdans
URL:https://www.heptown.com/calendar/lindy-hop-beginners-weekend-in-malmo-20-21-5/
LOCATION:Ungdomens Hus\, Norra Skolgatan 10B\, Malmö\, 22152\, Sweden
CATEGORIES:Big event,HepTown,Lindy Hop,Lund
ATTACH;FMTTYPE=image/jpeg:https://www.heptown.com/wp-content/uploads/2023/02/30373_image_330919063_524866449748017_3312971446248673242_n.jpg
GEO:55.5967587;13.0063436
X-APPLE-STRUCTURED-LOCATION;VALUE=URI;X-ADDRESS=Ungdomens Hus Norra Skolgatan 10B Malmö 22152 Sweden;X-APPLE-RADIUS=500;X-TITLE=Norra Skolgatan 10B:geo:13.0063436,55.5967587
END:VEVENT
BEGIN:VEVENT
DTSTART;TZID=Europe/Helsinki:20230522T180000
DTEND;TZID=Europe/Helsinki:20230522T220000
DTSTAMP:20260423T150142
CREATED:20230421T132021Z
LAST-MODIFIED:20231130T134730Z
UID:10005873-1684778400-1684792800@www.heptown.com
SUMMARY:Monday Night Swing + Beginners Lindy Hop Class 22/5
DESCRIPTION:For those that are new to swing tonight the evening starts with an included 1h Lindy Hop class for beginners. It’s a taster class were we will in a fun and easy way will give you some moves to later use on the social dance.\nYou are very welcome regardless of age\, membership\, dance ability\, with or without a partner and if you are a student or not.\nWe mostly dance Lindy Hop but you can often find someone dancing Balboa and other swing dances. \nSocial swing dance & theme class\n\nOpen: tonight 18-22 (normal night 20-22)\nBeginners drop-in class included 18.15-19.15\nSocial dance 19.15-22.00\nKårhuset\, Gasque salen\, John Ericssons väg 3\nEnter through the amphitheater here: https://goo.gl/maps/v3hmJZozeFkeysQ18\nParking: https://goo.gl/maps/AveB7GXCECgWx63f9\n\nPrice & discounts\n\n80kr fixed rate if you pay by swish or cash at the door.\n70kr if you sign-up in advance.\n20kr (additional) discount if you are a member and sign-up in advance.\n20kr (additional) discount for students(ST)\, youth or the unemployed(AR) that sign up in advance.\nLower price (or free) when we move to Smålands Nation.\n0kr for those who sign-up as volunteer and help out during the evening .\n\nPree-book entrance for best price\nhttps://www.heptown.com/monday-night-swing/#book\nhttps://dans.se/heptown/shop/?event=178545&info=1 \nVolunteer and get in for free\nYou can volunteer for about 1/2 an hour to get in for free. Just ask for Håkan to get more information or email classes@heptown.com\nThe volunteer schedule and sign-up is now available online\nSchedule: https://bit.ly/mondaycrew\nSign-up: https://bit.ly/catcrewme \nMore information\nhttps://www.heptown.com/monday-night-swing/\n+ Information på Svenska: https://www.heptown.com/sv/mandagsswing/ \nSocial dances starting with a beginners class\nhttps://www.heptown.com/calendar/category/beginners-class/ \nLindy Hop Classes Spring 2023\nKårhuset is also the home of some of our classes\, with more classes around Lund and Malmö\nBeginners weekends\nhttps://www.heptown.com/classes/#beginners\nFull semester continued to advanced\nhttps://www.heptown.com/classes/schedule/\nBook a ticket\nFacebook-events\nLindy Hop Registration\n#LindyHop #Lund #Kårhuset Visa mindre
URL:https://www.heptown.com/calendar/monday-night-swing-beginners-lindy-hop-class-22-5/
LOCATION:Teknologkåren vid LTH\, John Ericssons väg 3\, Lund\, 223 63\, Sweden
CATEGORIES:Beginners' Lindy Hop Class,Big event,HepTown,Lindy Hop,Lund,Monday Night Swing,Öresund,Social Dance
ATTACH;FMTTYPE=image/jpeg:https://www.heptown.com/wp-content/uploads/2023/04/31156_image_342794629_3583264578625161_7059641018164963308_n.jpg
END:VEVENT
BEGIN:VEVENT
DTSTART;TZID=Europe/Helsinki:20230524T200000
DTEND;TZID=Europe/Helsinki:20230524T223000
DTSTAMP:20260423T150142
CREATED:20230509T141931Z
LAST-MODIFIED:20230509T141931Z
UID:10005884-1684958400-1684967400@www.heptown.com
SUMMARY:Wednesday Night Hop 24/5
DESCRIPTION:Welcome to Cats’ Corners swingin’ Wednesday Night Hop at Moriska Paviljongen. \n\nDoors open: 20:00\nSocial dance: 20:00-22.30 (Stora Salen)\nBallroom door fee: 70kr\, 50kr for Cats’ Corner members\nMoriska Paviljongen\, Norra Parkgatan 2\, Malmö\nMap: https://goo.gl/maps/kBpFWfswzEjyKyvb9\nVolunteer at the front desk**: http://catscorner.se/volunteering/\n\n**Volunteering?\nWe often need help at the front desk.\nFor 30 min of your time\, you’ll receive free entrance for the night.\nThere’s a list at the front desk.\nAnd you can also sign-up in advance here:\nhttps://catscorner.se/volunteering/ \nLINDY HOP\nThe main dance on Wednesdays’ is Lindy Hop\, a swing dance originating in the 30-40s in Harlem\, NY. But you are always welcome to dance whatever you like or just hang out\nhttps://www.youtube.com/results?search_query=lindy+hop\nhttps://en.wikipedia.org/wiki/Lindy_Hop \nCATS’ CORNER\nCats’ Corner is a non-profit dance organisation from Malmö. Our main focus is Lindy Hop\, but we gladly also dance Charleston\, Balboa\, Shag\, Blues\, Authentic Jazz and other Swing dances.\nhttps://www.catscorner.se/\nhttps://www.heptown.com/calendar/category/organizer/cats-corner/ \nLINDY HOP DANCE CLASSES?\nThis is also the home for some of HepTowns weekly courses. Take a look at:\nhttps://www.heptown.com/classes/schedule/ \nBEGINNERS LINDT HOP WEEKENDS\nhttps://www.heptown.com/classes/ \nMORISKA PAVILJONGEN\nMoriska Paviljongen är Malmös största oberoende kultur- och nöjeshus. Moriskan erbjuder Bistro\, Bar\, Kulturprogram och Nattklubb på 4 olika scener i en anrik miljö från 1901. Mer info finns på:\nwww.moriskapaviljongen.se\nwww.facebook.com/moriskapaviljongen\nwww.instagram.com/moriska_paviljongen
URL:https://www.heptown.com/calendar/wednesday-night-hop-24-5/
LOCATION:Moriska Paviljongen
CATEGORIES:Cats' Corner,Lindy Hop,Malmö,Organizer,Social Dance
ATTACH;FMTTYPE=image/jpeg:https://www.heptown.com/wp-content/uploads/2023/05/31261_image_346042248_988812602154384_6093129198002613027_n.jpg
END:VEVENT
BEGIN:VEVENT
DTSTART;TZID=Europe/Helsinki:20230527T110000
DTEND;TZID=Europe/Helsinki:20230528T160000
DTSTAMP:20260423T150142
CREATED:20230212T143758Z
LAST-MODIFIED:20230216T161349Z
UID:10002045-1685185200-1685289600@www.heptown.com
SUMMARY:Lindy Hop Beginners' Weekend in Lund 27-28/5
DESCRIPTION:Nybörjarhelg i swingdansen Lindy Hop\, a.k.a Jitterbugg\, en Afroamerikansk pardans från 30-talets Harlem\, vilken stilmässigt har mer gemensamt med dagens street-dance än annan pardans. \nKursen riktar sig till vuxna men tonåringar som vågar är välkomna att delta. \nMER INFORMATION & OBLIGATORISK FÖRANMÄLAN\nhttps://www.heptown.com/sv/kurser/\nhttps://dans.se/heptown/shop/?event=168411&info=1 \n### MER LINDY HOP-KURSER\nhttps://www.heptown.com/sv/kurser/schema/ \nLOKALEN\nDet är HepTown som arrangerar men kursen hålls i Gåsastegets nya fina lokal med fantastiskt dansgolv. \nKalkstensvägen 6\, 224 78 Lund\nhttps://goo.gl/maps/LEcD27UhbmBsiQCb8 \n** ENGLISH *** ENGLISH *** ENGLISH *** ENGLISH *** ENGLISH ** \nBeginners weekend in Lindy Hop aka jitterbug \, an African American couple swing dance from the ’30s Harlem\, NY. This class is targeted at adults BUT teens that are OK taking classes with adults are also welcome to join. \nDETAILS & MANDATORY REGISTRATION\nhttps://www.heptown.com/classes/\nhttps://dans.se/heptown/shop/?event=168411&info=1 \n### MORE LINDY HOP CLASSES\nhttps://www.heptown.com/classes/schedule/ \nLOCATION\nIt is HepTown that arranges\, but the course is held in Gåsasteget’s new venue with a fantastic dance floor. \nKalkstensvägen 6\, 224 78 Lund\nhttps://goo.gl/maps/LEcD27UhbmBsiQCb8 \nWelcome to this thing called swing! \n#heptown #dans #danskurs  #lindyhop #swingdans
URL:https://www.heptown.com/calendar/lindy-hop-beginners-weekend-in-lund-27-28-5/
LOCATION:Lunds Dansklubb Gåsasteget\, Kalkstensvägen 6\, Lund\, 22359\, Sweden
CATEGORIES:Big event,HepTown,Lindy Hop,Lund
ATTACH;FMTTYPE=image/jpeg:https://www.heptown.com/wp-content/uploads/2023/02/30370_image_330945338_731062568656312_2670774784920315006_n.jpg
END:VEVENT
BEGIN:VEVENT
DTSTART;TZID=Europe/Helsinki:20230529T180000
DTEND;TZID=Europe/Helsinki:20230529T220000
DTSTAMP:20260423T150142
CREATED:20230425T114407Z
LAST-MODIFIED:20231130T134729Z
UID:10005882-1685383200-1685397600@www.heptown.com
SUMMARY:Free Monday Night Swing + Beginners Lindy Hop Class at Smålands 29/5
DESCRIPTION:As season finale gift everyone gets in for free this last Monday Night Swing of spring 2023. \nYou are very welcome regardless of age\, membership\, dance ability\, with or without a partner and if you are a student or not. \nWe do however require you to sign-up in advance at https://dans.se/heptown/shop/?event=179319&info=1 before all spots are taken. \nFor those that are new to swing tonight the evening starts with an included 1h Lindy Hop class for beginners. It’s a taster class were we will in a fun and easy way will give you some moves to later use on the social dance. To leran more join the beginners weekend. \nLindy Hop and other Swing dance classes \n \nWe mostly dance Lindy Hop but you can often find someone dancing Balboa and Collegiate Shag. \nSocial swing dance / Swing Practice\n\nOpen: tonight 18-22 (normal night 20-22)\nBeginners drop-in class included 18.15-19.15\nSocial dance 19.15-22.00\nKlubblokalen\, Smålands Nation\, Kastanjegatan 7\,  Lund\nhttps://goo.gl/maps/owxV5keNecxsdzvz6\nPre-booked entrance fee: 0kr \nSwish/cash at the door 40kr\n\nPree-book entrance for best price\nhttps://www.heptown.com/monday-night-swing/#book \n\nInformation: https://www.heptown.com/monday-night-swing/\nInformation på Svenska: https://www.heptown.com/sv/mandagsswing/\n\nVolunteer and get in for free\nThis evening is already free but why not have a break and help welcome ppl at the door.\nJust ask for Håkan to get more information or email classes@heptown.com \nThe volunteer schedule and sign-up is now available online\nSchedule: https://bit.ly/mondaycrew\nSign-up:  https://bit.ly/catcrewme \nMore social dances starting with a beginners class\nhttps://www.heptown.com/calendar/category/beginners-class/ \nLindy Hop Classes\nBeginners weekends\nhttps://www.heptown.com/classes/#beginners \nFull semester continued to advanced\nhttps://www.heptown.com/classes/schedule/ \nBook a ticket\nFacebook-events\nLindy Hop Registration \n#LindyHop #Lund #Smålandsnation
URL:https://www.heptown.com/calendar/free-monday-night-swing-beginners-lindy-hop-class-at-smalands-29-5/
LOCATION:Småland Nation\, Lund\, Lund\, SE
CATEGORIES:Beginners' Lindy Hop Class,Big event,HepTown,Lindy Hop,Lund,Monday Night Swing,Öresund,Social Dance
ATTACH;FMTTYPE=image/jpeg:https://www.heptown.com/wp-content/uploads/2023/04/31221_image_343119788_1219231195623829_379458272410085555_n.jpg
GEO:55.7046601;13.1910073
END:VEVENT
BEGIN:VEVENT
DTSTART;TZID=Europe/Helsinki:20230530T120000
DTEND;TZID=Europe/Helsinki:20230606T120000
DTSTAMP:20260423T150142
CREATED:20230530T095937Z
LAST-MODIFIED:20230530T095937Z
UID:10005905-1685448000-1686052800@www.heptown.com
SUMMARY:Lindy Hop Course Registration Fall 2023
DESCRIPTION:At noon today the 30th of May we open the registration for Fall Lindy Hop courses including 3 new advanced levels and lots of corses on all other levels. \nDon’t panic! Everyone that signs-up during LOTTERY period of 7 days will have the same chance to get a spot on a course as we will raffle the queue.\nhttps://www.heptown.com/classes/schedule/ \nBalboa has it’s on page at:\nhttps://www.heptown.com/balboa/ \nA quick guide to end of spring and summer events is found at\nhttps://bit.ly/swingcalendar \nAnd the full events calendar at\nhttps://www.heptown.com/calendar/ \nSwing-out!\nYour swing manager\nHåkan
URL:https://www.heptown.com/calendar/lindy-hop-course-registration-fall-2023/
LOCATION:Lunds Centrum
CATEGORIES:Big event,HepTown,Lindy Hop,Lund,Öresund
ATTACH;FMTTYPE=image/jpeg:https://www.heptown.com/wp-content/uploads/2023/05/31420_image_347232973_968059437564968_8392232220897146193_n.jpg
END:VEVENT
BEGIN:VEVENT
DTSTART;TZID=Europe/Helsinki:20230531T180000
DTEND;TZID=Europe/Helsinki:20230531T223000
DTSTAMP:20260423T150142
CREATED:20230529T121546Z
LAST-MODIFIED:20230529T121906Z
UID:10005898-1685556000-1685572200@www.heptown.com
SUMMARY:Wednesday Night Hop  | Shim Sham | Lindy Hop | Social dance  | 31/5
DESCRIPTION:Welcome to Cats’ Corners swingin’ Wednesday Night Hop at Moriska Paviljongen. \nLast Wednesday night hop is the 14th of June. See schedule: https://bit.ly/swingcalendar \nTonight we open at 18:15 as we have an exciting opportunity for you to explore the iconic solo dance known as Shim Sham. This dance holds great significance within the Lindy Hop dance scene\, as it is considered a fundamental skill. Whether you are a beginner or an experienced dancer\, we warmly welcome you to join our workshop and discover the sheer joy of solo jazz dancing. \nThe Shim Sham is not just a routine; it carries a deep reverence for the legacy of the swing era. It serves as a symbol of the tight-knit community that thrives within the Lindy Hop community. We invite you to be a part of this celebration and experience the beauty and camaraderie that come with it. \n\nDoors open: 18:00\nShim Sham class: 18:15-19:45 (stora salen)\nTeacher: Our house cat Ali \nSocial dance: 20:00-22.30 (Stora Salen)\nBallroom door fee: 70kr\, 50kr for Cats’ Corner members\nMoriska Paviljongen\, Norra Parkgatan 2\, Malmö\nMap: https://goo.gl/maps/kBpFWfswzEjyKyvb9\nVolunteer at the front desk**: http://catscorner.se/volunteering/\n\n**Volunteering?\nWe often need help at the front desk.\nFor 30 min of your time\, you’ll receive free entrance for the night.\nThere’s a list at the front desk.\nAnd you can also sign-up in advance here:\nhttps://catscorner.se/volunteering/ \nLINDY HOP\nThe main dance on Wednesdays’ is Lindy Hop\, a swing dance originating in the 30-40s in Harlem\, NY. But you are always welcome to dance whatever you like or just hang out\nhttps://www.youtube.com/results?search_query=lindy+hop\nhttps://en.wikipedia.org/wiki/Lindy_Hop \nCATS’ CORNER\nCats’ Corner is a non-profit dance organisation from Malmö. Our main focus is Lindy Hop\, but we gladly also dance Charleston\, Balboa\, Shag\, Blues\, Authentic Jazz and other Swing dances.\nhttps://www.catscorner.se/\nhttps://www.heptown.com/calendar/category/organizer/cats-corner/ \nLINDY HOP DANCE CLASSES?\nThis is also the home for some of HepTowns weekly courses. Take a look at:\nhttps://www.heptown.com/classes/schedule/ \nBEGINNERS LINDT HOP WEEKENDS\nhttps://www.heptown.com/classes/ \nMORISKA PAVILJONGEN\nMoriska Paviljongen är Malmös största oberoende kultur- och nöjeshus. Moriskan erbjuder Bistro\, Bar\, Kulturprogram och Nattklubb på 4 olika scener i en anrik miljö från 1901. Mer info finns på:\nwww.moriskapaviljongen.se\nwww.facebook.com/moriskapaviljongen\nwww.instagram.com/moriska_paviljongen
URL:https://www.heptown.com/calendar/wednesday-night-hop-shim-sham-lindy-hop-social-dance-31-5/
LOCATION:Moriska Paviljongen
CATEGORIES:Beginner,Big event,Cats' Corner,Lindy Hop,Malmö,Öresund,Organizer,Social Dance,Solo Jazz - Authentic Jazz - Solo Rutinens
ATTACH;FMTTYPE=image/jpeg:https://www.heptown.com/wp-content/uploads/2023/05/31402_image_347229685_273511675155984_7430649593259173361_n.jpg
END:VEVENT
END:VCALENDAR