BEGIN:VCALENDAR
VERSION:2.0
PRODID:-//HepTown - ECPv6.15.20//NONSGML v1.0//EN
CALSCALE:GREGORIAN
METHOD:PUBLISH
X-WR-CALNAME:HepTown
X-ORIGINAL-URL:https://www.heptown.com
X-WR-CALDESC:Events for HepTown
REFRESH-INTERVAL;VALUE=DURATION:PT1H
X-Robots-Tag:noindex
X-PUBLISHED-TTL:PT1H
BEGIN:VTIMEZONE
TZID:Europe/Stockholm
BEGIN:DAYLIGHT
TZOFFSETFROM:+0100
TZOFFSETTO:+0200
TZNAME:CEST
DTSTART:20250330T010000
END:DAYLIGHT
BEGIN:STANDARD
TZOFFSETFROM:+0200
TZOFFSETTO:+0100
TZNAME:CET
DTSTART:20251026T010000
END:STANDARD
BEGIN:DAYLIGHT
TZOFFSETFROM:+0100
TZOFFSETTO:+0200
TZNAME:CEST
DTSTART:20260329T010000
END:DAYLIGHT
BEGIN:STANDARD
TZOFFSETFROM:+0200
TZOFFSETTO:+0100
TZNAME:CET
DTSTART:20261025T010000
END:STANDARD
BEGIN:DAYLIGHT
TZOFFSETFROM:+0100
TZOFFSETTO:+0200
TZNAME:CEST
DTSTART:20270328T010000
END:DAYLIGHT
BEGIN:STANDARD
TZOFFSETFROM:+0200
TZOFFSETTO:+0100
TZNAME:CET
DTSTART:20271031T010000
END:STANDARD
END:VTIMEZONE
BEGIN:VEVENT
DTSTART;TZID=Europe/Stockholm:20260112T180000
DTEND;TZID=Europe/Stockholm:20260112T220000
DTSTAMP:20260420T143330
CREATED:20251201T153249Z
LAST-MODIFIED:20251201T153505Z
UID:10006490-1768240800-1768255200@www.heptown.com
SUMMARY:Monday Night Swing @ Blekingska Nationen | Free beginners Lindy Hop class
DESCRIPTION:Join us for a special edition of Monday Night Swing at Blekingska Nationen. Free* drop-in Lindy Hop class for beginners and social dance to swing music that will have you transported to something like a movie set in the 1930s Harlem NY \nWe’re usually at Kårhuset every Monday but January 12th we have a special cooperation with Blekingska Nationen giving all students and youth\, 26 and below\, a free beginners Lindy Hop class and social dace when using the booking code FREE \nAs always you are very welcome regardless of age\, membership\, dance ability\, with or without a partner and if you are a student or not. \n\nRegistration for tonight: https://dans.se/heptown/shop/new?event=270201\nSeason Pass: t.b.a.\nMore events and classes: https://www.heptown.com/\nMonday Night Swing: https://www.heptown.com/monday-night-swing/\n\nLOCATION\n\nKlubblokalen\, Blekingska Nationen\, Ole Römers väg 14d\, Lund\nMap: https://maps.app.goo.gl/mL78JUtLAPQLUfZC8\n\nSCHEDULE\n\n18:00 Doors open \n18:30 Beginners Lindy Hop drop-in class\n19:30 Social dance to swing music\n22:00 We head for the afterparty / Social hang-out at Botulfs \n\nLINDY HOP\nLindy Hop is an African American street swing jazz dance. It evolved from many other dances in the late 1920s and early 1930s in Harlem\, New York.\nIt is a partner dance usually done to swing jazz music and it is one of the most improvisational\, funn and expressive partner dances around.\nhttps://www.youtube.com/results?search_query=lindy+hop\nhttps://www.heptown.com/classes/ \nPrice & discounts\n\nFREE for pre-booked students and youth 26 and below using the code FREE\n80kr fixed rate if you pay by swish or cash at the door.\n20kr discount if you are a HepCat member and sign-up in advance.\n0kr for those who sign-up as volunteer and help out during the evening .\n\npre-book entrance for best price\nhttps://www.heptown.com/monday-night-swing/#book\nMembership: https://www.heptown.com/member/ \nVolunteer and get in for free\nYou can volunteer for about 1/2 an hour to get in for free. Just ask for Håkan to get more information or email classes@heptown.com\nThe volunteer schedule and sign-up is now available online\nSchedule: https://bit.ly/mondaycrew\nSign-up: https://bit.ly/catcrewme \nSwing dance links\n\nLindy Hop Classes: https://www.heptown.com/classes/\nLindy Hop events: https://www.heptown.com/calendar/\nBlues dance events and classes: https://www.heptown.com/blues/\n\nMonday Night Swing\nAt this social dance we mostly dance Lindy Hop but you can also find someone dancing Balboa\, Solo Jazz and Collegiate Shag. You are of course welcome to come and dance foxtrot\, bugg or any dance you know and just hangout
URL:https://www.heptown.com/calendar/monday-night-swing-blekingska-nationen-free-beginners-lindy-hop-class/
LOCATION:Blekingska nationen\, Ole Römers väg 14D\, Lund\, 223 63\, SE
CATEGORIES:Beginners' Lindy Hop Class,Big event,HepTown,Lindy Hop,Lund,Monday Night Swing,Öresund,Social Dance,Student Discount / Studentrabatt
ATTACH;FMTTYPE=image/jpeg:https://www.heptown.com/wp-content/uploads/2025/12/36505_image_593291661_1481414760660682_3092470534224367384_n.jpg
END:VEVENT
BEGIN:VEVENT
DTSTART;TZID=Europe/Stockholm:20260118T163000
DTEND;TZID=Europe/Stockholm:20260118T180000
DTSTAMP:20260420T143330
CREATED:20251106T144249Z
LAST-MODIFIED:20251108T160329Z
UID:10006431-1768753800-1768759200@www.heptown.com
SUMMARY:Beginners Lindy Hop course of 5 Sundays starting January 18th
DESCRIPTION:Beginners course of 5 Sundays in Lindy Hop aka jitterbug\, an African American couple swing dance from the ’30s Harlem\, NY. This class is targeted at adults BUT teens that are OK taking classes with adults are also welcome to join. \nDETAILS & MANDATORY REGISTRATION\nhttps://www.heptown.com/classes/\nhttps://dans.se/heptown/shop/?event=260588 \nMORE LINDY HOP CLASSES & LEVELS\nhttps://www.heptown.com/classes/ \nLOCATION\nGymnastiksalarna\nLerbäckskolan\, Öresundsvägen 2\, 227 64 Lund\nhttps://goo.gl/maps/212rgrq6ZQvnkBsk8 \nCOURSE LANGUAGE: Swedish\nThis particular course will primarily be conducted in Swedish\, but feel free to ask questions and receive answers in both Swedish and English. Other courses at the same level are conducted in English \nWelcome to this thing called swing! \n#heptown #dans #danskurs#lindyhop #swingdans
URL:https://www.heptown.com/calendar/nyborjarkurs-i-lindy-hop-5-sondagar-i-lund-med-start-18-1/
LOCATION:Lerbäckskolan\, Öresundsvägen 2\, Lund\, 22764\, Sweden
CATEGORIES:Beginners' Weekend,Big event,HepTown,Lindy Hop,Lund,Öresund,Student Discount / Studentrabatt
ATTACH;FMTTYPE=image/jpeg:https://www.heptown.com/wp-content/uploads/2025/11/36098_image_575140606_1458637316271760_873510017074637673_n.jpg
GEO:55.7132628;13.1816193
X-APPLE-STRUCTURED-LOCATION;VALUE=URI;X-ADDRESS=Lerbäckskolan Öresundsvägen 2 Lund 22764 Sweden;X-APPLE-RADIUS=500;X-TITLE=Öresundsvägen 2:geo:13.1816193,55.7132628
END:VEVENT
BEGIN:VEVENT
DTSTART;TZID=Europe/Stockholm:20260119T180000
DTEND;TZID=Europe/Stockholm:20260119T220000
DTSTAMP:20260420T143330
CREATED:20260113T165852Z
LAST-MODIFIED:20260113T165852Z
UID:10006497-1768845600-1768860000@www.heptown.com
SUMMARY:Monday Night Swing  | Beginners Lindy Hop class |  Social dance 19/1
DESCRIPTION:Monday Night Swing is back in the big ballroom a.k.a. Gasquesalen at Kårhuset where we swing-out (almost) every Monday 20:00 – 22:00 \nJanuary 19th & 26th we start\, 18:30-19.30 with an included Lindy Hop class for beginners \nAs always you are very welcome regardless of age\, membership\, dance ability\, with or without a partner and if you are a student or not. \n\nRegistration for tonight: https://dans.se/heptown/shop/?event=271856\nSeason Pass: https://dans.se/heptown/shop/new?event=270447\nMore events and classes: https://www.heptown.com/\nMonday Night Swing: https://www.heptown.com/monday-night-swing/\n\nLOCATION\n\nKårhuset\, Gasque salen\, John Ericssons väg 3\nEnter through the amphitheater here: https://goo.gl/maps/v3hmJZozeFkeysQ18\nParking: https://goo.gl/maps/AveB7GXCECgWx63f9\n\nSCHEDULE\n18:00*Doors open and we put on the music\n18:30Beginners Lindy Hop drop-in class\n19:30Social dance to swing music\n22:00We head for the afterparty / Social hang-out at Botulfs \n\nWe’re here from about 17:30 if you want to sneak in early \n\nLINDY HOP\nLindy Hop is an African American street swing jazz dance. It evolved from many other dances in the late 1920s and early 1930s in Harlem\, New York.\nIt is a partner dance usually done to swing jazz music and it is one of the most improvisational\, funn and expressive partner dances around.\nhttps://www.youtube.com/results?search_query=lindy+hop\nhttps://www.heptown.com/classes/ \nPrice & discounts\n\n80kr fixed rate if you pay by swish or cash at the door.\n20kr discount if you are a member and sign-up in advance.\n20kr (additional) discount for students(ST)\, youth or the unemployed(AR) that sign up in advance.\n0kr for those who sign-up as volunteer and help out during the evening .\n\npre-book entrance for best price\nhttps://www.heptown.com/monday-night-swing/#book\nMembership: https://www.heptown.com/member/ \nVolunteer and get in for free\nYou can volunteer for about 1/2 an hour to get in for free. Just ask for Håkan to get more information or email classes@heptown.com\nThe volunteer schedule and sign-up is now available online\nSchedule: https://bit.ly/mondaycrew\nSign-up: https://bit.ly/catcrewme \nSwing dance links\n\nLindy Hop Classes: https://www.heptown.com/classes/\nLindy Hop events: https://www.heptown.com/calendar/\nBlues dance events and classes: https://www.heptown.com/blues/\n\nMonday Night Swing\nAt this social dance we mostly dance Lindy Hop but you can also find someone dancing Balboa\, Solo Jazz and Collegiate Shag. You are of course welcome to come and dance foxtrot\, bugg or any dance you know and just hangout
URL:https://www.heptown.com/calendar/monday-night-swing-beginners-lindy-hop-class-social-dance-19-1/
LOCATION:Gasquesalen
CATEGORIES:Beginners' Lindy Hop Class,Big event,HepTown,Lindy Hop,Lund,Monday Night Swing,Öresund,Social Dance,Student Discount / Studentrabatt
ATTACH;FMTTYPE=image/jpeg:https://www.heptown.com/wp-content/uploads/2026/01/36578_image_615792928_1518171830318308_6335188142244860401_n.jpg
END:VEVENT
BEGIN:VEVENT
DTSTART;TZID=Europe/Stockholm:20260126T180000
DTEND;TZID=Europe/Stockholm:20260126T220000
DTSTAMP:20260420T143330
CREATED:20260113T165848Z
LAST-MODIFIED:20260113T165848Z
UID:10006496-1769450400-1769464800@www.heptown.com
SUMMARY:Monday Night Swing  | Beginners Lindy Hop class |  Social dance 26/1
DESCRIPTION:Monday Night Swing in the big ballroom a.k.a. Gasquesalen at Kårhuset where we swing-out (almost) every Monday 20:00 – 22:00 \nTonight\, January 26th (and 19th) we start early\, 18:30-19.30 with an included Lindy Hop class for beginners. \nAs always you are very welcome regardless of age\, membership\, dance ability\, with or without a partner and if you are a student or not. \n\nRegistration for tonight: https://dans.se/heptown/shop/?event=271857\nSeason Pass: https://dans.se/heptown/shop/new?event=270447\nMore events and classes: https://www.heptown.com/\nMonday Night Swing: https://www.heptown.com/monday-night-swing/\n\nLOCATION\n\nKårhuset\, Gasque salen\, John Ericssons väg 3\nEnter through the amphitheater here: https://goo.gl/maps/v3hmJZozeFkeysQ18\nParking: https://goo.gl/maps/AveB7GXCECgWx63f9\n\nSCHEDULE\n18:00*Doors open and we put on the music\n18:30Beginners Lindy Hop drop-in class\n19:30Social dance to swing music\n22:00We head for the afterparty / Social hang-out at Botulfs \n\nWe’re here from about 17:30 if you want to sneak in early \n\nLINDY HOP\nLindy Hop is an African American street swing jazz dance. It evolved from many other dances in the late 1920s and early 1930s in Harlem\, New York.\nIt is a partner dance usually done to swing jazz music and it is one of the most improvisational\, funn and expressive partner dances around.\nhttps://www.youtube.com/results?search_query=lindy+hop\nhttps://www.heptown.com/classes/ \nPrice & discounts\n\n80kr fixed rate if you pay by swish or cash at the door.\n20kr discount if you are a member and sign-up in advance.\n20kr (additional) discount for students(ST)\, youth or the unemployed(AR) that sign up in advance.\n0kr for those who sign-up as volunteer and help out during the evening .\n\npre-book entrance for best price\nhttps://www.heptown.com/monday-night-swing/#book\nMembership: https://www.heptown.com/member/ \nVolunteer and get in for free\nYou can volunteer for about 1/2 an hour to get in for free. Just ask for Håkan to get more information or email classes@heptown.com\nThe volunteer schedule and sign-up is now available online\nSchedule: https://bit.ly/mondaycrew\nSign-up: https://bit.ly/catcrewme \nSwing dance links\n\nLindy Hop Classes: https://www.heptown.com/classes/\nLindy Hop events: https://www.heptown.com/calendar/\nBlues dance events and classes: https://www.heptown.com/blues/\n\nMonday Night Swing\nAt this social dance we mostly dance Lindy Hop but you can also find someone dancing Balboa\, Solo Jazz and Collegiate Shag. You are of course welcome to come and dance foxtrot\, bugg or any dance you know and just hangout
URL:https://www.heptown.com/calendar/monday-night-swing-beginners-lindy-hop-class-social-dance-26-1/
LOCATION:Gasquesalen
CATEGORIES:Beginners' Lindy Hop Class,Big event,HepTown,Lindy Hop,Lund,Monday Night Swing,Öresund,Social Dance,Student Discount / Studentrabatt
ATTACH;FMTTYPE=image/jpeg:https://www.heptown.com/wp-content/uploads/2026/01/36575_image_615481584_1518182373650587_5104791716821418995_n.jpg
END:VEVENT
END:VCALENDAR