BEGIN:VCALENDAR
VERSION:2.0
PRODID:-//HepTown - ECPv6.15.20//NONSGML v1.0//EN
CALSCALE:GREGORIAN
METHOD:PUBLISH
X-ORIGINAL-URL:https://www.heptown.com
X-WR-CALDESC:Events for HepTown
REFRESH-INTERVAL;VALUE=DURATION:PT1H
X-Robots-Tag:noindex
X-PUBLISHED-TTL:PT1H
BEGIN:VTIMEZONE
TZID:Europe/Stockholm
BEGIN:DAYLIGHT
TZOFFSETFROM:+0100
TZOFFSETTO:+0200
TZNAME:CEST
DTSTART:20240331T010000
END:DAYLIGHT
BEGIN:STANDARD
TZOFFSETFROM:+0200
TZOFFSETTO:+0100
TZNAME:CET
DTSTART:20241027T010000
END:STANDARD
BEGIN:DAYLIGHT
TZOFFSETFROM:+0100
TZOFFSETTO:+0200
TZNAME:CEST
DTSTART:20250330T010000
END:DAYLIGHT
BEGIN:STANDARD
TZOFFSETFROM:+0200
TZOFFSETTO:+0100
TZNAME:CET
DTSTART:20251026T010000
END:STANDARD
BEGIN:DAYLIGHT
TZOFFSETFROM:+0100
TZOFFSETTO:+0200
TZNAME:CEST
DTSTART:20260329T010000
END:DAYLIGHT
BEGIN:STANDARD
TZOFFSETFROM:+0200
TZOFFSETTO:+0100
TZNAME:CET
DTSTART:20261025T010000
END:STANDARD
END:VTIMEZONE
BEGIN:VEVENT
DTSTART;TZID=Europe/Stockholm:20251006T200000
DTEND;TZID=Europe/Stockholm:20251006T220000
DTSTAMP:20260420T214120
CREATED:20250907T155725Z
LAST-MODIFIED:20251006T174602Z
UID:10006412-1759780800-1759788000@www.heptown.com
SUMMARY:Monday Night Swing | Lindy Hop | Social Dance 6/10
DESCRIPTION:Welcome to Monday Night Swing in the big ballroom a.k.a. Gasquesalen at Kårhuset where will will swing-out (almost) every Monday 20:00-22:00. \nRight before the social we got Lindy Hop courses at 18:15-19:45. In Gasquesalen and Cornelis here at Kårhuset and in Åsen upstairs at Hallands Nation close to Kårhuset \nNew to Lindy Hop? There is no drop-in class tonight but just come and we will have someone spend a song showing you a move or two…. Also checkout our beginners’ courses and weekends\nhttps://www.heptown.com/classes/#beginners \nSwing DJ: Ingrid \n\nRegistration for tonight: https://dans.se/heptown/shop/?event=256147\nSeason Pass: https://dans.se/heptown/shop/?event=254848\nMore events and classes: https://www.heptown.com/\nMonday Night Swing: https://www.heptown.com/monday-night-swing/\n\nYou are very welcome regardless of age\, membership\, dance ability\, with or without a partner and if you are a student or not. \nAt this social dance we mostly dance Lindy Hop but you can also find someone dancing Balboa\, Solo Jazz and Collegiate Shag. You are of course welcome to come and dance foxtrot\, bugg or any dance you know… \nSCHEDULE\n\nDoors open: 20:00\nSocial dance: 20:00-22:00 (Gasquesalen)\nAfterparty / Social hang-out at Botulfs 22:15-23:30\n\nLOCATION\n\nKårhuset\, Gasque salen\, John Ericssons väg 3\nEnter through the amphitheater here: https://goo.gl/maps/v3hmJZozeFkeysQ18\nParking: https://goo.gl/maps/AveB7GXCECgWx63f9\n\nPrice & discounts\n\n80kr fixed rate if you pay by swish or cash at the door.\n20kr  discount if you are a member and sign-up in advance.\n20kr (additional) discount for students(ST)\, youth or the unemployed(AR) that sign up in advance.\n0kr for those who sign-up as volunteer and help out during the evening .\n\nPree-book entrance for best price\nhttps://www.heptown.com/monday-night-swing/#book\nMembership: https://www.heptown.com/member/ \nVolunteer and get in for free\nYou can volunteer for about 1/2 an hour to get in for free. Just ask for Håkan to get more information or email classes@heptown.com\nThe volunteer schedule and sign-up is now available online\nSchedule: https://bit.ly/mondaycrew\nSign-up: https://bit.ly/catcrewme \nMore information\nhttps://www.heptown.com/monday-night-swing/\n+ Information på Svenska: https://www.heptown.com/sv/mandagsswing/ \nAfterparty / Social hang-out at Botulfs 22:15-23:30\nLet’s meet up and get to know each other after the dance. We will walk/bike from Kårhuset after the dance and go to Botulfs bar. \nLindy Hop Classes\nKårhuset is also the home of some of our classes\, with more classes around Lund and Malmö. \nhttps://www.heptown.com/classes/ \nSocial dances starting with a beginners class\nhttps://www.heptown.com/calendar/category/beginners-class/ \nBook a ticket\nFacebook-events\nLindy Hop Registration\n#LindyHop #Lund #Kårhuset
URL:https://www.heptown.com/calendar/monday-night-swing-lindy-hop-social-dance-6-10/
LOCATION:Teknologkåren vid LTH\, John Ericssons väg 3\, Lund\, 223 63\, Sweden
CATEGORIES:HepTown,Lindy Hop,Lund,Monday Night Swing,Öresund,Social Dance
ATTACH;FMTTYPE=image/jpeg:https://www.heptown.com/wp-content/uploads/2025/09/35886_image_542138966_1396637639138395_3017272893613077802_n.jpg
END:VEVENT
BEGIN:VEVENT
DTSTART;TZID=Europe/Stockholm:20251013T200000
DTEND;TZID=Europe/Stockholm:20251013T220000
DTSTAMP:20260420T214120
CREATED:20250907T155807Z
LAST-MODIFIED:20250907T155807Z
UID:10006409-1760385600-1760392800@www.heptown.com
SUMMARY:Monday Night Swing | Lindy Hop | Social Dance 13/10
DESCRIPTION:Welcome to Monday Night Swing in the big ballroom a.k.a. Gasquesalen at Kårhuset where will will swing-out (almost) every Monday 20:00-22:00. \nRight before the social we got Lindy Hop courses at 18:15-19:45. In Gasquesalen and Cornelis here at Kårhuset and in Åsen upstairs at Hallands Nation close to Kårhuset \nNew to Lindy Hop? There is no drop-in class tonight but just come and we will have someone spend a song showing you a move or two…. Also checkout our beginners’ courses and weekends\nhttps://www.heptown.com/classes/#beginners \nSwing DJs:  Anton (ACe) \n\nRegistration for tonight: https://dans.se/heptown/shop/?event=256376\nSeason Pass: https://dans.se/heptown/shop/?event=254848\nMore events and classes: https://www.heptown.com/\nMonday Night Swing: https://www.heptown.com/monday-night-swing/\n\nYou are very welcome regardless of age\, membership\, dance ability\, with or without a partner and if you are a student or not. \nAt this social dance we mostly dance Lindy Hop but you can also find someone dancing Balboa\, Solo Jazz and Collegiate Shag. You are of course welcome to come and dance foxtrot\, bugg or any dance you know… \nSCHEDULE\n\nDoors open: 20:00\nSocial dance: 20:00-22:00 (Gasquesalen)\nAfterparty / Social hang-out at Botulfs 22:15-23:30\n\nLOCATION\n\nKårhuset\, Gasque salen\, John Ericssons väg 3\nEnter through the amphitheater here: https://goo.gl/maps/v3hmJZozeFkeysQ18\nParking: https://goo.gl/maps/AveB7GXCECgWx63f9\n\nPrice & discounts\n\n80kr fixed rate if you pay by swish or cash at the door.\n20kr  discount if you are a member and sign-up in advance.\n20kr (additional) discount for students(ST)\, youth or the unemployed(AR) that sign up in advance.\n0kr for those who sign-up as volunteer and help out during the evening .\n\nPree-book entrance for best price\nhttps://www.heptown.com/monday-night-swing/#book\nMembership: https://www.heptown.com/member/ \nVolunteer and get in for free\nYou can volunteer for about 1/2 an hour to get in for free. Just ask for Håkan to get more information or email classes@heptown.com\nThe volunteer schedule and sign-up is now available online\nSchedule: https://bit.ly/mondaycrew\nSign-up: https://bit.ly/catcrewme \nMore information\nhttps://www.heptown.com/monday-night-swing/\n+ Information på Svenska: https://www.heptown.com/sv/mandagsswing/ \nAfterparty / Social hang-out at Botulfs 22:15-23:30\nLet’s meet up and get to know each other after the dance. We will walk/bike from Kårhuset after the dance and go to Botulfs bar. \nLindy Hop Classes\nKårhuset is also the home of some of our classes\, with more classes around Lund and Malmö. \nhttps://www.heptown.com/classes/ \nSocial dances starting with a beginners class\nhttps://www.heptown.com/calendar/category/beginners-class/ \nBook a ticket\nFacebook-events\nLindy Hop Registration\n#LindyHop #Lund #Kårhuset
URL:https://www.heptown.com/calendar/monday-night-swing-lindy-hop-social-dance-13-10/
LOCATION:Teknologkåren vid LTH\, John Ericssons väg 3\, Lund\, 223 63\, Sweden
CATEGORIES:HepTown,Lindy Hop,Lund,Monday Night Swing,Öresund,Social Dance
ATTACH;FMTTYPE=image/jpeg:https://www.heptown.com/wp-content/uploads/2025/09/35876_image_544402913_1396647115804114_7839265082230548120_n.jpg
END:VEVENT
BEGIN:VEVENT
DTSTART;TZID=Europe/Stockholm:20251020T200000
DTEND;TZID=Europe/Stockholm:20251020T220000
DTSTAMP:20260420T214120
CREATED:20250907T155858Z
LAST-MODIFIED:20250907T155858Z
UID:10006410-1760990400-1760997600@www.heptown.com
SUMMARY:Monday Night Swing | Lindy Hop | Social Dance 20/10
DESCRIPTION:Welcome to Monday Night Swing in the big ballroom a.k.a. Gasquesalen at Kårhuset where will will swing-out (almost) every Monday 20:00-22:00. \nRight before the social we got Lindy Hop courses at 18:15-19:45. In Gasquesalen and Cornelis here at Kårhuset and in Åsen upstairs at Hallands Nation close to Kårhuset \nNew to Lindy Hop? There is no drop-in class tonight but just come and we will have someone spend a song showing you a move or two…. Also checkout our beginners’ courses and weekends\nhttps://www.heptown.com/classes/#beginners \nSwing DJs:  Todi \n\nRegistration for tonight: https://dans.se/heptown/shop/?event=256414\nSeason Pass: https://dans.se/heptown/shop/?event=254848\nMore events and classes: https://www.heptown.com/\nMonday Night Swing: https://www.heptown.com/monday-night-swing/\n\nYou are very welcome regardless of age\, membership\, dance ability\, with or without a partner and if you are a student or not. \nAt this social dance we mostly dance Lindy Hop but you can also find someone dancing Balboa\, Solo Jazz and Collegiate Shag. You are of course welcome to come and dance foxtrot\, bugg or any dance you know… \nSCHEDULE\n\nDoors open: 20:00\nSocial dance: 20:00-22:00 (Gasquesalen)\nAfterparty / Social hang-out at Botulfs 22:15-23:30\n\nLOCATION\n\nKårhuset\, Gasque salen\, John Ericssons väg 3\nEnter through the amphitheater here: https://goo.gl/maps/v3hmJZozeFkeysQ18\nParking: https://goo.gl/maps/AveB7GXCECgWx63f9\n\nPrice & discounts\n\n80kr fixed rate if you pay by swish or cash at the door.\n20kr  discount if you are a member and sign-up in advance.\n20kr (additional) discount for students(ST)\, youth or the unemployed(AR) that sign up in advance.\n0kr for those who sign-up as volunteer and help out during the evening .\n\nPree-book entrance for best price\nhttps://www.heptown.com/monday-night-swing/#book\nMembership: https://www.heptown.com/member/ \nVolunteer and get in for free\nYou can volunteer for about 1/2 an hour to get in for free. Just ask for Håkan to get more information or email classes@heptown.com\nThe volunteer schedule and sign-up is now available online\nSchedule: https://bit.ly/mondaycrew\nSign-up: https://bit.ly/catcrewme \nMore information\nhttps://www.heptown.com/monday-night-swing/\n+ Information på Svenska: https://www.heptown.com/sv/mandagsswing/ \nAfterparty / Social hang-out at Botulfs 22:15-23:30\nLet’s meet up and get to know each other after the dance. We will walk/bike from Kårhuset after the dance and go to Botulfs bar. \nLindy Hop Classes\nKårhuset is also the home of some of our classes\, with more classes around Lund and Malmö. \nhttps://www.heptown.com/classes/ \nSocial dances starting with a beginners class\nhttps://www.heptown.com/calendar/category/beginners-class/ \nBook a ticket\nFacebook-events\nLindy Hop Registration\n#LindyHop #Lund #Kårhuset
URL:https://www.heptown.com/calendar/monday-night-swing-lindy-hop-social-dance-20-10/
LOCATION:Teknologkåren vid LTH\, John Ericssons väg 3\, Lund\, 223 63\, Sweden
CATEGORIES:HepTown,Lindy Hop,Lund,Monday Night Swing,Öresund,Social Dance
ATTACH;FMTTYPE=image/jpeg:https://www.heptown.com/wp-content/uploads/2025/09/35879_image_541853414_1396669979135161_3983982155256713401_n.jpg
END:VEVENT
BEGIN:VEVENT
DTSTART;TZID=Europe/Stockholm:20251027T200000
DTEND;TZID=Europe/Stockholm:20251027T230000
DTSTAMP:20260420T214120
CREATED:20250907T154832Z
LAST-MODIFIED:20251026T101515Z
UID:10006411-1761595200-1761606000@www.heptown.com
SUMMARY:Monday Night Swing @ Smålands Nation | Dinner | Blues Dance | Lindy Hop | Social Dance 27/10
DESCRIPTION:Join us for a special edition of Monday Night Swing at Smålands Nation. Food\, drinks and social dancing 20:00-22:00 with social hangout/after party in the bar 22:00-23:00 \nWe’re usually at Kårhuset every Monday but October 27th and November 10th we move to Smålands for a more underground and cozy vibe. \nAs always you are very welcome regardless of age\, membership\, dance ability\, with or without a partner and if you are a student or not. \nNew to Lindy Hop? There is no drop-in class tonight but just come and we will have someone spend a song showing you a move or two…. Also checkout our beginners’ courses and weekends\n<https://www.heptown.com/classes/#beginners> \nSwing DJs:\nt.b.a \n\nRegistration for tonight: <https://dans.se/heptown/shop/?event=256419>\nSeason Pass: <https://dans.se/heptown/shop/?event=254848>\nMore events and classes: <https://www.heptown.com/>\nMonday Night Swing: <https://www.heptown.com/monday-night-swing/>\n\nLOCATION\n\nKlubblokalen\, Smålands Nation\, Kastanjegatan 7\, Lund\nMap: <https://goo.gl/maps/owxV5keNecxsdzvz6>\n\nSCHEDULE\n20:00 \nDoors open\n20:00 – 23:00 Enjoy delicious vegan food for only 45kr\n20:00 – 22:00 Social dance to Swing music\n20:00 – 22:00 Blues social dance in T-gången\n22:00 – 23:00 After-party at the bar at Smålands \nLOCATION\n\nKårhuset\, Gasque salen\, John Ericssons väg 3\nEnter through the amphitheater here: <https://goo.gl/maps/v3hmJZozeFkeysQ18>\nParking: <https://goo.gl/maps/AveB7GXCECgWx63f9>\n\nPrice & discounts\n\n80kr fixed rate if you pay by swish or cash at the door.\n20kr\ndiscount if you are a member and sign-up in advance.\n20kr (additional) discount for students(ST)\, youth or the unemployed(AR) that sign up in advance.\n0kr for those who sign-up as volunteer and help out during the evening .\n\nPree-book entrance for best price\n<https://www.heptown.com/monday-night-swing/#book>\nMembership: <https://www.heptown.com/member/> \nVolunteer and get in for free\nYou can volunteer for about 1/2 an hour to get in for free. Just ask for Håkan to get more information or email classes@heptown.com\nThe volunteer schedule and sign-up is now available online\nSchedule: <https://bit.ly/mondaycrew>\nSign-up: <https://bit.ly/catcrewme> \nSwing dance links\n\nLindy Hop Classes: <https://www.heptown.com/classes/\nLindy Hop events: <https://www.heptown.com/calendar/>\nBlues dance events and classes: <https://www.heptown.com/blues/>\n\nLINDY HOP\nLindy Hop is an African American street swing jazz dance. It evolved from many other dances in the late 1920s and early 1930s in Harlem\, New York.\nIt is a partner dance usually done to swing jazz music and it is one of the most improvisational\, funn and expressive partner dances around.\n<https://www.youtube.com/results?search_query=lindy+hop>\n<https://www.heptown.com/classes/> \nBLUES DANCING?\nBlues dancing is whole a family of dances with African American roots danced to blues music\, it can for instance look like this when Philippa and Vivien dance <https://www.youtube.com/results…>\n<https://www.heptown.com/blues/>\n<https://www.facebook.com/groups/BluesMLH/> \nMonday Night Swing\nAt this social dance we mostly dance Lindy Hop but you can also find someone dancing Balboa\, Solo Jazz and Collegiate Shag. You are of course welcome to come and dance foxtrot\, bugg or any dance you know and just hangout
URL:https://www.heptown.com/calendar/monday-night-swing-lindy-hop-social-dance-27-10/
LOCATION:Smålands Nation\, Kastanjegatan 7\, Lund\, 22359\, SE
CATEGORIES:Big event,HepTown,Lindy Hop,Lund,Monday Night Swing,Öresund,Social Dance
ATTACH;FMTTYPE=image/jpeg:https://www.heptown.com/wp-content/uploads/2025/09/35882_image_561060051_1436702861798539_4628402122044515967_n.jpg
END:VEVENT
END:VCALENDAR