BEGIN:VCALENDAR
VERSION:2.0
PRODID:-//HepTown - ECPv6.15.20//NONSGML v1.0//EN
CALSCALE:GREGORIAN
METHOD:PUBLISH
X-ORIGINAL-URL:https://www.heptown.com
X-WR-CALDESC:Events for HepTown
REFRESH-INTERVAL;VALUE=DURATION:PT1H
X-Robots-Tag:noindex
X-PUBLISHED-TTL:PT1H
BEGIN:VTIMEZONE
TZID:Europe/Stockholm
BEGIN:DAYLIGHT
TZOFFSETFROM:+0100
TZOFFSETTO:+0200
TZNAME:CEST
DTSTART:20240331T010000
END:DAYLIGHT
BEGIN:STANDARD
TZOFFSETFROM:+0200
TZOFFSETTO:+0100
TZNAME:CET
DTSTART:20241027T010000
END:STANDARD
BEGIN:DAYLIGHT
TZOFFSETFROM:+0100
TZOFFSETTO:+0200
TZNAME:CEST
DTSTART:20250330T010000
END:DAYLIGHT
BEGIN:STANDARD
TZOFFSETFROM:+0200
TZOFFSETTO:+0100
TZNAME:CET
DTSTART:20251026T010000
END:STANDARD
BEGIN:DAYLIGHT
TZOFFSETFROM:+0100
TZOFFSETTO:+0200
TZNAME:CEST
DTSTART:20260329T010000
END:DAYLIGHT
BEGIN:STANDARD
TZOFFSETFROM:+0200
TZOFFSETTO:+0100
TZNAME:CET
DTSTART:20261025T010000
END:STANDARD
END:VTIMEZONE
BEGIN:VEVENT
DTSTART;TZID=Europe/Stockholm:20250602T180000
DTEND;TZID=Europe/Stockholm:20250602T180000
DTSTAMP:20260423T125943
CREATED:20250521T155137Z
LAST-MODIFIED:20250529T110839Z
UID:10006334-1748887200-1748887200@www.heptown.com
SUMMARY:Unofficial swingin’ picknick & social dance in Nobelparken 2/6
DESCRIPTION:While the official Monday Night Swing is on summer break\, we want to encourage spontaneous swingin’ picnic and social dance at the dance island in Nobel Park. Bring a blanket\, dancing shoes and something good to eat. The dance floor itself cannot be booked but is usually not occupied. \nLatest info in the Facebook event \nWe’ll see you from 6 p.m.\, but please feel free to come earlier (or drop in later). \nNo official DJ. There is a megaphone that you can put your mobile phone in\, which then amplifies the sound unexpectedly well… \nIt is free and open to everyone \nShall we move on to the blues later in the evening \nThe idea is that we do this Mondays June 2-9th and August 4-18th \nhttps://www.heptown.com/monday-night-swing/ \nFind the dance floor\nGet off at the Brunnshög torg stop\, only a 12-minute tram ride from Lund Central Station. Then a few minutes walk to the dance island located here: https://maps.app.goo.gl/UVg67qbqeVX64z8Z8 \nMore swing dance at\nhttps://www.heptown.com/
URL:https://www.heptown.com/calendar/unofficial-swingin-picknick-social-dance-in-nobelparken/
LOCATION:Dansön\, Nobelparken\, Lund\, Lund\, Sverige [SE]\, 224 82\, Sweden
CATEGORIES:Big event,Blues Dance,Lindy Hop,Lund,Monday Night Swing,Social Dance
ATTACH;FMTTYPE=image/jpeg:https://www.heptown.com/wp-content/uploads/2025/05/35279_image_499723366_1297397382395755_2833369587812507412_n.jpg
GEO:55.720693412342;13.235453815577
END:VEVENT
BEGIN:VEVENT
DTSTART;TZID=Europe/Stockholm:20250609T180000
DTEND;TZID=Europe/Stockholm:20250609T180000
DTSTAMP:20260423T125943
CREATED:20250523T183155Z
LAST-MODIFIED:20250529T105732Z
UID:10006339-1749492000-1749492000@www.heptown.com
SUMMARY:Unofficial swingin’ picknick & social dance in Nobelparken 9/6
DESCRIPTION:While the official Monday Night Swing is on summer break\, we want to encourage spontaneous swingin’ picnic and social dance at the dance island in Nobel Park. Bring a blanket\, dancing shoes and something good to eat. The dance floor itself cannot be booked but is usually not occupied. \nWe’ll see you from 6 p.m.\, but please feel free to come earlier (or drop in later). \nNo official DJ. There is a megaphone that you can put your mobile phone in\, which then amplifies the sound unexpectedly well… \nIt is free and open to everyone \nShall we move on to the blues later in the evening? \nThe idea is that we do this Mondays June 2-9th and August 4-18th \nhttps://www.heptown.com/monday-night-swing/ \nFind the dance floor\nGet off at the Brunnshög torg stop\, only a 12-minute tram ride from Lund Central Station. Then a few minutes walk to the dance island located here: https://maps.app.goo.gl/UVg67qbqeVX64z8Z8 \nMore swing dance at\nhttps://www.heptown.com/
URL:https://www.heptown.com/calendar/unofficial-swingin-picknick-social-dance-in-nobelparken-9-6/
LOCATION:Dansön\, Nobelparken\, Lund\, Lund\, Sverige [SE]\, 224 82\, Sweden
CATEGORIES:Blues Dance,HepTown,Lindy Hop,Lund,Monday Night Swing,Öresund,Social Dance
ATTACH;FMTTYPE=image/jpeg:https://www.heptown.com/wp-content/uploads/2025/05/35324_image_499885029_1299193425549484_2398770697187250861_n.jpg
GEO:55.720693412342;13.235453815577
END:VEVENT
BEGIN:VEVENT
DTSTART;TZID=Europe/Stockholm:20250613T100000
DTEND;TZID=Europe/Stockholm:20250614T140000
DTSTAMP:20260423T125943
CREATED:20250511T161031Z
LAST-MODIFIED:20250511T163257Z
UID:10006329-1749808800-1749909600@www.heptown.com
SUMMARY:Barber at HepCat Store in Lund June 13-14th
DESCRIPTION:We got the great barber Magnus Jarlöv in the house at HepCat Store doing classic men’s haircuts\, beard trimming and clean shaves every 5th week. \n\nEvery 5th week\nFriday June 13th 10-18\nSaturday June 14h 11-14\nNext appointments in Lund: July 18th & 19th\n\nPricelist\n\nHaircut SEK 375\nBeard trim SEK 300\nHair + beard SEK 475\nShave SEK 300\nHair + hot towel shave SEK 575\n\nBook your appointment at 046-211 14 82\n\nHepCat Store\, Sankt Larsv 21\, Luns\, SE\nMore in store events: www.hepcat.se/brands/hepcat-store\nContact\, maps and bus routes: www.hepcat.se/contact-us\nStore hours: https://www.hepcat.se/contact-us#open\n\nhttps://www.hepcat.se/ \nMORE EVENTS\nMay 24th:\nHepCat Day 2025 in Lund\nhttps://www.facebook.com/events/1415747562618281
URL:https://www.heptown.com/calendar/barber-at-hepcat-store-in-lund-june-13-14th/
LOCATION:HepCat Store\, Sankt Lars väg 21\, Lund\, 22270\, SE
CATEGORIES:Lund
ATTACH;FMTTYPE=image/jpeg:https://www.heptown.com/wp-content/uploads/2025/05/35225_image_495373120_1130323535806533_367102332236112840_n.jpg
GEO:55.6849678;13.1810689
X-APPLE-STRUCTURED-LOCATION;VALUE=URI;X-ADDRESS=HepCat Store Sankt Lars väg 21 Lund 22270 SE;X-APPLE-RADIUS=500;X-TITLE=Sankt Lars väg 21:geo:13.1810689,55.6849678
END:VEVENT
BEGIN:VEVENT
DTSTART;TZID=Europe/Stockholm:20250616T180000
DTEND;TZID=Europe/Stockholm:20250616T180000
DTSTAMP:20260423T125943
CREATED:20250611T143311Z
LAST-MODIFIED:20250611T143311Z
UID:10006356-1750096800-1750096800@www.heptown.com
SUMMARY:Unofficial swingin’ picknick & social dance in Nobelparken 16/6
DESCRIPTION:Vi kör vidare med inofficiella måndagar på ”Dansön” i Brunnshög! Det blir vissa datum mellan 16 juni och 28 juli\, och sen varje måndag från och med 4 augusti till 18 augusti. \nDenna kväll är gratis och öppen för alla! \nVi ses från 18 men kom gärna tidigare (eller droppa in senare). \nIkväll är Ivar är där med med högtalare och spellista från ca 19\, men hjälp gärna till med egen musik . \nTa med filt\, dansskor och något gott att äta. Själva dansgolvet går inte att boka men brukar vara ledigt. \nGenerellt ingen officiell DJ. Fritt fram för alla som vill bestämma över musiken. Det finns en megafon som du kan lägga din mobil i som då förstärker ljudet oväntat bra… \nVi fortsätter tills alla tröttnat 🙂 \nhttps://www.heptown.com/sv/mandagsswing/ \nFler datum kommer där vi har intresserade enligt denna enkät\nhttps://www.facebook.com/groups/swingml/permalink/3359179597555842/ \nHitta hit\nHoppa av på hållplats Brunnshög torg\, endast 12 minuters spårvagnsfärd från Lund Centralstation.Senan några minuters promenad till dansön som ligger här: ​​https://maps.app.goo.gl/UVg67qbqeVX64z8Z8 \nMer swingdans på:\nhttps://www.heptown.com/ \n============== ENGLISH ===================== \nWe’ll be continuing with unofficial Mondays at “Dansön” in Brunnshög for some dates between June 16th and July 28th\, and then every Monday from August 4th to August 18th. \nThis evening is free and open to everyone! \nWe’ll see you from 6 p.m.\, but please feel free to come earlier (or drop in later). \ntonight\, Ivar will be there with speakers and a playlist starting around 7 PM\, but feel free to help out with your own music. \nBring a blanket\, your dancing shoes\, and something tasty to eat. While the dance floor itself can’t be reserved\, it’s usually free for use. \nGenerally no official DJ.There is a megaphone that you can put your mobile phone in\, which then amplifies the sound unexpectedly well… \nhttps://www.heptown.com/monday-night-swing/ \nMore dates will be added where we have interested participants\, based on this survey.\nhttps://www.facebook.com/groups/swingml/permalink/3359179597555842/ \n###Find the dance floor\nGet off at the Brunnshög torg stop\, only a 12-minute tram ride from Lund Central Station. Then a few minutes walk to the dance island located here: https://maps.app.goo.gl/UVg67qbqeVX64z8Z8 \nMore swing dance at\nhttps://www.heptown.com/
URL:https://www.heptown.com/calendar/unofficial-swingin-picknick-social-dance-in-nobelparken-16-6/
LOCATION:Dansön\, Nobelparken\, Lund\, Lund\, Sverige [SE]\, 224 82\, Sweden
CATEGORIES:Big event,HepTown,Lindy Hop,Lund,Monday Night Swing,Öresund,Social Dance
ATTACH;FMTTYPE=image/jpeg:https://www.heptown.com/wp-content/uploads/2025/06/35446_image_505713196_1317424317059728_530559693412556404_n.jpg
GEO:55.720693412342;13.235453815577
END:VEVENT
BEGIN:VEVENT
DTSTART;TZID=Europe/Stockholm:20250618T173000
DTEND;TZID=Europe/Stockholm:20250618T210000
DTSTAMP:20260423T125943
CREATED:20250424T162403Z
LAST-MODIFIED:20250615T154008Z
UID:10006319-1750267800-1750280400@www.heptown.com
SUMMARY:Wednesday swing in the park |  Lindy Hop |  Season Premiere | Beginners Lindy Hop For both Swingkids & Adults | Lund 18/6
DESCRIPTION:Yes\, HepTown and Visit Lund invites you to swing in the park every Wednesday from the 18th of June to the 30th 0f July 2025. \nTonight the 18th of June and on July 16th\, we’ll kick off an hour early with a special course for Swingkids aged 10-14. \n\nThe whole evening is free!\nIt is drop-in without registration\nYou are equally welcome with or without a dance partner\nWe rotate dance partners as the course gets better that way\n\nWe take it from scratch every time so that new beginners can keep up but will also vary slightly for those who are joining  multiple times. However\, these drop-in classes do not replace our longer beginner courses and weekend courses. \nSCHEDULE\n\nOpen: 17:30 – 21:00\nCost: Free\nSwingkids 10-14 yers: 17:30-18:30\nBeginners Lindy Hop drop-in class: 18:30-19:30\nSocial dance: 19:30-21:00\nAfter dancing\, hang out & picknick by de dance floor: 21:00-??\n\nLOCATION\nThe dance-floor will be located at Stadsparken in Lund. Close to Söderlyckan Skateboardpark Lund and Mejeriet. Map: https://goo.gl/maps/f2UPVyj2Kdq1XGfY6 \nTRY SWINGKIDS 10-14 YEARS 17:30-18:30\nAs a taste of the autumn Swingkids courses at Stenkrossen\, LinaMaria & Jerry invite you to try a class in the park on June 18th and July 16th. \nThe course is aimed at those aged 10-14\, but this evening we’re not too strict about age. Adults\, however\, should wait for the next hour!\nhttps://www.heptown.com/lindy-hop-aerials/#kids \nBEGINNERS LINDY HOP DROP-IN CLASS 18:30-19:20\nThe evening starts with a short taster class in Lindy Hop aka jitterbug \, an African American couple swing dance from the ’30s Harlem\, NY. This class is targeted at adults BUT teens that are OK taking classes with adults are also welcome to join.\nJust come and join us\, no partner and no registration needed.\nThis class is taught in English as there is always lots of tourists joining \nThis course is aimed at adults\, but teenagers who dare are welcome to participate. \nMORE THAN DANCING\nThis is also a good time to have a picnic or barbecue\, play some games or just lounging in the sun. \nSTAY HYDRATED\nBring your own water bottle that can be refilled outside the toilets opposite the skate park. https://goo.gl/maps/RfmjSwmHGfT7prkt9 \nMORE LINDY HOP CLASSES\nhttps://www.heptown.com/classes/ \nLinks\nhttps://www.heptown.com\nhttps://www.sommarlund.se/\nhttps://www.facebook.com/SwinginHepTown/events \nWelcome to this thing called swing!
URL:https://www.heptown.com/calendar/swing-in-the-park-lindy-hop-season-premiere-lund-18-6/
LOCATION:Sommarlunds dansbana\, Ringvägen 15\, Lund\, 22223
CATEGORIES:Aerials,Beginners' Lindy Hop Class,Big event,HepTown,Lindy Hop,Lund,Monday Night Swing,Öresund,Social Dance
ATTACH;FMTTYPE=image/jpeg:https://www.heptown.com/wp-content/uploads/2025/04/35112_image_489958961_1270852695050224_2562519554818567556_n.jpg
GEO:55.69624141516;13.186140840358
X-APPLE-STRUCTURED-LOCATION;VALUE=URI;X-ADDRESS=Sommarlunds dansbana Ringvägen 15 Lund 22223;X-APPLE-RADIUS=500;X-TITLE=Ringvägen 15:geo:13.186140840358,55.69624141516
END:VEVENT
BEGIN:VEVENT
DTSTART;TZID=Europe/Stockholm:20250625T183000
DTEND;TZID=Europe/Stockholm:20250625T210000
DTSTAMP:20260423T125943
CREATED:20250527T141917Z
LAST-MODIFIED:20250528T164522Z
UID:10006341-1750876200-1750885200@www.heptown.com
SUMMARY:Swing in the park |  Lindy Hop | Beginners drop-in class |  Social dance |  Lund 25/6
DESCRIPTION:Yes\, HepTown and Visit Lund invites you to swing in the park every Wednesday from the 18th of June to the 30th 0f July 2025 \n\nThe whole evening is free!\nIt is drop-in without registration\nYou are equally welcome with or without a dance partner\nWe rotate dance partners as the course gets better that way\n\nWe take it from scratch every time so that new beginners can keep up but will also vary slightly for those who are joining  multiple times. However\, these drop-in classes do not replace our longer beginner courses and weekend courses. \nSCHEDULE\n\nOpen: 18:30 – 21:00\nCost: Free\nBeginners Lindy Hop drop-in class: 18:30-19:30\nSocial dance: 19:30-21:00\nAfter dancing\, hang out at “Stallet” behind Mejeriet: 21-\n\nLOCATION\nThe dance-floor will be located at Stadsparken in Lund. Close to Söderlyckan Skateboardpark Lund and Mejeriet. Map: https://goo.gl/maps/f2UPVyj2Kdq1XGfY6 \nBEGINNERS LINDY HOP DROP-IN CLASS 18:30-19:20\nThe evening starts with a short taster class in Lindy Hop aka jitterbug \, an African American couple swing dance from the ’30s Harlem\, NY. This class is targeted at adults BUT teens that are OK taking classes with adults are also welcome to join.\nJust come and join us\, no partner and no registration needed.\nThis class is taught in English as there is always lots of tourists joining \nThis course is aimed at adults\, but teenagers who dare are welcome to participate. \nMORE THAN DANCING\nThis is also a good time to have a picnic or barbecue\, play some games or just lounging in the sun. \nSTAY HYDRATED\nBring your own water bottle that can be refilled outside the toilets opposite the skate park. https://goo.gl/maps/RfmjSwmHGfT7prkt9 \nMORE LINDY HOP CLASSES\nhttps://www.heptown.com/classes/ \nLinks\n<www.heptown.com>\n<www.sommarlund.se/>\n<www.facebook.com/SwinginHepTown/events>\n<www.heptown.com/classes/> \nWelcome to this thing called swing! \n#swinginthepark #heptown #dans #danskurs #provapå #lindyhop #swingdans #lund #dansiparken #sommarlund #2025
URL:https://www.heptown.com/calendar/swing-in-the-park-lindy-hop-beginners-drop-in-class-social-dance-lund-25-6/
LOCATION:Sommarlunds dansbana\, Ringvägen 15\, Lund\, 22223
CATEGORIES:Beginners' Lindy Hop Class,HepTown,Lindy Hop,Lund,Öresund,Social Dance
ATTACH;FMTTYPE=image/jpeg:https://www.heptown.com/wp-content/uploads/2025/05/35332_image_499924443_1302531678548992_3813783837505157190_n.jpg
GEO:55.69624141516;13.186140840358
X-APPLE-STRUCTURED-LOCATION;VALUE=URI;X-ADDRESS=Sommarlunds dansbana Ringvägen 15 Lund 22223;X-APPLE-RADIUS=500;X-TITLE=Ringvägen 15:geo:13.186140840358,55.69624141516
END:VEVENT
END:VCALENDAR