BEGIN:VCALENDAR
VERSION:2.0
PRODID:-//HepTown - ECPv6.15.20//NONSGML v1.0//EN
CALSCALE:GREGORIAN
METHOD:PUBLISH
X-ORIGINAL-URL:https://www.heptown.com
X-WR-CALDESC:Events for HepTown
REFRESH-INTERVAL;VALUE=DURATION:PT1H
X-Robots-Tag:noindex
X-PUBLISHED-TTL:PT1H
BEGIN:VTIMEZONE
TZID:Europe/Stockholm
BEGIN:DAYLIGHT
TZOFFSETFROM:+0100
TZOFFSETTO:+0200
TZNAME:CEST
DTSTART:20240331T010000
END:DAYLIGHT
BEGIN:STANDARD
TZOFFSETFROM:+0200
TZOFFSETTO:+0100
TZNAME:CET
DTSTART:20241027T010000
END:STANDARD
BEGIN:DAYLIGHT
TZOFFSETFROM:+0100
TZOFFSETTO:+0200
TZNAME:CEST
DTSTART:20250330T010000
END:DAYLIGHT
BEGIN:STANDARD
TZOFFSETFROM:+0200
TZOFFSETTO:+0100
TZNAME:CET
DTSTART:20251026T010000
END:STANDARD
BEGIN:DAYLIGHT
TZOFFSETFROM:+0100
TZOFFSETTO:+0200
TZNAME:CEST
DTSTART:20260329T010000
END:DAYLIGHT
BEGIN:STANDARD
TZOFFSETFROM:+0200
TZOFFSETTO:+0100
TZNAME:CET
DTSTART:20261025T010000
END:STANDARD
END:VTIMEZONE
BEGIN:VEVENT
DTSTART;TZID=Europe/Stockholm:20251205T190000
DTEND;TZID=Europe/Stockholm:20251206T010000
DTSTAMP:20260421T071820
CREATED:20251117T095104Z
LAST-MODIFIED:20251123T205855Z
UID:10006469-1764961200-1764982800@www.heptown.com
SUMMARY:HFS Friday Party - December 2025
DESCRIPTION:🎉 Friday Party at the Home of Happy Feet! 🕺💃 \nGet ready for a fantastic evening of dancing\, laughter\, and great vibes in our cozy studio! \n🕒 Time: 19:00 – 01:00📍 Location: Happy Feet Studio\, Ørnevej 33\, 2400 Kbh NV (just a 5-min walk from Nørrebro Station) \nℹ️ More info coming soon — save the date! ❤️✨
URL:https://www.heptown.com/calendar/hfs-friday-party-december-2025/
LOCATION:Ørnevej 33\, 2400 Copenhagen\, Denmark\, Ørnevej 33\, 2400 Copenhagen\, Denmark
CATEGORIES:Copenhagen,Lindy Hop,notml,Öresund,Social Dance
END:VEVENT
BEGIN:VEVENT
DTSTART;TZID=Europe/Stockholm:20251212T190000
DTEND;TZID=Europe/Stockholm:20251212T233000
DTSTAMP:20260421T071820
CREATED:20251117T073252Z
LAST-MODIFIED:20251123T210118Z
UID:10006470-1765566000-1765582200@www.heptown.com
SUMMARY:Balboa på Globen in Copenhagen
DESCRIPTION:Kl. 19-20 Taster with Patricia and Alexander: Balboa and collegiate shag – a match made in heaven.\nBoth are danced to fast songs and that means you can enjoy both to the same music and even smoothly switch back and forth between them in a dance. \nJoin this taster and learn: The basics of collegiate shag. How to take figures and variations you know from balboa into shag. How to switch between shag and balboa. \nWe’re also going to focus on how to dance shag the chill way\, with no jumping so you don’t stray your body. \nkl. 20 Social dance\nDJs: Alexander and TBA \n 
URL:https://www.heptown.com/calendar/balboa-pa-globen-14/
LOCATION:Cafe Globen\, Turesensgade 2B\, Copenagen\, 1368\, Denmark
CATEGORIES:Balboa,Copenhagen,notml,Öresund,Social Dance
END:VEVENT
END:VCALENDAR