BEGIN:VCALENDAR
VERSION:2.0
PRODID:-//HepTown - ECPv6.15.20//NONSGML v1.0//EN
CALSCALE:GREGORIAN
METHOD:PUBLISH
X-ORIGINAL-URL:https://www.heptown.com
X-WR-CALDESC:Events for HepTown
REFRESH-INTERVAL;VALUE=DURATION:PT1H
X-Robots-Tag:noindex
X-PUBLISHED-TTL:PT1H
BEGIN:VTIMEZONE
TZID:Europe/Stockholm
BEGIN:DAYLIGHT
TZOFFSETFROM:+0100
TZOFFSETTO:+0200
TZNAME:CEST
DTSTART:20240331T010000
END:DAYLIGHT
BEGIN:STANDARD
TZOFFSETFROM:+0200
TZOFFSETTO:+0100
TZNAME:CET
DTSTART:20241027T010000
END:STANDARD
BEGIN:DAYLIGHT
TZOFFSETFROM:+0100
TZOFFSETTO:+0200
TZNAME:CEST
DTSTART:20250330T010000
END:DAYLIGHT
BEGIN:STANDARD
TZOFFSETFROM:+0200
TZOFFSETTO:+0100
TZNAME:CET
DTSTART:20251026T010000
END:STANDARD
BEGIN:DAYLIGHT
TZOFFSETFROM:+0100
TZOFFSETTO:+0200
TZNAME:CEST
DTSTART:20260329T010000
END:DAYLIGHT
BEGIN:STANDARD
TZOFFSETFROM:+0200
TZOFFSETTO:+0100
TZNAME:CET
DTSTART:20261025T010000
END:STANDARD
END:VTIMEZONE
BEGIN:VEVENT
DTSTART;TZID=Europe/Stockholm:20251128T190000
DTEND;TZID=Europe/Stockholm:20251128T220000
DTSTAMP:20260421T091345
CREATED:20251117T073247Z
LAST-MODIFIED:20251122T132544Z
UID:10006464-1764356400-1764367200@www.heptown.com
SUMMARY:Balboa på Globen in Copenhagen
DESCRIPTION:This Balboa at Globen event features a Slow Balboa taster at 19.00 by none other than the fabulous Anni & Gašper! \nAfter the class\, DJ Gašper and local DJs (to be announced) will set the mood with a wonderful selection of swing tunes for social Balboa dancing both slow and fast. And as usual\, the bar will be open and our bar crew ready to serve you a special drink. \nFollow this event for updates on the programme and further details. \nPlease note: Sign-up may be required for this event\, and a special admission fee could apply. Normally\, admission is free for MoB members and DKK 50 for non-members. Membership is just DKK 100 per year – sign up here: https://www.balboaswing.dk/membership/ \n#MinistryOfBalboa #Balboa #SwingdanceInCopenhagen #BalboaInCopenhagen #SaturdayShuffle
URL:https://www.heptown.com/calendar/balboa-pa-globen-13/
LOCATION:Cafe Globen\, Turesensgade 2B\, Copenagen\, 1368\, Denmark
CATEGORIES:Balboa,Beginner,Copenhagen,notml,Öresund,Social Dance
END:VEVENT
BEGIN:VEVENT
DTSTART;TZID=Europe/Stockholm:20251129T140000
DTEND;TZID=Europe/Stockholm:20251129T170000
DTSTAMP:20260421T091345
CREATED:20251117T073249Z
LAST-MODIFIED:20251123T205608Z
UID:10006466-1764424800-1764435600@www.heptown.com
SUMMARY:DJ Workshop w. Gašper Hrovat
DESCRIPTION:DJ Workshop with Gašper Hrovat\nSaturday\, November 29\, 2025\, from 2–5 PM at Café Globen \nThis workshop is for anyone who’s curious about trying DJ’ing\, as well as for slightly experienced\, more experienced\, and very experienced Balboa DJs. \nWe’ll focus on what it actually means to DJ in our Copenhagen community. You can expect to build your DJ skills and gain a better understanding of how to become an even stronger DJ. For us\, DJ’ing is much more than just playing a planned playlist! \nWe’ll adjust the workshop content based on who joins – so far our program looks like this: \n14:00–14:30: Welcome and sharing wishes for the workshop \n14:30–16:00: Running a DJ set in practice – genre\, artists\, tempo \n16:00–16:30: Participants play their favourite tracks and we discuss \n16:30–17:00: Using mixers and DJ platforms – sound quality\, bass\, \ntreble\, etc. \nGašper will play Balboa music for us\, introduce the genre\, share info about important artists\, and talk about the energy and mood of the music – both fast and slow Balboa tracks. He’ll give technical tips on how to handle the mixing console and how to improve sound quality\, even when working with “old” recordings. \nGašper\nwill inspire us with ideas on how to fill the Balboa dance floor and what to do if dancers leave the floor. He’ll also share what kind of music and tempo works well to start a party\, how to shape the middle of your set\, and how to end the party or hand over smoothly to another DJ. And you’ll his thoughts on your favourite tracks — and insights into the differences between Balboa and Lindy Hop music. \nWe look forward to seeing you! \nThe workshop is free for members of MoB; membership is just DKK 100/year and you can join us here: https://shop.balboaswing.dk/shop/start/registration/Memberships \n#MinistryOfBalboa #Balboa #SwingdanceInCopenhagen #BalboaInCopenhagen #DJGašper #GašperHrovat #gašperbalboaman
URL:https://www.heptown.com/calendar/dj-workshop-w-gasper-hrovat/
LOCATION:Cafe Globen\, Turesensgade 2B\, Copenagen\, 1368\, Denmark
CATEGORIES:Balboa,Copenhagen,notml,Öresund
END:VEVENT
BEGIN:VEVENT
DTSTART;TZID=Europe/Stockholm:20251130T153000
DTEND;TZID=Europe/Stockholm:20251130T183000
DTSTAMP:20260421T091345
CREATED:20251123T205118Z
LAST-MODIFIED:20251123T205446Z
UID:10006467-1764516600-1764527400@www.heptown.com
SUMMARY:Sunday Swing X-Mas Dinner'n'Dance - feat. Flying Jazzman Quintet LIVE
DESCRIPTION:The annual Hepcats Sunday Jule-Swing X-Mas Dinner’n’Dance party – https://hepcats.dk/product/hepcats-xmas-2025/ – will take place on the 30th of November. Join us for . Amazing company\, great food\, swing-sing-songs and traditional fun followed by social dancing to live music by Flying Jazzman Quintet LIVE\, to help us burn the excess calories. \nAll swing dancers in and around CPH are invited for 4 1/2 hour of dining\, socialising and dancing – you are welcome regardless if you have danced 6 weeks or 6 years! \nNote: Small performances most welcome – please let us know in advance\, if\nyou (and your firends) want to take over the stage for a few minutes during the dinner. \nPARADE\n* Prior to the party Nicolaj arranges the traditional X-Mas parade\, ending up at Kulturhuset Indre By – it’s FREE – https://www.facebook.com/events/1180879263991529 \nFESTEN – THE PARTY\n* Date and time: Sunday November 30th\, 15.30 – 20.30.\n…..* 15.30: GLÔGG and socialising\n…..* 16.00: DINNER – X-Mas dinner is served\n…..* 18.00: DANCE – LIVE MUSIC –\nFlying Jazzman Quintet.\n* Place: Indre By Kulturhus\, Charlotte Ammundsens Plads 3\, 1359 København\n* Tickets:\n…..* Dinner: X-Mas Dinner 150\,- DKK + membership\n…..* Dance: 150 DKK + membership\n* Food & drinks\n…..* A variety of delicious Christmas-tapas and dessert included in the cost\n…..* Choose between REGULAR and VEGETARIAN menu\n…..* Get your drinks in the bar. \nWanna contribute with an activity? Suggestions for activities during the event/songs/speeches/show-dances etc. are welcome. Please coordinate with Lene. \nTHE BAND – FLYING JAZZMAN QUINTET\nFlying Jazzman and his combo’s are some of the most sought-after for swing dancing. At the X-Mas Dinner event\, the line-up will be: \n\nJan Nielsen (piano\, vokal)\nRosa Salamon (kontrabas\, vokal)\nSnorre Kirk (drums)\nBo Møller (guitar)\nJan Harbeck (saxophone)\n\nTHE TICKETS\n* https://hepcats.dk/product/hepcats-xmas-2025/ \nJoin in and Swing Out
URL:https://www.heptown.com/calendar/sunday-swing-x-mas-dinnerndance-feat-flying-jazzman-quintet-live/
LOCATION:Kulturhuset Indre By\, Charlotte Ammundsens Plads 3\, Copenhagen\, 1359\, Denmark
CATEGORIES:Copenhagen,HepCats Copenhagen,Lindy Hop,notml,Öresund
GEO:55.6834206;12.564566
X-APPLE-STRUCTURED-LOCATION;VALUE=URI;X-ADDRESS=Kulturhuset Indre By Charlotte Ammundsens Plads 3 Copenhagen 1359 Denmark;X-APPLE-RADIUS=500;X-TITLE=Charlotte Ammundsens Plads 3:geo:12.564566,55.6834206
END:VEVENT
END:VCALENDAR