BEGIN:VCALENDAR
VERSION:2.0
PRODID:-//HepTown - ECPv6.15.20//NONSGML v1.0//EN
CALSCALE:GREGORIAN
METHOD:PUBLISH
X-WR-CALNAME:HepTown
X-ORIGINAL-URL:https://www.heptown.com
X-WR-CALDESC:Events for HepTown
REFRESH-INTERVAL;VALUE=DURATION:PT1H
X-Robots-Tag:noindex
X-PUBLISHED-TTL:PT1H
BEGIN:VTIMEZONE
TZID:Europe/Copenhagen
BEGIN:DAYLIGHT
TZOFFSETFROM:+0100
TZOFFSETTO:+0200
TZNAME:CEST
DTSTART:20240331T010000
END:DAYLIGHT
BEGIN:STANDARD
TZOFFSETFROM:+0200
TZOFFSETTO:+0100
TZNAME:CET
DTSTART:20241027T010000
END:STANDARD
BEGIN:DAYLIGHT
TZOFFSETFROM:+0100
TZOFFSETTO:+0200
TZNAME:CEST
DTSTART:20250330T010000
END:DAYLIGHT
BEGIN:STANDARD
TZOFFSETFROM:+0200
TZOFFSETTO:+0100
TZNAME:CET
DTSTART:20251026T010000
END:STANDARD
BEGIN:DAYLIGHT
TZOFFSETFROM:+0100
TZOFFSETTO:+0200
TZNAME:CEST
DTSTART:20260329T010000
END:DAYLIGHT
BEGIN:STANDARD
TZOFFSETFROM:+0200
TZOFFSETTO:+0100
TZNAME:CET
DTSTART:20261025T010000
END:STANDARD
END:VTIMEZONE
BEGIN:VEVENT
DTSTART;TZID=Europe/Copenhagen:20250517T100000
DTEND;TZID=Europe/Copenhagen:20250518T180000
DTSTAMP:20260423T220946
CREATED:20250319T110218Z
LAST-MODIFIED:20250511T174108Z
UID:10006294-1747476000-1747591200@www.heptown.com
SUMMARY:Int. LindyHop & Solojazz Workshop in Copenhagen - Sinclair Ang (SIN)
DESCRIPTION:Workshop (2 levels) and an evening LIVE MUSIC party – sign up for workshop and/or the party – https://hepcats.dk/product/sinclair-ws-2025/\nSinclair Ang – professional musician\, choreographer and founder of the JAZZ*INC swing-dance society in Singapore is visiting Copenhagen teaching a weekend workshop with two levels (Intermediate & Experienced)  focussing on 1930’s style Lindy Hop and Solo Jazz. \nThe workshop\nWe will be offering two levels – Intermediate (6+ months of dancing) and Experienced (15+ months of dancing). Each level will have 2 hours of class Saturday and 2 hours of class Sunday. The classes will be split between LindyHop and SoloJazz\, and it will be possible to take both Intermediate and Experienced if you qualify for Experienced level. \nThe LindyHop classes will be taught by Sinclair\, supported by Hanna from Hepcats who has been working with Sinclair several times in the past for local classes in Copenhagen. \nSaturday\n.    10.45-13.00 – Experienced Class\n.    14.00-16.15 – Intermediate Class\n.    19.30 – 24.00 – PARTY feat. Tuxen Lockjaw  (playing 3 sets of LIVE music) \nSunday\n.    10.00-12.15 – Intermediate Class\n.    13.15-15.00 – Experienced Class\n.    15.00-18.00 – Sunday Swing (social dancing event) \nTime and place\n.    Date: 17-18th of May\n.    Type: Weekend Workshop with Evening Party\n.    Time: Workshops at Daytime – Doors open for evening party 19.30.\n.    Main event Locations: Kulturhuset Indre By + Valby Kulturhus\n.    Sign-up & Price:\n.        1 level – DKK 500 incl. party\n.        2 levels – DKK 650 incl. party\n.        Party only – DKK 200\n.    Sign-up link: https://hepcats.dk/product/sinclair-ws-2025/ \nWHO CAN JOIN:\nAll dancers\, students and teachers alike\, with a solid knowledge of Swing Out and Charleston. We expect \nIntermediate Level Requirements\nWe expect at least 6 months of experience from classes along with good social dancing skills for you to join Intermediate \nExperienced Level Requirements\nWe expect 1 year of experience from classes along with good social dancing skills for you to join Experienced. \nPrior dancing or membership at Hepcats is not a requirement.\nWe welcome all Lindy Hoppers as long as you meet the dance experience requirements mentioned.
URL:https://www.heptown.com/calendar/int-lindyhop-solojazz-workshop-sinclair-ang-sin/
LOCATION:Kulturhuset Indre By
CATEGORIES:Copenhagen,HepCats Copenhagen,International Swing Dance Event,Lindy Hop,Öresund,Social Dance
ATTACH;FMTTYPE=image/jpeg:https://www.heptown.com/wp-content/uploads/2025/03/34912_image_480959419_1075770967912650_7268217991665585024_n.jpg
END:VEVENT
END:VCALENDAR