BEGIN:VCALENDAR
VERSION:2.0
PRODID:-//HepTown - ECPv6.15.20//NONSGML v1.0//EN
CALSCALE:GREGORIAN
METHOD:PUBLISH
X-WR-CALNAME:HepTown
X-ORIGINAL-URL:https://www.heptown.com
X-WR-CALDESC:Events for HepTown
REFRESH-INTERVAL;VALUE=DURATION:PT1H
X-Robots-Tag:noindex
X-PUBLISHED-TTL:PT1H
BEGIN:VTIMEZONE
TZID:Europe/Stockholm
BEGIN:DAYLIGHT
TZOFFSETFROM:+0100
TZOFFSETTO:+0200
TZNAME:CEST
DTSTART:20250330T010000
END:DAYLIGHT
BEGIN:STANDARD
TZOFFSETFROM:+0200
TZOFFSETTO:+0100
TZNAME:CET
DTSTART:20251026T010000
END:STANDARD
BEGIN:DAYLIGHT
TZOFFSETFROM:+0100
TZOFFSETTO:+0200
TZNAME:CEST
DTSTART:20260329T010000
END:DAYLIGHT
BEGIN:STANDARD
TZOFFSETFROM:+0200
TZOFFSETTO:+0100
TZNAME:CET
DTSTART:20261025T010000
END:STANDARD
BEGIN:DAYLIGHT
TZOFFSETFROM:+0100
TZOFFSETTO:+0200
TZNAME:CEST
DTSTART:20270328T010000
END:DAYLIGHT
BEGIN:STANDARD
TZOFFSETFROM:+0200
TZOFFSETTO:+0100
TZNAME:CET
DTSTART:20271031T010000
END:STANDARD
END:VTIMEZONE
BEGIN:VEVENT
DTSTART;TZID=Europe/Stockholm:20260316T200000
DTEND;TZID=Europe/Stockholm:20260316T230000
DTSTAMP:20260420T213603
CREATED:20251213T155808Z
LAST-MODIFIED:20260304T094829Z
UID:10006494-1773691200-1773702000@www.heptown.com
SUMMARY:Monday Night Swing @ Smålands Nation | Dinner | Blues Dance | Lindy Hop | Social Dance 16/3
DESCRIPTION:Join us for a special edition of Monday Night Swing at Smålands Nation! We’re moving from Kårhuset for one night to enjoy a more underground and cozy vibe with both swing and blues. Vivien will kick things off with a blues taster class for all levels\, and there will be delicious vegan food served for just 45kr all evening. As always\, come for the social dancing and stay for a great hangout in the bar! \n📅 SCHEDULE 16 March\n20:00 – Doors open\n20:00 – 23:00 – Delicious vegan food available (45kr)\n20:00 – 22:00 – Social dance (Swing)\n20:00 – 22:00 – Blues dance in T-gången\n20:15 – 20:45 – Blues taster class with Vivien\n22:00 – 23:00 – After-party at the bar \n📍 Location: Smålands Nation (Kastanjegatan 7\, Lund).\n🗺️ Map to the venue\n🚌 Getting here: Local buses stop right nearby! Search for “Lund Esplanaden” in the Skånetrafiken app.\n🎟️ Price: 80 SEK drop-in (Swish). For discounts (member/student/youth/unemployed)\, pre-register and pay via the link below. \n👉 Secure your spot and get a discount here (card/Swish/Bankgiro) \n\n💃 BLUES DANCING?\nBlues dancing is a family of dances with African American roots danced to blues music. It can for instance look like this when Philippa and Vivien dance:\n🎥 Philippa and Vivien blues dance\n🔗 More about Blues at Heptown\n👥 Blues in Malmö/Lund Facebook Group \n🕺 LINDY HOP?\nLindy Hop is an African American street swing jazz dance. It evolved from many other dances in the late 1920s and early 1930s in Harlem\, New York. It is a partner dance usually done to swing jazz music and it is one of the most improvisational\, fun and expressive partner dances around.\n🎥 Lindy Hop on YouTube\n🎓 Learn to dance – See our classes
URL:https://www.heptown.com/calendar/monday-night-swing-smalands-nation-dinner-blues-dance-lindy-hop-social-dance-16-3/
LOCATION:Smålands Nation
CATEGORIES:Beginner,Beginners' Weekend,Big event,Blues Dance,HepTown,Lindy Hop,Lund,Monday Night Swing,Öresund,Social Dance,Student Discount / Studentrabatt
ATTACH;FMTTYPE=image/jpeg:https://www.heptown.com/wp-content/uploads/2025/12/36551_image_597853497_1492267262908765_8943427779226873243_n.jpg
END:VEVENT
END:VCALENDAR