BEGIN:VCALENDAR
VERSION:2.0
PRODID:-//HepTown - ECPv6.15.20//NONSGML v1.0//EN
CALSCALE:GREGORIAN
METHOD:PUBLISH
X-WR-CALNAME:HepTown
X-ORIGINAL-URL:https://www.heptown.com
X-WR-CALDESC:Events for HepTown
REFRESH-INTERVAL;VALUE=DURATION:PT1H
X-Robots-Tag:noindex
X-PUBLISHED-TTL:PT1H
BEGIN:VTIMEZONE
TZID:Europe/Stockholm
BEGIN:DAYLIGHT
TZOFFSETFROM:+0100
TZOFFSETTO:+0200
TZNAME:CEST
DTSTART:20250330T010000
END:DAYLIGHT
BEGIN:STANDARD
TZOFFSETFROM:+0200
TZOFFSETTO:+0100
TZNAME:CET
DTSTART:20251026T010000
END:STANDARD
BEGIN:DAYLIGHT
TZOFFSETFROM:+0100
TZOFFSETTO:+0200
TZNAME:CEST
DTSTART:20260329T010000
END:DAYLIGHT
BEGIN:STANDARD
TZOFFSETFROM:+0200
TZOFFSETTO:+0100
TZNAME:CET
DTSTART:20261025T010000
END:STANDARD
BEGIN:DAYLIGHT
TZOFFSETFROM:+0100
TZOFFSETTO:+0200
TZNAME:CEST
DTSTART:20270328T010000
END:DAYLIGHT
BEGIN:STANDARD
TZOFFSETFROM:+0200
TZOFFSETTO:+0100
TZNAME:CET
DTSTART:20271031T010000
END:STANDARD
END:VTIMEZONE
BEGIN:VEVENT
DTSTART;TZID=Europe/Stockholm:20260422T200000
DTEND;TZID=Europe/Stockholm:20260422T223000
DTSTAMP:20260422T034814
CREATED:20260414T081306Z
LAST-MODIFIED:20260414T081306Z
UID:10006554-1776888000-1776897000@www.heptown.com
SUMMARY:Wednesday Night Hop  | Dance party | Lindy Hop\, swing dancing | 22/4
DESCRIPTION:Welcome to Wednesday Night Hop with Cats’ Corner! We promise you a night full of jazz\, swing dancing and good vibes 😻 \n\nDoors open: 20:00\nSocial dancing:20:00-22.30 \nBallroom door fee: 80kr\, 60kr for Cats’ Corner members / students\nMoriska Paviljongen\, Norra Parkgatan 2\, Malmö\nMap: <https://goo.gl/maps/kBpFWfswzEjyKyvb9>\nVolunteer at the front desk: <http://catscorner.se/volunteering/>\n\nVolunteer at the front desk!\nHelp our for 30 minutes to get in for free! This is a great way to socialize and get to know people in our community.\nSign up here: <https://catscorner.se/volunteering/> \nWednesday Night Hop is a our weekly jazz dance party. We love to dance Lindy Hop\, authentic jazz\, Collegiate Shag\, Balboa\, Blues\, and everything that swings\, basically. You are also welcome to just hang out and socialize with our vibrant community. \nCats’ Corner is a non-profit dance organisation from Malmö. We organize Wednesday Night Hop\, swing dance classes\, weekend workshops\, and other types of events.\n<https://www.catscorner.se/> \nWant to take swing dance classes?\nOur friends at HepTown organize a lot of different classes in Lindy Hop and other swing dances. For info\, check here:\n<https://www.heptown.com/classes/> \nMoriska Paviljongen\nMoriska Paviljongen är Malmös största oberoende kultur- och nöjeshus. Moriskan erbjuder Bistro\, Bar\, Kulturprogram och Nattklubb på 4 olika scener i en anrik miljö från 1901. Mer info finns på:\nwww.moriskapaviljongen.se\nwww.facebook.com/moriskapaviljongen\nwww.instagram.com/moriska_paviljongen
URL:https://www.heptown.com/calendar/wednesday-night-hop-dance-party-lindy-hop-swing-dancing-22-4/
LOCATION:Moriska Paviljongen\, Norra Parkgatan 2\, Malmö\, 21422\, SE
CATEGORIES:Cats' Corner,Lindy Hop,Malmö,Öresund,Social Dance,Student Discount / Studentrabatt
ATTACH;FMTTYPE=image/jpeg:https://www.heptown.com/wp-content/uploads/2026/04/37025_image_658354868_1593327209029417_6927093321996610640_n.jpg
END:VEVENT
END:VCALENDAR